From mboxrd@z Thu Jan 1 00:00:00 1970 Return-Path: Received: from mails.dpdk.org (mails.dpdk.org [217.70.189.124]) by inbox.dpdk.org (Postfix) with ESMTP id E60C646F6A for ; Thu, 25 Sep 2025 00:15:17 +0200 (CEST) Received: from mails.dpdk.org (localhost [127.0.0.1]) by mails.dpdk.org (Postfix) with ESMTP id CCEE2402BE; Thu, 25 Sep 2025 00:15:17 +0200 (CEST) Received: from mail-pf1-f225.google.com (mail-pf1-f225.google.com [209.85.210.225]) by mails.dpdk.org (Postfix) with ESMTP id A4FF5402BE for ; Thu, 25 Sep 2025 00:15:16 +0200 (CEST) Received: by mail-pf1-f225.google.com with SMTP id d2e1a72fcca58-77f68fae1a8so477193b3a.1 for ; Wed, 24 Sep 2025 15:15:16 -0700 (PDT) DKIM-Signature: v=1; a=rsa-sha256; c=relaxed/relaxed; d=iol.unh.edu; s=unh-iol; t=1758752116; x=1759356916; darn=dpdk.org; h=references:in-reply-to:cc:to:from:subject:message-id:date:from:to :cc:subject:date:message-id:reply-to; bh=9IpJ/s7Hzv+XnFXsS2nWkT65Goeev7NtsQ92/pzlEX8=; b=QOz7N8IgL8Y0btHZ4BFDn64avTO1W0EdKB9TBheezFe26Fn8kejMMZ1HHsd/hCTw5m QzhwITBBc1g9ktxvEKnylJEGG7b6KEgtPoK7VQF4a08b2OGAdbTGOQMzWk4mu4VmBqxb 4AS1+Ycmy+K/cVf1pgR1NZxiAoppqnJU+orMQ= X-Google-DKIM-Signature: v=1; a=rsa-sha256; c=relaxed/relaxed; d=1e100.net; s=20230601; t=1758752116; x=1759356916; h=references:in-reply-to:cc:to:from:subject:message-id:date :x-gm-message-state:from:to:cc:subject:date:message-id:reply-to; bh=9IpJ/s7Hzv+XnFXsS2nWkT65Goeev7NtsQ92/pzlEX8=; b=iVbO4WooPmtZo73Y38UVpHlYgCXi9VgIgRsQJsPPo5+51lOPCiNGQ6TlwUvULeKPbT Rij9JbhghnQH2WJuubEY5MN3mz2Byx4cjdBw/9dib8ODq1VtJY3gPAoAAoQlkNnXIPcH Wkf1kzigIRxqkJG+/jVlNIiEJbWfQtScaUS3QpH4BqBx94eFbT61IK9A6CzuehBp43sr MZ180ya+00NzFT4ADOh5xXt2tfoX4CADJvYuzvRDs6OYlY/u/sOS8qgGb6MXsfXrk8ZN z2sT7D6rggFyGvkSkRsfiTGUC/D+lJHq/S/X5gwh+uYcp7bdg/1gbwLjz+JIf7q8TCJW hChw== X-Gm-Message-State: AOJu0YxUklYK2xZvKF2CnntnByWrvGWDXblw9jLl2Q+tfkVnicBm9GoW Sf0Glvihu0ITfQ6mCyPiCuzL7qHNuO4ieADU4uNRNOHskZ/mubq8EzhmCUQuUqWGjXAHTA+W0fT rFBZRPD5Mk67uhF1tjobHBvsDEpLszbGhmKFTj5woYE7BWRvP66YauxzAX5BR X-Gm-Gg: ASbGncuzT371a4nskW/AXpraxVCO1YFKsKpkeMyVjR5U75IvlXCB4KeXJmrUT/bh78b FLGlDizQoK+xwxr6TMUeERZrTnm3V0hFQ8uQtbeCpOH7qn9hW/EWzZ1Wr1Rk+LtewIUVIv0CuCb Z2dvyaysuWALpBfUvrOzMUJxo28hyor79jPfmYxfRq/9YmgFDszRlyxKQQy6HITx+sTDqF6YgZC Pozkmh0Nhdr1YULqxE2Gff36F9uDrJZ/3wLuc7oU5SlwDux6yNpuTaWP2VbZkUxADgWQFkWvonS 3BhLw/iaTVWJcUFSIb9vePgXhw1tGWVim0NMCTEB92Xwn/9g3w== X-Google-Smtp-Source: AGHT+IEzJ5n20arTaUJl56wz1irvxcoQ9O05/cD7CdKG8Lo6JM0xaHDL3gPdZCrWFVBhnbJ3A69/x8RGXy5F X-Received: by 2002:aa7:9ec3:0:b0:781:189:ae43 with SMTP id d2e1a72fcca58-7810189b5e7mr230884b3a.20.1758752115658; Wed, 24 Sep 2025 15:15:15 -0700 (PDT) Received: from postal.iol.unh.edu (postal.iol.unh.edu. [2606:4100:3880:1234::84]) by smtp-relay.gmail.com with ESMTPS id d2e1a72fcca58-78102b38c66sm5669b3a.14.2025.09.24.15.15.15 (version=TLS1_2 cipher=ECDHE-ECDSA-AES128-GCM-SHA256 bits=128/128); Wed, 24 Sep 2025 15:15:15 -0700 (PDT) X-Relaying-Domain: iol.unh.edu Date: Wed, 24 Sep 2025 15:15:15 -0700 (PDT) Message-ID: <68d46d73.050a0220.141ca7.0662SMTPIN_ADDED_MISSING@mx.google.com> Received: from [172.21.0.2] (unknown [172.18.0.240]) by postal.iol.unh.edu (Postfix) with ESMTP id EE77E6051830; Wed, 24 Sep 2025 18:15:14 -0400 (EDT) Subject: |SUCCESS| pw156923 [PATCH] net/zxdh: remove unnecessary null free ch From: dpdklab@iol.unh.edu To: Test Report Cc: dpdk-test-reports@iol.unh.edu, Stephen Hemminger In-Reply-To: <20250924202252.472101-1-stephen@networkplumber.org> References: <20250924202252.472101-1-stephen@networkplumber.org> Content-Type: text/plain X-BeenThere: test-report@dpdk.org X-Mailman-Version: 2.1.29 Precedence: list List-Id: automatic DPDK test reports List-Unsubscribe: , List-Archive: List-Post: List-Help: List-Subscribe: , Errors-To: test-report-bounces@dpdk.org Test-Label: iol-compile-amd64-testing Test-Status: SUCCESS http://dpdk.org/patch/156923 _Testing PASS_ Submitter: Stephen Hemminger Date: Wednesday, September 24 2025 20:22:52 DPDK git baseline: Repo:dpdk-next-net Branch: master CommitID:2786b466bcf44f122e10c45da3a9615ffde5ac8b 156923 --> testing pass Upstream job id: Generic-DPDK-Compile-Meson#428326 Test environment and result as below: +-------------------------------+--------------------+-------------------+------------------+-------------------------+-------------------+----------------------+ | Environment | dpdk_meson_compile | dpdk_compile_spdk | dpdk_compile_ovs | dpdk_llvm_clang_compile | dpdk_msvc_compile | dpdk_mingw64_compile | +===============================+====================+===================+==================+=========================+===================+======================+ | CentOS Stream 9 | PASS | PASS | SKIPPED | SKIPPED | SKIPPED | SKIPPED | +-------------------------------+--------------------+-------------------+------------------+-------------------------+-------------------+----------------------+ | CentOS Stream 10 | PASS | SKIPPED | SKIPPED | SKIPPED | SKIPPED | SKIPPED | +-------------------------------+--------------------+-------------------+------------------+-------------------------+-------------------+----------------------+ | Ubuntu 20.04 | PASS | SKIPPED | SKIPPED | SKIPPED | SKIPPED | SKIPPED | +-------------------------------+--------------------+-------------------+------------------+-------------------------+-------------------+----------------------+ | Debian GNU/Linux 12 | PASS | PASS | SKIPPED | SKIPPED | SKIPPED | SKIPPED | +-------------------------------+--------------------+-------------------+------------------+-------------------------+-------------------+----------------------+ | Fedora Linux 42 | PASS | PASS | PASS | SKIPPED | SKIPPED | SKIPPED | +-------------------------------+--------------------+-------------------+------------------+-------------------------+-------------------+----------------------+ | openSUSE Leap 15.6 | PASS | SKIPPED | SKIPPED | SKIPPED | SKIPPED | SKIPPED | +-------------------------------+--------------------+-------------------+------------------+-------------------------+-------------------+----------------------+ | Red Hat Enterprise Linux 8.10 | PASS | SKIPPED | SKIPPED | SKIPPED | SKIPPED | SKIPPED | +-------------------------------+--------------------+-------------------+------------------+-------------------------+-------------------+----------------------+ | FreeBSD 14.2 | PASS | SKIPPED | SKIPPED | SKIPPED | SKIPPED | SKIPPED | +-------------------------------+--------------------+-------------------+------------------+-------------------------+-------------------+----------------------+ | Red Hat Enterprise Linux 9.5 | PASS | SKIPPED | SKIPPED | SKIPPED | SKIPPED | SKIPPED | +-------------------------------+--------------------+-------------------+------------------+-------------------------+-------------------+----------------------+ | Ubuntu 22.04 | PASS | PASS | SKIPPED | SKIPPED | SKIPPED | SKIPPED | +-------------------------------+--------------------+-------------------+------------------+-------------------------+-------------------+----------------------+ | Ubuntu 24.04 | PASS | PASS | PASS | SKIPPED | SKIPPED | SKIPPED | +-------------------------------+--------------------+-------------------+------------------+-------------------------+-------------------+----------------------+ | Alpine Linux 3.22.0 | PASS | SKIPPED | SKIPPED | SKIPPED | SKIPPED | SKIPPED | +-------------------------------+--------------------+-------------------+------------------+-------------------------+-------------------+----------------------+ | Windows Server 2022 | SKIPPED | SKIPPED | SKIPPED | PASS | PASS | PASS | +-------------------------------+--------------------+-------------------+------------------+-------------------------+-------------------+----------------------+ CentOS Stream 9 Kernel: 5.15 Compiler: gcc gcc (GCC) 11.5.0 20240719 (Red Hat 11.5.0-11) CentOS Stream 10 Kernel: 5.15 Compiler: gcc gcc (GCC) 14.2.1 20250110 (Red Hat 14.2.1-8) Ubuntu 20.04 Kernel: 4.19 Compiler: gcc gcc (Ubuntu 9.4.0-1ubuntu1~20.04.2) 9.4.0 Debian GNU/Linux 12 Kernel: 5.15 Compiler: gcc gcc (Debian 12.2.0-14+deb12u1) 12.2.0 Fedora Linux 42 Kernel: 5.15 Compiler: clang gcc (GCC) 15.2.1 20250808 (Red Hat 15.2.1-1) openSUSE Leap 15.6 Kernel: 5.15 Compiler: gcc gcc (SUSE Linux) 7.5.0 Red Hat Enterprise Linux 8.10 Kernel: 5.15 Compiler: gcc gcc (GCC) 8.5.0 20210514 (Red Hat 8.5.0-22) FreeBSD 14.2 Kernel: 14.2-RELEASE Compiler: clang 18.1.6 Red Hat Enterprise Linux 9.5 Kernel: 5.15 Compiler: gcc gcc (GCC) 11.5.0 20240719 (Red Hat 11.5.0-2) Ubuntu 22.04 Kernel: 5.15 Compiler: gcc gcc (Ubuntu 11.4.0-1ubuntu1~22.04) 11.4.0 Ubuntu 24.04 Kernel: 5.15 Compiler: gcc gcc (Ubuntu 13.3.0-6ubuntu2~24.04) 13.3.0 Alpine Linux 3.22.0 Kernel: 5.15 Compiler: gcc gcc (Alpine 14.2.0) 14.2.0 Windows Server 2022 Kernel: 10.0.20348.2031 Compiler: clang 15.0.7, gcc 14.1.0 (MinGW), and MSVC VS 19.39.33521 To view detailed results, visit: https://lab.dpdk.org/results/dashboard/patchsets/34143/ UNH-IOL DPDK Community Lab To manage your email subscriptions, visit: https://lab.dpdk.org/results/dashboard/preferences/subscriptions/