From mboxrd@z Thu Jan 1 00:00:00 1970 Return-Path: Received: from mails.dpdk.org (mails.dpdk.org [217.70.189.124]) by inbox.dpdk.org (Postfix) with ESMTP id 6FB2B46F6A for ; Thu, 25 Sep 2025 00:19:33 +0200 (CEST) Received: from mails.dpdk.org (localhost [127.0.0.1]) by mails.dpdk.org (Postfix) with ESMTP id 427E5402BE; Thu, 25 Sep 2025 00:19:33 +0200 (CEST) Received: from mail-io1-f97.google.com (mail-io1-f97.google.com [209.85.166.97]) by mails.dpdk.org (Postfix) with ESMTP id 64ADD402BE for ; Thu, 25 Sep 2025 00:19:32 +0200 (CEST) Received: by mail-io1-f97.google.com with SMTP id ca18e2360f4ac-8ca2e53c0d3so20442839f.1 for ; Wed, 24 Sep 2025 15:19:32 -0700 (PDT) DKIM-Signature: v=1; a=rsa-sha256; c=relaxed/relaxed; d=iol.unh.edu; s=unh-iol; t=1758752371; x=1759357171; darn=dpdk.org; h=references:in-reply-to:cc:to:from:subject:message-id:date:from:to :cc:subject:date:message-id:reply-to; bh=eZ9vMq/N0fmprGsi/eqMVnjMiPmnOrChfXeKWWAKv/M=; b=JPxw8xHimr868KREIgdb328/iLaA3M8EDqnyxX3pG2PLZM5ySK22vbGave/NGsVGmn ofz6AOE2Yx7R/+M6qGlOjv2Ss6IB063vcvoQD4xqvertiw3WSVtYKuoNNLePX+/0oaN1 t1BL8QntO+zc1qXzP+sLaiwNSxKe1w+uvlZnA= X-Google-DKIM-Signature: v=1; a=rsa-sha256; c=relaxed/relaxed; d=1e100.net; s=20230601; t=1758752371; x=1759357171; h=references:in-reply-to:cc:to:from:subject:message-id:date :x-gm-message-state:from:to:cc:subject:date:message-id:reply-to; bh=eZ9vMq/N0fmprGsi/eqMVnjMiPmnOrChfXeKWWAKv/M=; b=fCk/UCl8casHkCinjedMigeF+mk940Ug4FO/dwknf9JtAEnwQG8Xflx47fH0bq5ynZ npvAyo3H3tQ0HT9DHWNyPZWr3SB2ZRyK3fVnD8tleIzaXe9zZSuQ0TcOZuS4EzptCLn2 DVKrpfl32glIqibYnXob8F/OsS7HCkdtxAr2hYhBsIpNDYZvheSeqHnJsg/m73JN8JNr hgp6ufXcEDy/OWIairEccDaYugn2O97q4UjmBqPclgebAEEg/RaJpQXOAPMkjZA+UMyU pSmCpOBf2EYWgEQwUZr301WR/u61u8/uS8CnZMEOIM7GW/giJXzUFkeeYHvaBZ6/2hHQ 1vRw== X-Gm-Message-State: AOJu0YzWq+NnWH4cxnQDu7EcjWJFMk96o1Ou5WFn7QYJ19/JSR25y2nH qgsa1FrGv1vuZC5zuCtOOMUYtc16+1ZUAbWr2+801RHIB15WUSd9RQjn/Wk7KuHPSt6t6pr0jkJ f04Fn1XOxRsrd1S4A1DV2UlM5w851uTbKAvLGptgukWAeKsPlyWD9Ahe0LMca X-Gm-Gg: ASbGncvK0wAHOscNLPrHd2lacNtIdXINu9rlaKM0Ny1b/qSFmky2IhFx3TaajbhmDVH LOT+dDC+kBpoSGoY7wvi2UvrZPd+FUQQtjEXM8qYPU9XhMV0sZ/zDeIRc+xB9VfNxBJSexZaXVi FmUjVti11opRvzdxelZfGHN7k4lBFgU6U5tn4l+SPoWIfdGX7oUDFVk/YtDM/bcNHTfNpTeuuN4 jrcEn3Punzls9h3BWPt+k5tNJONHZGmc+D6UeyjdAsWrH9kA7hzBqXfBYvuVTO6YYD4NmkSF0Sd NCp5eIBTyxsHH/QI9tGKwQYAIoSEBCOsYZLiTRF7vssWRUzFVQ== X-Google-Smtp-Source: AGHT+IFsipff/W7srF5vAqeicOAwZi0Q2bs/wzKXdtVQKpU3lIQYRGXVhV7CXSjD8Cgu5nQg6gtBL0dN/RBR X-Received: by 2002:a92:c26c:0:b0:425:7466:624d with SMTP id e9e14a558f8ab-42595654e5cmr19463175ab.26.1758752371388; Wed, 24 Sep 2025 15:19:31 -0700 (PDT) Received: from postal.iol.unh.edu (postal.iol.unh.edu. [2606:4100:3880:1234::84]) by smtp-relay.gmail.com with ESMTPS id 8926c6da1cb9f-56a64bb9f30sm27529173.13.2025.09.24.15.19.31 (version=TLS1_2 cipher=ECDHE-ECDSA-AES128-GCM-SHA256 bits=128/128); Wed, 24 Sep 2025 15:19:31 -0700 (PDT) X-Relaying-Domain: iol.unh.edu Date: Wed, 24 Sep 2025 15:19:31 -0700 (PDT) Message-ID: <68d46e73.050a0220.10d807.1a3cSMTPIN_ADDED_MISSING@mx.google.com> Received: from [172.21.0.2] (unknown [172.18.0.240]) by postal.iol.unh.edu (Postfix) with ESMTP id DDD4C6051830; Wed, 24 Sep 2025 18:19:30 -0400 (EDT) Subject: |SUCCESS| pw156903 [PATCH] hash: fix build error due to missing incl From: dpdklab@iol.unh.edu To: Test Report Cc: dpdk-test-reports@iol.unh.edu In-Reply-To: <20250924154821.927083-1-bruce.richardson@intel.com> References: <20250924154821.927083-1-bruce.richardson@intel.com> Content-Type: text/plain X-BeenThere: test-report@dpdk.org X-Mailman-Version: 2.1.29 Precedence: list List-Id: automatic DPDK test reports List-Unsubscribe: , List-Archive: List-Post: List-Help: List-Subscribe: , Errors-To: test-report-bounces@dpdk.org Test-Label: iol-unit-arm64-testing Test-Status: SUCCESS http://dpdk.org/patch/156903 _Testing PASS_ Submitter: Bruce Richardson Date: Wednesday, September 24 2025 15:48:21 DPDK git baseline: Repo:dpdk Branch: master CommitID:d8f0f514428ef3c07c9b75f590d75a6addd970f2 156903 --> testing pass Upstream job id: Generic-Unit-Test-DPDK#374527 Test environment and result as below: +------------------------------+----------------+---------------------------+--------------+------------------------------+ | Environment | dpdk_unit_test | cryptodev_sw_zuc_autotest | lpm_autotest | cryptodev_sw_snow3g_autotest | +==============================+================+===========================+==============+==============================+ | Red Hat Enterprise Linux 9.5 | PASS | SKIPPED | SKIPPED | SKIPPED | +------------------------------+----------------+---------------------------+--------------+------------------------------+ | Fedora Linux 40 | PASS | SKIPPED | SKIPPED | SKIPPED | +------------------------------+----------------+---------------------------+--------------+------------------------------+ | Debian GNU/Linux 12 | PASS | SKIPPED | SKIPPED | SKIPPED | +------------------------------+----------------+---------------------------+--------------+------------------------------+ | Fedora Linux 42 | PASS | SKIPPED | SKIPPED | SKIPPED | +------------------------------+----------------+---------------------------+--------------+------------------------------+ | Fedora Linux 41 | PASS | SKIPPED | SKIPPED | SKIPPED | +------------------------------+----------------+---------------------------+--------------+------------------------------+ | Ubuntu 22.04 | PASS | SKIPPED | SKIPPED | SKIPPED | +------------------------------+----------------+---------------------------+--------------+------------------------------+ | Ubuntu 24.04 | PASS | SKIPPED | SKIPPED | SKIPPED | +------------------------------+----------------+---------------------------+--------------+------------------------------+ | Ubuntu 20.04 | PASS | SKIPPED | PASS | SKIPPED | +------------------------------+----------------+---------------------------+--------------+------------------------------+ | CentOS Stream 10 | PASS | SKIPPED | SKIPPED | SKIPPED | +------------------------------+----------------+---------------------------+--------------+------------------------------+ | CentOS Stream 9 | PASS | SKIPPED | SKIPPED | SKIPPED | +------------------------------+----------------+---------------------------+--------------+------------------------------+ | Debian 12 (arm) | SKIPPED | PASS | SKIPPED | PASS | +------------------------------+----------------+---------------------------+--------------+------------------------------+ Red Hat Enterprise Linux 9.5 Kernel: 5.4 Compiler: gcc gcc (GCC) 11.5.0 20240719 (Red Hat 11.5.0-2) Fedora Linux 40 Kernel: 5.4 Compiler: clang gcc (GCC) 14.2.1 20240912 (Red Hat 14.2.1-3) Debian GNU/Linux 12 Kernel: 5.4 Compiler: gcc gcc (Debian 12.2.0-14+deb12u1) 12.2.0 Fedora Linux 42 Kernel: 5.4 Compiler: clang gcc (GCC) 15.2.1 20250808 (Red Hat 15.2.1-1) Fedora Linux 41 Kernel: 5.4 Compiler: gcc gcc (GCC) 14.3.1 20250523 (Red Hat 14.3.1-1) Ubuntu 22.04 Kernel: 5.15 Compiler: gcc gcc (Ubuntu 11.4.0-1ubuntu1~22.04.2) 11.4.0 Ubuntu 24.04 Kernel: 5.4 Compiler: gcc gcc (Ubuntu 13.3.0-6ubuntu2~24.04) 13.3.0 Ubuntu 20.04 Kernel: 5.4 Compiler: gcc gcc (Ubuntu 9.4.0-1ubuntu1~20.04.2) 9.4.0 CentOS Stream 10 Kernel: 5.4 Compiler: gcc gcc (GCC) 14.2.1 20250110 (Red Hat 14.2.1-8) CentOS Stream 9 Kernel: 5.4 Compiler: gcc gcc (GCC) 11.5.0 20240719 (Red Hat 11.5.0-11) Debian 12 (arm) Kernel: Depends on container host Compiler: gcc (Debian 12.2.0-14) 12.2.0 To view detailed results, visit: https://lab.dpdk.org/results/dashboard/patchsets/34137/ UNH-IOL DPDK Community Lab To manage your email subscriptions, visit: https://lab.dpdk.org/results/dashboard/preferences/subscriptions/