From mboxrd@z Thu Jan 1 00:00:00 1970 Return-Path: Received: from mails.dpdk.org (mails.dpdk.org [217.70.189.124]) by inbox.dpdk.org (Postfix) with ESMTP id 1681F46F6A for ; Thu, 25 Sep 2025 00:50:35 +0200 (CEST) Received: from mails.dpdk.org (localhost [127.0.0.1]) by mails.dpdk.org (Postfix) with ESMTP id EDFEB402BE; Thu, 25 Sep 2025 00:50:34 +0200 (CEST) Received: from mail-il1-f225.google.com (mail-il1-f225.google.com [209.85.166.225]) by mails.dpdk.org (Postfix) with ESMTP id 3676F402BE for ; Thu, 25 Sep 2025 00:50:34 +0200 (CEST) Received: by mail-il1-f225.google.com with SMTP id e9e14a558f8ab-425911e5661so1415415ab.1 for ; Wed, 24 Sep 2025 15:50:34 -0700 (PDT) DKIM-Signature: v=1; a=rsa-sha256; c=relaxed/relaxed; d=iol.unh.edu; s=unh-iol; t=1758754233; x=1759359033; darn=dpdk.org; h=references:in-reply-to:cc:to:from:subject:message-id:date:from:to :cc:subject:date:message-id:reply-to; bh=Z7poCI3MOM16dLLMXFx+fbm0fgubAeAI1kWHd5SBTag=; b=Nc3LDho3b88wQGya8CdzrSJOhkuRylz5D7PEC8yBGOWRIHEzpTliq+FSAShv8AYBTU yc9d2BpiGq4a0Mio/f9P+igrlsS1pD7atkQ4eGDRxxsArWUZ8RXtPC43OtZs7v3YS4sI juxjraM/qL+Xbz0ozRt0Z/sJUJDpj3jxxCY2Y= X-Google-DKIM-Signature: v=1; a=rsa-sha256; c=relaxed/relaxed; d=1e100.net; s=20230601; t=1758754233; x=1759359033; h=references:in-reply-to:cc:to:from:subject:message-id:date :x-gm-message-state:from:to:cc:subject:date:message-id:reply-to; bh=Z7poCI3MOM16dLLMXFx+fbm0fgubAeAI1kWHd5SBTag=; b=c2n0QPkf8nnZRQrOgyYqpS0/BHs/Ad7Lj0rNXPAz6imEBdxhe7eqghhVjK7ka0NwRt uzZfKYbjOvCUaG7UKWWBMPpzjmB0HBgF0ri7GNVvvNXIYipb1tqQE8wHAtE3PPDohVci oyObtuo2L+zeWuqWBOWeYA3XkJsEqipYRZIfwZ+DozZe0Bt52nP/mEUcu+kh2h2Gkew6 t/rQCRAWLHiEli1rruu5zh4bye569Cvge/GZdKiq9eMrakxPA/M7m1j3uuzWDqPZ5s+9 Sy2HMqjDTOy8cDTONIEChFP+Ig1dhCUPa5DwXpVbDuNaaLIaFAd8b1LML5serNk77Upr lkXg== X-Gm-Message-State: AOJu0Yyb1eTmfsI4kfrB0jOhHy//csFnx7efa4PgsKcvoUpIx8jmrwbo 05DVFAAd5/xdxBh7sgJZ6BAUaerLCSN+DH5zC+Nqsmttdu92Y0FAsx6AARoY5jxDtRdT1aeLif6 sCc5f7GQeWCAULKaK2nL86efy7g6flr/56YnyNQQUM8y4i/TP5QFtSaAbd3kw X-Gm-Gg: ASbGncstqUeZagY8gX3DJGMEfT5seqaO0DdQAP5yYd/0jjQW5upF3pevFzxOXUFTtz6 Fy/bS1RM9UUX/5MvCUnhxUtJLsps6Y86VRb9wXnCJ0xgA9FWw6UDpg3wqoKto09rhwENuybEHJl uHic3EKHzW7v+m0JID4XZPPONsBDrc7VbmWzScoWM8Qw63RafeZ7j5UOX6+j5qQFZsMXFpaWHT7 bmMDTYyzwawoz3l6Gd+2WHpQptRIW1g5W1/yjgzrW2JjUYalo9hpT1bM2lJizvZwyvJsoY2NX6h A4Mp2D5jHEeq+OunWoFNGQalNRc/TgXX1LKKbH7Fq+vPd0W39Q== X-Google-Smtp-Source: AGHT+IGH0ckcixKEYvs8X1dTxFSOFI38QN+LgfGHU8vKY4YtBZV5wijB+ifJEKI7RY5LX7b3IC/Q3RdvsDFS X-Received: by 2002:a05:6e02:4419:20b0:407:dc0b:7ba2 with SMTP id e9e14a558f8ab-425955d011bmr20235695ab.3.1758754233420; Wed, 24 Sep 2025 15:50:33 -0700 (PDT) Received: from postal.iol.unh.edu (postal.iol.unh.edu. [2606:4100:3880:1234::84]) by smtp-relay.gmail.com with ESMTPS id e9e14a558f8ab-425bf6d50fcsm272285ab.21.2025.09.24.15.50.33 (version=TLS1_2 cipher=ECDHE-ECDSA-AES128-GCM-SHA256 bits=128/128); Wed, 24 Sep 2025 15:50:33 -0700 (PDT) X-Relaying-Domain: iol.unh.edu Date: Wed, 24 Sep 2025 15:50:33 -0700 (PDT) Message-ID: <68d475b9.050a0220.32eb01.19c0SMTPIN_ADDED_MISSING@mx.google.com> Received: from [172.21.0.2] (unknown [172.18.0.240]) by postal.iol.unh.edu (Postfix) with ESMTP id E88BF6051830; Wed, 24 Sep 2025 18:50:32 -0400 (EDT) Subject: |SUCCESS| pw156901-156902 [PATCH] [v3,2/2] member: hide internal mac From: dpdklab@iol.unh.edu To: Test Report Cc: dpdk-test-reports@iol.unh.edu In-Reply-To: <20250924154641.2684705-3-thomas@monjalon.net> References: <20250924154641.2684705-3-thomas@monjalon.net> Content-Type: text/plain X-BeenThere: test-report@dpdk.org X-Mailman-Version: 2.1.29 Precedence: list List-Id: automatic DPDK test reports List-Unsubscribe: , List-Archive: List-Post: List-Help: List-Subscribe: , Errors-To: test-report-bounces@dpdk.org Test-Label: iol-compile-arm64-testing Test-Status: SUCCESS http://dpdk.org/patch/156902 _Testing PASS_ Submitter: Thomas Monjalon Date: Wednesday, September 24 2025 15:43:18 DPDK git baseline: Repo:dpdk Branch: master CommitID:d8f0f514428ef3c07c9b75f590d75a6addd970f2 156901-156902 --> testing pass Upstream job id: Generic-DPDK-Compile-Meson#428184 Test environment and result as below: +------------------------------+--------------------+ | Environment | dpdk_meson_compile | +==============================+====================+ | Red Hat Enterprise Linux 9.5 | PASS | +------------------------------+--------------------+ | Ubuntu 20.04 | PASS | +------------------------------+--------------------+ | Debian GNU/Linux 12 | PASS | +------------------------------+--------------------+ | Fedora Linux 42 | PASS | +------------------------------+--------------------+ | Ubuntu 22.04 | PASS | +------------------------------+--------------------+ | Ubuntu 24.04 | PASS | +------------------------------+--------------------+ | CentOS Stream 10 | PASS | +------------------------------+--------------------+ | CentOS Stream 9 | PASS | +------------------------------+--------------------+ Red Hat Enterprise Linux 9.5 Kernel: 5.4 Compiler: gcc gcc (GCC) 11.5.0 20240719 (Red Hat 11.5.0-2) Ubuntu 20.04 Kernel: 5.15 Compiler: aarch64-linux-gnu-gcc gcc (Ubuntu 9.4.0-1ubuntu1~20.04.2) 9.4.0 Debian GNU/Linux 12 Kernel: 5.4 Compiler: gcc gcc (Debian 12.2.0-14+deb12u1) 12.2.0 Fedora Linux 42 Kernel: 5.4 Compiler: clang gcc (GCC) 15.2.1 20250808 (Red Hat 15.2.1-1) Ubuntu 22.04 Kernel: 5.4 Compiler: gcc gcc (Ubuntu 11.4.0-1ubuntu1~22.04) 11.4.0 Ubuntu 24.04 Kernel: 5.4 Compiler: gcc gcc (Ubuntu 13.3.0-6ubuntu2~24.04) 13.3.0 CentOS Stream 10 Kernel: 5.4 Compiler: gcc gcc (GCC) 14.2.1 20250110 (Red Hat 14.2.1-8) CentOS Stream 9 Kernel: 5.4 Compiler: gcc gcc (GCC) 11.5.0 20240719 (Red Hat 11.5.0-11) To view detailed results, visit: https://lab.dpdk.org/results/dashboard/patchsets/34138/ UNH-IOL DPDK Community Lab To manage your email subscriptions, visit: https://lab.dpdk.org/results/dashboard/preferences/subscriptions/