From mboxrd@z Thu Jan 1 00:00:00 1970 Return-Path: Received: from mails.dpdk.org (mails.dpdk.org [217.70.189.124]) by inbox.dpdk.org (Postfix) with ESMTP id 7F6A546F6A for ; Thu, 25 Sep 2025 00:54:47 +0200 (CEST) Received: from mails.dpdk.org (localhost [127.0.0.1]) by mails.dpdk.org (Postfix) with ESMTP id 5DEEC402BE; Thu, 25 Sep 2025 00:54:47 +0200 (CEST) Received: from mail-ot1-f98.google.com (mail-ot1-f98.google.com [209.85.210.98]) by mails.dpdk.org (Postfix) with ESMTP id DB9FC402BE for ; Thu, 25 Sep 2025 00:54:45 +0200 (CEST) Received: by mail-ot1-f98.google.com with SMTP id 46e09a7af769-7945ba93827so146983a34.1 for ; Wed, 24 Sep 2025 15:54:45 -0700 (PDT) DKIM-Signature: v=1; a=rsa-sha256; c=relaxed/relaxed; d=iol.unh.edu; s=unh-iol; t=1758754485; x=1759359285; darn=dpdk.org; h=references:in-reply-to:cc:to:from:subject:message-id:date:from:to :cc:subject:date:message-id:reply-to; bh=zvS+yGYDe6MMqJLzMagmYNKq+ZPYCXhUPwc+Om5Ye3w=; b=XWHuQRk1Z/yY/3Bk842exq5vKkSdlw2tMwBfcz17epuIk4tBhhn3zU8cKIJF+gG2oh TRAMMROwa9pF15sblplMHPxyxg5lLKG1wTbrpoS6FDGeY+IuHUENJLpezgm0Vq3RTtwd xTaMZWMlg35YpTqPtgwB/b6hysnPyxQft+76k= X-Google-DKIM-Signature: v=1; a=rsa-sha256; c=relaxed/relaxed; d=1e100.net; s=20230601; t=1758754485; x=1759359285; h=references:in-reply-to:cc:to:from:subject:message-id:date :x-gm-message-state:from:to:cc:subject:date:message-id:reply-to; bh=zvS+yGYDe6MMqJLzMagmYNKq+ZPYCXhUPwc+Om5Ye3w=; b=beicA07sdTNpetrEoKQjRuz2AuA7kOsLnkrSoVUxbPkcgJ5Z05JaMYAJ8i3pY7OUTM A5RuelTTk6C/EuiMmYoLZduFhDkZTvfXyU4gZoNjIuH/80VlamAUsxtF6ZE50Kt/evPM 49pSA+Tw6A7hA1YKlU4tg3rwoXfnrWYNQypAQZiLT2wm+9lQlV2ik5ALpWNXrN557Pof IYs0BbmdChLUDJLL/PNNUAze9bx2dnxRghnpv8a16z+iQ/s5YYmYGZSR80A05u1I7f0y MI8jnxGlWyUsF5gzKW1GJ84/A5b8RFCM4JdmiYGt7SCYfWCUyvllwuvVOf7x5j756NAd jpCg== X-Gm-Message-State: AOJu0YzSlB8gjHHOSJ6o1HYOZILLGAGdP/1fnLhi57ayrFFF+7UhG7YH eAs+ObpznWf67V2CwwD/wc+Nuyp4HXThYGG0XrIZesbIHBuqXGyf4j74d1YOfZ+Gpc0tZibUIkT bWYEHSM0kHlfNyFl7qNnoESYNH+f9PUV/FXNIr35rYAanylkvHKcfkZ7UEY2O X-Gm-Gg: ASbGncuPltkFR2HYHnUIBf5LsuELxYvHWa4xrer1Acw2Qy3yS6zcfu6px1F6VplczGR zIFLYLhlFUlDsrJLpuKr9MOvHlFe1DT6YvmbQ/efASb/E+SHzAm3M82tW0SaHXeiVs504piHJbG //xhDckg7lLEyqdISehViA8nFo+BGSc7Wld9ndgJA5u/0JHshynla4YBX6DIbbbZXZjhdFrsUzf qRTs0j9z+VTFDi3UlWC/famrRU/QRUMPjx75O994ftD2MIqAmT0aPvAkH2paHRo8e0cfRo1UAOO ZVRUOaD+eEA6Ea+JEu7E5l6J/pCvJFLg5bTjgszqB2H0BLPtxg== X-Google-Smtp-Source: AGHT+IF9Q8smsKLDjUuBJk9SwDYl9oKnSnEcKtmHkQsVY8pWstVV8vVNyUTB1h4us8gdzaAKhAsixRNZdIcP X-Received: by 2002:a05:6830:6108:b0:746:3226:c68f with SMTP id 46e09a7af769-7a03ba2942cmr1009823a34.4.1758754485072; Wed, 24 Sep 2025 15:54:45 -0700 (PDT) Received: from postal.iol.unh.edu (postal.iol.unh.edu. [2606:4100:3880:1234::84]) by smtp-relay.gmail.com with ESMTPS id 46e09a7af769-7a2379ff541sm14369a34.3.2025.09.24.15.54.44 (version=TLS1_2 cipher=ECDHE-ECDSA-AES128-GCM-SHA256 bits=128/128); Wed, 24 Sep 2025 15:54:45 -0700 (PDT) X-Relaying-Domain: iol.unh.edu Date: Wed, 24 Sep 2025 15:54:45 -0700 (PDT) Message-ID: <68d476b5.050a0220.f5a32.0ee6SMTPIN_ADDED_MISSING@mx.google.com> Received: from [172.21.0.2] (unknown [172.18.0.240]) by postal.iol.unh.edu (Postfix) with ESMTP id 91DBD6051830; Wed, 24 Sep 2025 18:54:44 -0400 (EDT) Subject: |SUCCESS| pw156923 [PATCH] net/zxdh: remove unnecessary null free ch From: dpdklab@iol.unh.edu To: Test Report Cc: dpdk-test-reports@iol.unh.edu, Stephen Hemminger In-Reply-To: <20250924202252.472101-1-stephen@networkplumber.org> References: <20250924202252.472101-1-stephen@networkplumber.org> Content-Type: text/plain X-BeenThere: test-report@dpdk.org X-Mailman-Version: 2.1.29 Precedence: list List-Id: automatic DPDK test reports List-Unsubscribe: , List-Archive: List-Post: List-Help: List-Subscribe: , Errors-To: test-report-bounces@dpdk.org Test-Label: iol-unit-amd64-testing Test-Status: SUCCESS http://dpdk.org/patch/156923 _Testing PASS_ Submitter: Stephen Hemminger Date: Wednesday, September 24 2025 20:22:52 DPDK git baseline: Repo:dpdk-next-net Branch: master CommitID:2786b466bcf44f122e10c45da3a9615ffde5ac8b 156923 --> testing pass Upstream job id: Generic-Unit-Test-DPDK#374722 Test environment and result as below: +-------------------------------+----------------+ | Environment | dpdk_unit_test | +===============================+================+ | CentOS Stream 9 | PASS | +-------------------------------+----------------+ | CentOS Stream 10 | PASS | +-------------------------------+----------------+ | Fedora Linux 40 | PASS | +-------------------------------+----------------+ | Debian GNU/Linux 12 | PASS | +-------------------------------+----------------+ | Fedora Linux 41 | PASS | +-------------------------------+----------------+ | Fedora Linux 42 | PASS | +-------------------------------+----------------+ | Red Hat Enterprise Linux 8.10 | PASS | +-------------------------------+----------------+ | Ubuntu 22.04 | PASS | +-------------------------------+----------------+ | Red Hat Enterprise Linux 9.5 | PASS | +-------------------------------+----------------+ | Ubuntu 24.04 | PASS | +-------------------------------+----------------+ | Ubuntu 20.04 | PASS | +-------------------------------+----------------+ | Windows Server 2022 | PASS | +-------------------------------+----------------+ CentOS Stream 9 Kernel: 5.15 Compiler: gcc gcc (GCC) 11.5.0 20240719 (Red Hat 11.5.0-11) CentOS Stream 10 Kernel: 5.15 Compiler: gcc gcc (GCC) 14.2.1 20250110 (Red Hat 14.2.1-8) Fedora Linux 40 Kernel: 5.15 Compiler: gcc gcc (GCC) 14.2.1 20240912 (Red Hat 14.2.1-3) Debian GNU/Linux 12 Kernel: 5.15 Compiler: gcc gcc (Debian 12.2.0-14+deb12u1) 12.2.0 Fedora Linux 41 Kernel: 5.15 Compiler: gcc gcc (GCC) 14.3.1 20250523 (Red Hat 14.3.1-1) Fedora Linux 42 Kernel: 5.15 Compiler: gcc gcc (GCC) 15.2.1 20250808 (Red Hat 15.2.1-1) Red Hat Enterprise Linux 8.10 Kernel: 5.15 Compiler: gcc gcc (GCC) 8.5.0 20210514 (Red Hat 8.5.0-22) Ubuntu 22.04 Kernel: 5.15 Compiler: gcc gcc (Ubuntu 11.4.0-1ubuntu1~22.04) 11.4.0 Red Hat Enterprise Linux 9.5 Kernel: 5.15 Compiler: gcc gcc (GCC) 11.5.0 20240719 (Red Hat 11.5.0-2) Ubuntu 24.04 Kernel: 5.15 Compiler: gcc gcc (Ubuntu 13.3.0-6ubuntu2~24.04) 13.3.0 Ubuntu 20.04 Kernel: 5.15 Compiler: gcc gcc (Ubuntu 9.4.0-1ubuntu1~20.04.2) 9.4.0 Windows Server 2022 Kernel: 10.0.20348.2031 Compiler: clang 15.0.7, gcc 14.1.0 (MinGW), and MSVC VS 19.39.33521 To view detailed results, visit: https://lab.dpdk.org/results/dashboard/patchsets/34143/ UNH-IOL DPDK Community Lab To manage your email subscriptions, visit: https://lab.dpdk.org/results/dashboard/preferences/subscriptions/