From mboxrd@z Thu Jan 1 00:00:00 1970 Return-Path: Received: from mails.dpdk.org (mails.dpdk.org [217.70.189.124]) by inbox.dpdk.org (Postfix) with ESMTP id 5402546F6A for ; Thu, 25 Sep 2025 01:57:13 +0200 (CEST) Received: from mails.dpdk.org (localhost [127.0.0.1]) by mails.dpdk.org (Postfix) with ESMTP id 25B3240151; Thu, 25 Sep 2025 01:57:13 +0200 (CEST) Received: from mail-pl1-f226.google.com (mail-pl1-f226.google.com [209.85.214.226]) by mails.dpdk.org (Postfix) with ESMTP id EFE1140151 for ; Thu, 25 Sep 2025 01:57:11 +0200 (CEST) Received: by mail-pl1-f226.google.com with SMTP id d9443c01a7336-25669596921so4400005ad.1 for ; Wed, 24 Sep 2025 16:57:11 -0700 (PDT) DKIM-Signature: v=1; a=rsa-sha256; c=relaxed/relaxed; d=iol.unh.edu; s=unh-iol; t=1758758231; x=1759363031; darn=dpdk.org; h=references:in-reply-to:cc:to:from:subject:message-id:date:from:to :cc:subject:date:message-id:reply-to; bh=taKVpMuQnJxeBlhK+1IoC0mVum2gWngt7ZygGnHmxSI=; b=YcvntOddK7j4KoN7J+dKvA9ZY/phc6JJmPLhvS2IGOfTMRcPGuqCrrlQyo2PBgSPLW 8tGA7i/iAOJoiGGHtZHHle7Us44ocQX+V7okDj+cOyJtY8RkiuuIwqzazcKvrsmSzgH5 h56OuJroBQt3IGKTGQEgEKwpQ097P1TAQm2ps= X-Google-DKIM-Signature: v=1; a=rsa-sha256; c=relaxed/relaxed; d=1e100.net; s=20230601; t=1758758231; x=1759363031; h=references:in-reply-to:cc:to:from:subject:message-id:date :x-gm-message-state:from:to:cc:subject:date:message-id:reply-to; bh=taKVpMuQnJxeBlhK+1IoC0mVum2gWngt7ZygGnHmxSI=; b=cKqRcE907jOH3ciLNUYQSI2w0zladhelnVesVqqoq4COAMDCfu4ULzOs1NTkyf+oCx o4weStw/zeL83TyG+CO1NX2UdEs4diZP5GYzoFAFTYi2lFHR11lpdLfuEZxYB23sZ85x 58l/DiD8MSFsmaN8JjoZ/YZYMVZo2dvE7M/IrnZ79g1wrS33jteiDTVNR+axqpbJu65K wKJm8EEZJQabxGSWPKeAKEj/SXpSCfPDXRKSYpXrLINEl/ZTwGsDZUBwhRe02OqAT6Pi KcCsyYkiIiFIyzhPBEXDPiEaBSno3yjVgjrgRhQt1RQQ5ASW/Ji0IR98hEZzRt2HvFH9 //RA== X-Gm-Message-State: AOJu0Yx/djbZaJZN+68YoWFZYnb3fggxyqw7xwPA95lwSwpU+N3uBinF k+zKAjim1Q1GIJvGWJnjWBcyNsosnw85gHByz45gWG2XlDQRMiuM7bf6/2BfBTdl8zn0vDawSoV gJGqf6bKkl0ElB0trCj4OoPKK95h/FW79Qg8TjEZup5Ep X-Gm-Gg: ASbGncsenzfpmclP6SmXjtxpgp2bpqUf2YDPAmGp3V8c33zLPzrRlwRARrmggeF2GSx AAYhX6ufjFCOEBvIZYnMZ4YKj4Zkc6GFyIBKvbRX93rZvJH/yh2a6wE4DWK6MkA21OrTMCHNpIy UXtTU6bWWZfDdDTTMFvqoXCgh5/jClv9l15+rqNw9oy/FZe1qAySZUsXHn22eywJZ+u1wmcQ4Jq in2qOh3m6DwVZ1avgd/BmiK3KJghr9itr3z95zX5vxznPGs4qbXbD84a0wYyui3u1IT8+eaOrpy u1VBoqbaNidgiy8Z04PvSmogKtiLB5PORCNc4cCvEwjHONdbHSBu2MsUzUkqFBPVpkpXLGwd X-Google-Smtp-Source: AGHT+IEYnRGOwlzEYK4hv5lkx3cJoL/B+jkzZpKakaSpAAIjbpqB/qSqwTJ+wnifXy94gsBAvO4dALxJyzsa X-Received: by 2002:a17:902:c945:b0:269:8072:5bda with SMTP id d9443c01a7336-27ed4ec4369mr14207175ad.54.1758758230920; Wed, 24 Sep 2025 16:57:10 -0700 (PDT) Received: from postal.iol.unh.edu (postal.iol.unh.edu. [132.177.123.84]) by smtp-relay.gmail.com with ESMTPS id d9443c01a7336-27ed66f8ad4sm460065ad.30.2025.09.24.16.57.10 (version=TLS1_2 cipher=ECDHE-ECDSA-AES128-GCM-SHA256 bits=128/128); Wed, 24 Sep 2025 16:57:10 -0700 (PDT) X-Relaying-Domain: iol.unh.edu Date: Wed, 24 Sep 2025 16:57:10 -0700 (PDT) Message-ID: <68d48556.170a0220.25f427.2c98SMTPIN_ADDED_MISSING@mx.google.com> Received: from [172.21.0.2] (unknown [172.18.0.240]) by postal.iol.unh.edu (Postfix) with ESMTP id 1D99460003E8; Wed, 24 Sep 2025 19:57:10 -0400 (EDT) Subject: |SUCCESS| pw156901-156902 [PATCH] [v3,2/2] member: hide internal mac From: dpdklab@iol.unh.edu To: Test Report Cc: dpdk-test-reports@iol.unh.edu In-Reply-To: <20250924154641.2684705-3-thomas@monjalon.net> References: <20250924154641.2684705-3-thomas@monjalon.net> Content-Type: text/plain X-BeenThere: test-report@dpdk.org X-Mailman-Version: 2.1.29 Precedence: list List-Id: automatic DPDK test reports List-Unsubscribe: , List-Archive: List-Post: List-Help: List-Subscribe: , Errors-To: test-report-bounces@dpdk.org Test-Label: iol-unit-arm64-testing Test-Status: SUCCESS http://dpdk.org/patch/156902 _Testing PASS_ Submitter: Thomas Monjalon Date: Wednesday, September 24 2025 15:43:18 DPDK git baseline: Repo:dpdk Branch: master CommitID:d8f0f514428ef3c07c9b75f590d75a6addd970f2 156901-156902 --> testing pass Upstream job id: Generic-Unit-Test-DPDK#374561 Test environment and result as below: +------------------------------+----------------+--------------+---------------------------+------------------------------+ | Environment | dpdk_unit_test | lpm_autotest | cryptodev_sw_zuc_autotest | cryptodev_sw_snow3g_autotest | +==============================+================+==============+===========================+==============================+ | CentOS Stream 9 | PASS | SKIPPED | SKIPPED | SKIPPED | +------------------------------+----------------+--------------+---------------------------+------------------------------+ | Debian GNU/Linux 12 | PASS | SKIPPED | SKIPPED | SKIPPED | +------------------------------+----------------+--------------+---------------------------+------------------------------+ | Fedora Linux 40 | PASS | SKIPPED | SKIPPED | SKIPPED | +------------------------------+----------------+--------------+---------------------------+------------------------------+ | CentOS Stream 10 | PASS | SKIPPED | SKIPPED | SKIPPED | +------------------------------+----------------+--------------+---------------------------+------------------------------+ | Fedora Linux 41 | PASS | SKIPPED | SKIPPED | SKIPPED | +------------------------------+----------------+--------------+---------------------------+------------------------------+ | Red Hat Enterprise Linux 9.5 | PASS | SKIPPED | SKIPPED | SKIPPED | +------------------------------+----------------+--------------+---------------------------+------------------------------+ | Fedora Linux 42 | PASS | SKIPPED | SKIPPED | SKIPPED | +------------------------------+----------------+--------------+---------------------------+------------------------------+ | Ubuntu 20.04 | PASS | PASS | SKIPPED | SKIPPED | +------------------------------+----------------+--------------+---------------------------+------------------------------+ | Ubuntu 22.04 | PASS | SKIPPED | SKIPPED | SKIPPED | +------------------------------+----------------+--------------+---------------------------+------------------------------+ | Ubuntu 24.04 | PASS | SKIPPED | SKIPPED | SKIPPED | +------------------------------+----------------+--------------+---------------------------+------------------------------+ | Debian 12 (arm) | SKIPPED | SKIPPED | PASS | PASS | +------------------------------+----------------+--------------+---------------------------+------------------------------+ CentOS Stream 9 Kernel: 5.4 Compiler: gcc gcc (GCC) 11.5.0 20240719 (Red Hat 11.5.0-11) Debian GNU/Linux 12 Kernel: 5.4 Compiler: gcc gcc (Debian 12.2.0-14+deb12u1) 12.2.0 Fedora Linux 40 Kernel: 5.4 Compiler: clang gcc (GCC) 14.2.1 20240912 (Red Hat 14.2.1-3) CentOS Stream 10 Kernel: 5.4 Compiler: gcc gcc (GCC) 14.2.1 20250110 (Red Hat 14.2.1-8) Fedora Linux 41 Kernel: 5.4 Compiler: gcc gcc (GCC) 14.3.1 20250523 (Red Hat 14.3.1-1) Red Hat Enterprise Linux 9.5 Kernel: 5.4 Compiler: gcc gcc (GCC) 11.5.0 20240719 (Red Hat 11.5.0-2) Fedora Linux 42 Kernel: 5.4 Compiler: clang gcc (GCC) 15.2.1 20250808 (Red Hat 15.2.1-1) Ubuntu 20.04 Kernel: 5.4 Compiler: gcc gcc (Ubuntu 9.4.0-1ubuntu1~20.04.2) 9.4.0 Ubuntu 22.04 Kernel: 5.4 Compiler: gcc gcc (Ubuntu 11.4.0-1ubuntu1~22.04) 11.4.0 Ubuntu 24.04 Kernel: 5.4 Compiler: gcc gcc (Ubuntu 13.3.0-6ubuntu2~24.04) 13.3.0 Debian 12 (arm) Kernel: Depends on container host Compiler: gcc (Debian 12.2.0-14) 12.2.0 To view detailed results, visit: https://lab.dpdk.org/results/dashboard/patchsets/34138/ UNH-IOL DPDK Community Lab To manage your email subscriptions, visit: https://lab.dpdk.org/results/dashboard/preferences/subscriptions/