From mboxrd@z Thu Jan 1 00:00:00 1970 Return-Path: Received: from mails.dpdk.org (mails.dpdk.org [217.70.189.124]) by inbox.dpdk.org (Postfix) with ESMTP id 6C9AE46EF1 for ; Thu, 25 Sep 2025 03:52:39 +0200 (CEST) Received: from mails.dpdk.org (localhost [127.0.0.1]) by mails.dpdk.org (Postfix) with ESMTP id 4422340151; Thu, 25 Sep 2025 03:52:39 +0200 (CEST) Received: from mail-pl1-f227.google.com (mail-pl1-f227.google.com [209.85.214.227]) by mails.dpdk.org (Postfix) with ESMTP id 16C9940151 for ; Thu, 25 Sep 2025 03:52:38 +0200 (CEST) Received: by mail-pl1-f227.google.com with SMTP id d9443c01a7336-269af38418aso5730145ad.1 for ; Wed, 24 Sep 2025 18:52:37 -0700 (PDT) DKIM-Signature: v=1; a=rsa-sha256; c=relaxed/relaxed; d=iol.unh.edu; s=unh-iol; t=1758765157; x=1759369957; darn=dpdk.org; h=references:in-reply-to:cc:to:from:subject:message-id:date:from:to :cc:subject:date:message-id:reply-to; bh=3icd7b48Jhpkw/9ouW0AU3V+X2e8JyIQmeznAVlGQ5M=; b=Vf7L4JpSiZgA8imlYSp0ZAI+ABE3ZyWS4RwXMTRllAb0ghW70ZS4eFZHmJGHlH3kgy jwIyVp1zzpkgIxJDwF1jTXwNuXpe9CeaUy+TBuuVMxAGXF3pFgGW/uJo2Kpn58IaNNVR 2DlLZSITsDdiVZE7wFnCFKQ5+EwPjq+ni0ujI= X-Google-DKIM-Signature: v=1; a=rsa-sha256; c=relaxed/relaxed; d=1e100.net; s=20230601; t=1758765157; x=1759369957; h=references:in-reply-to:cc:to:from:subject:message-id:date :x-gm-message-state:from:to:cc:subject:date:message-id:reply-to; bh=3icd7b48Jhpkw/9ouW0AU3V+X2e8JyIQmeznAVlGQ5M=; b=PyuUMiFXIPNEmugzZgdAH6F/k0GgfzRl2iynbvEX/1Kiq0BCmBAXzaRN4gzxNIVNwT WD6ViSSVZSlCtX4p0qt01l82jJsdXxHkG93Szd3IMfZpPsBlJduOMmH213jf0viu0ilm Z7hwuJxdk2S0Uwd6duWoG9P3MUnBTVwy222Wg/eiNrz685Ri3vjZRLCQ4s44f0LLdDvk oA5IelqcC8q70o3vGbladB68GBlPsmPs53NXpapRUrJ73wcsprjAPyxEZF91VJft00vW wXLyaHRalY2DuXGceSZEcsO6Ar9liNHVieD7o5Urao/c7NrLeiwdd9RQI16FWd+N5nwb SYBA== X-Gm-Message-State: AOJu0YxPxJi0/qZOclUkZFCxvIrR9kXPPCiDO6kh3mB+cObEsd+MQg+H FEpWK9AhL6B2g08O8mNiDTHQT3wHVZZCdhOBxNotkXllYIGEbg4Z7i621tHjC8m/DcjYobye4og jBK9KiRCfmZLHZ0RCKEFWY3uq4wmVU2fHPcR0CpaDkNYo X-Gm-Gg: ASbGncuQv8gMd4SPWzy2MX5jRo1he1mUS8e1nVPJlS/qyveb1eQji4HFF8hZZOgtOQ0 mK4BHsebM2w701Nr7Bv5cJKPwYM+Lcp4qrF9+xxf7LPHJVmPQlES/CAfZYDfCCAotDWJ/xv0W4y DuAnq2ft05FyMnChz935D2yGtej6Yh41QygEgbB4Ages+rx2smHveWDlhDzy8Uk739AMPo8xXUy MBwLfGQsyK8uTgpM4esZRCXjm5HwXiw9M5P2wcVZkG7iQlJW/LJwVAeuWhaCGZ99uBlcl6KDL0e jAvd7m7MxHSpxMIzSKua5xvHKFdNNzGZf+Zb8CvtrHfwgwltgY7guioOKBEKSyT9sdeiDtD5 X-Google-Smtp-Source: AGHT+IF3qbZNxdZF5ibuuJg/TYkceXSJeAIPuO5QzCr4z+0dwz+EGTI1jWMP+UkNtsksr9+iLinXaY35XQyw X-Received: by 2002:a17:903:32ce:b0:26e:49e3:55f1 with SMTP id d9443c01a7336-27ed49fcebdmr21689935ad.18.1758765157012; Wed, 24 Sep 2025 18:52:37 -0700 (PDT) Received: from postal.iol.unh.edu (postal.iol.unh.edu. [132.177.123.84]) by smtp-relay.gmail.com with ESMTPS id d9443c01a7336-27ed66dca5csm621605ad.20.2025.09.24.18.52.36 (version=TLS1_2 cipher=ECDHE-ECDSA-AES128-GCM-SHA256 bits=128/128); Wed, 24 Sep 2025 18:52:37 -0700 (PDT) X-Relaying-Domain: iol.unh.edu Date: Wed, 24 Sep 2025 18:52:37 -0700 (PDT) Message-ID: <68d4a065.170a0220.150b16.410dSMTPIN_ADDED_MISSING@mx.google.com> Received: from [172.21.0.2] (unknown [172.18.0.240]) by postal.iol.unh.edu (Postfix) with ESMTP id E425A60003E8; Wed, 24 Sep 2025 21:52:35 -0400 (EDT) Subject: |SUCCESS| pw156904-156906 [PATCH] [3/3] app/compress-perf: support f From: dpdklab@iol.unh.edu To: Test Report Cc: dpdk-test-reports@iol.unh.edu, Akhil Goyal In-Reply-To: <20250924161918.2211290-3-svaze@qti.qualcomm.com> References: <20250924161918.2211290-3-svaze@qti.qualcomm.com> Content-Type: text/plain X-BeenThere: test-report@dpdk.org X-Mailman-Version: 2.1.29 Precedence: list List-Id: automatic DPDK test reports List-Unsubscribe: , List-Archive: List-Post: List-Help: List-Subscribe: , Errors-To: test-report-bounces@dpdk.org Test-Label: iol-compile-arm64-testing Test-Status: SUCCESS http://dpdk.org/patch/156906 _Testing PASS_ Submitter: Sameer Vaze Date: Wednesday, September 24 2025 16:19:18 DPDK git baseline: Repo:dpdk-next-crypto Branch: master CommitID:4159ea62922ce41566c7bab44655ad78bee85458 156904-156906 --> testing pass Upstream job id: Generic-DPDK-Compile-Meson#428213 Test environment and result as below: +------------------------------+--------------------+ | Environment | dpdk_meson_compile | +==============================+====================+ | Red Hat Enterprise Linux 9.5 | PASS | +------------------------------+--------------------+ | Ubuntu 20.04 | PASS | +------------------------------+--------------------+ | Debian GNU/Linux 12 | PASS | +------------------------------+--------------------+ | Fedora Linux 42 | PASS | +------------------------------+--------------------+ | Ubuntu 22.04 | PASS | +------------------------------+--------------------+ | Ubuntu 24.04 | PASS | +------------------------------+--------------------+ | CentOS Stream 10 | PASS | +------------------------------+--------------------+ | CentOS Stream 9 | PASS | +------------------------------+--------------------+ Red Hat Enterprise Linux 9.5 Kernel: 5.4 Compiler: gcc gcc (GCC) 11.5.0 20240719 (Red Hat 11.5.0-2) Ubuntu 20.04 Kernel: 5.15 Compiler: aarch64-linux-gnu-gcc gcc (Ubuntu 9.4.0-1ubuntu1~20.04.2) 9.4.0 Debian GNU/Linux 12 Kernel: 5.4 Compiler: gcc gcc (Debian 12.2.0-14+deb12u1) 12.2.0 Fedora Linux 42 Kernel: 5.4 Compiler: gcc gcc (GCC) 15.2.1 20250808 (Red Hat 15.2.1-1) Ubuntu 22.04 Kernel: 5.4 Compiler: gcc gcc (Ubuntu 11.4.0-1ubuntu1~22.04) 11.4.0 Ubuntu 24.04 Kernel: 5.4 Compiler: gcc gcc (Ubuntu 13.3.0-6ubuntu2~24.04) 13.3.0 CentOS Stream 10 Kernel: 5.4 Compiler: gcc gcc (GCC) 14.2.1 20250110 (Red Hat 14.2.1-8) CentOS Stream 9 Kernel: 5.4 Compiler: gcc gcc (GCC) 11.5.0 20240719 (Red Hat 11.5.0-11) To view detailed results, visit: https://lab.dpdk.org/results/dashboard/patchsets/34139/ UNH-IOL DPDK Community Lab To manage your email subscriptions, visit: https://lab.dpdk.org/results/dashboard/preferences/subscriptions/