From mboxrd@z Thu Jan 1 00:00:00 1970 Return-Path: Received: from mails.dpdk.org (mails.dpdk.org [217.70.189.124]) by inbox.dpdk.org (Postfix) with ESMTP id 58CD346EF1 for ; Thu, 25 Sep 2025 03:52:51 +0200 (CEST) Received: from mails.dpdk.org (localhost [127.0.0.1]) by mails.dpdk.org (Postfix) with ESMTP id 53AE340151; Thu, 25 Sep 2025 03:52:51 +0200 (CEST) Received: from mail-oo1-f97.google.com (mail-oo1-f97.google.com [209.85.161.97]) by mails.dpdk.org (Postfix) with ESMTP id 0B1F140151 for ; Thu, 25 Sep 2025 03:52:50 +0200 (CEST) Received: by mail-oo1-f97.google.com with SMTP id 006d021491bc7-630cb17c309so222527eaf.3 for ; Wed, 24 Sep 2025 18:52:49 -0700 (PDT) DKIM-Signature: v=1; a=rsa-sha256; c=relaxed/relaxed; d=iol.unh.edu; s=unh-iol; t=1758765169; x=1759369969; darn=dpdk.org; h=references:in-reply-to:cc:to:from:subject:message-id:date:from:to :cc:subject:date:message-id:reply-to; bh=5BNDpJt5EED5WMWoL9y93fMT0xdCy8vlcbICuArAdFY=; b=Fv47Vp9DgWj2H2k94+W/ws9coqvxHDRsDy5HZU7IU0S2uu+0d92nDsQbpwecRyaDkf 1R3uCsa84hjHrtAdxqGQW4sWUAqm+o3nHZi2hpPEocl8Yx6jbUMpzL0t9tECvjdcjvkl 0Da/R6hxMcZHYhQf5M2zSAcppFQ84U5J7gBqc= X-Google-DKIM-Signature: v=1; a=rsa-sha256; c=relaxed/relaxed; d=1e100.net; s=20230601; t=1758765169; x=1759369969; h=references:in-reply-to:cc:to:from:subject:message-id:date :x-gm-message-state:from:to:cc:subject:date:message-id:reply-to; bh=5BNDpJt5EED5WMWoL9y93fMT0xdCy8vlcbICuArAdFY=; b=P651CH/0ZQqLN4VLjvjkYOGMokTYMGgro46QPzfdEmC31HtajZ5SylsvgZz8I6ygWz +9s6BrYDoDq1ubzF1cO16JkOPsWInJ5OsOcvvVl8NITfp9HQe7MYBCeExyFHVdtpkRsq A6wqAI+5F/MotEeeiNJ8cG/eWnMWfjXW6PsB42WitZcZiP6IVD0M0FMQqckBAf7bDJZE +vEjbweV53BBvaeAc1h0Fxa6j03QJh3VwndWZzVs3tbxRLCmfJsXNs/gsz6QkE/D0vFi 6FCcmxhQfBD3nuKwPJvXwNBhDrFIRb12IftrRLZ5tiPJLPfZIBH2hlfiCsqiGabjqUvl eDdg== X-Gm-Message-State: AOJu0YwhWkZBeQZsTSq+sI5f3UZRqt/Q3oLpWLceq5D2JytAZ6b3CAdO FrWUo7Wje7PqfJIrUd2cIvqY+hfiw1mujHPYSEklJUUiw2taJuHCqCtDfHVUGlPa5HLsW1yOKsq fXT9e13jcGz+Rk3ppgwjkNBhDFyAz9WTY5DSqOt2kJYpLbfjttQWHWopN8Fij X-Gm-Gg: ASbGncszcPfad0Y5Z0lH2kaKnoHws10rF4m4FbKCNygde39eGkzOII12Zcp7aAJVkAl tul/DISJ70T92feuykqL2s0GdLKrgCe/jVfYUxFDx9KIXuNQGZrFut2xC0s8hpaky5C17X3G5fc 0r8PSonBNM+A1lVDDtNnweaQo4Z8GgN3wbYMxtzmWX0HLn4rPQ4JjFNhJF2xCG2XHxSSQYFm1W3 shTxYyThA8hKeZMvLs6h4Ije65geCGFWQpmDBg7s7VssGTuIIq7KIAVz3bFCt7IShzOl8pCEMTL YwHIK/MRzGp6SRLsEnzQhMw0SoDMNTLy4/oK7oLKP/tYEl/P9A== X-Google-Smtp-Source: AGHT+IHjymmC7+OgsVRBFMR8GJz1oDK2r6urPvJezMAWkizROwZrMM+lVednDzACim+OHWP0izc87egWE9a1 X-Received: by 2002:a05:6808:bcb:b0:43b:252e:f7a4 with SMTP id 5614622812f47-43f4cbdefedmr1076416b6e.1.1758765169196; Wed, 24 Sep 2025 18:52:49 -0700 (PDT) Received: from postal.iol.unh.edu (postal.iol.unh.edu. [2606:4100:3880:1234::84]) by smtp-relay.gmail.com with ESMTPS id 586e51a60fabf-3636f0b17cbsm42996fac.0.2025.09.24.18.52.49 (version=TLS1_2 cipher=ECDHE-ECDSA-AES128-GCM-SHA256 bits=128/128); Wed, 24 Sep 2025 18:52:49 -0700 (PDT) X-Relaying-Domain: iol.unh.edu Date: Wed, 24 Sep 2025 18:52:49 -0700 (PDT) Message-ID: <68d4a071.050a0220.11a6df.2db2SMTPIN_ADDED_MISSING@mx.google.com> Received: from [172.21.0.2] (unknown [172.18.0.240]) by postal.iol.unh.edu (Postfix) with ESMTP id 50A3A6051830; Wed, 24 Sep 2025 21:52:48 -0400 (EDT) Subject: |SUCCESS| pw156907-156909 [PATCH] [v4,3/3] dts: update tx_offload te From: dpdklab@iol.unh.edu To: Test Report Cc: dpdk-test-reports@iol.unh.edu In-Reply-To: <20250924164725.168773-4-abailey@iol.unh.edu> References: <20250924164725.168773-4-abailey@iol.unh.edu> Content-Type: text/plain X-BeenThere: test-report@dpdk.org X-Mailman-Version: 2.1.29 Precedence: list List-Id: automatic DPDK test reports List-Unsubscribe: , List-Archive: List-Post: List-Help: List-Subscribe: , Errors-To: test-report-bounces@dpdk.org Test-Label: iol-compile-arm64-testing Test-Status: SUCCESS http://dpdk.org/patch/156909 _Testing PASS_ Submitter: Andrew Bailey Date: Wednesday, September 24 2025 16:47:25 DPDK git baseline: Repo:dpdk Branch: master CommitID:441861b4a30e6b6b6aca07367dd487657b1f50e8 156907-156909 --> testing pass Upstream job id: Generic-DPDK-Compile-Meson#428240 Test environment and result as below: +------------------------------+--------------------+ | Environment | dpdk_meson_compile | +==============================+====================+ | Red Hat Enterprise Linux 9.5 | PASS | +------------------------------+--------------------+ | Ubuntu 20.04 | PASS | +------------------------------+--------------------+ | Debian GNU/Linux 12 | PASS | +------------------------------+--------------------+ | Fedora Linux 42 | PASS | +------------------------------+--------------------+ | Ubuntu 24.04 | PASS | +------------------------------+--------------------+ | CentOS Stream 9 | PASS | +------------------------------+--------------------+ | Ubuntu 22.04 | PASS | +------------------------------+--------------------+ | CentOS Stream 10 | PASS | +------------------------------+--------------------+ Red Hat Enterprise Linux 9.5 Kernel: 5.4 Compiler: gcc gcc (GCC) 11.5.0 20240719 (Red Hat 11.5.0-2) Ubuntu 20.04 Kernel: 5.15 Compiler: aarch64-linux-gnu-gcc gcc (Ubuntu 9.4.0-1ubuntu1~20.04.2) 9.4.0 Debian GNU/Linux 12 Kernel: 5.4 Compiler: gcc gcc (Debian 12.2.0-14+deb12u1) 12.2.0 Fedora Linux 42 Kernel: 5.4 Compiler: gcc gcc (GCC) 15.2.1 20250808 (Red Hat 15.2.1-1) Ubuntu 24.04 Kernel: 5.4 Compiler: gcc gcc (Ubuntu 13.3.0-6ubuntu2~24.04) 13.3.0 CentOS Stream 9 Kernel: 5.4 Compiler: gcc gcc (GCC) 11.5.0 20240719 (Red Hat 11.5.0-11) Ubuntu 22.04 Kernel: 5.4 Compiler: gcc gcc (Ubuntu 11.4.0-1ubuntu1~22.04) 11.4.0 CentOS Stream 10 Kernel: 5.4 Compiler: gcc gcc (GCC) 14.2.1 20250110 (Red Hat 14.2.1-8) To view detailed results, visit: https://lab.dpdk.org/results/dashboard/patchsets/34140/ UNH-IOL DPDK Community Lab To manage your email subscriptions, visit: https://lab.dpdk.org/results/dashboard/preferences/subscriptions/