From mboxrd@z Thu Jan 1 00:00:00 1970 Return-Path: Received: from mails.dpdk.org (mails.dpdk.org [217.70.189.124]) by inbox.dpdk.org (Postfix) with ESMTP id 7114E46EF1 for ; Thu, 25 Sep 2025 03:53:02 +0200 (CEST) Received: from mails.dpdk.org (localhost [127.0.0.1]) by mails.dpdk.org (Postfix) with ESMTP id 63C3340151; Thu, 25 Sep 2025 03:53:02 +0200 (CEST) Received: from mail-yb1-f225.google.com (mail-yb1-f225.google.com [209.85.219.225]) by mails.dpdk.org (Postfix) with ESMTP id ACAB140151 for ; Thu, 25 Sep 2025 03:53:00 +0200 (CEST) Received: by mail-yb1-f225.google.com with SMTP id 3f1490d57ef6-eb382ff2696so208692276.1 for ; Wed, 24 Sep 2025 18:53:00 -0700 (PDT) DKIM-Signature: v=1; a=rsa-sha256; c=relaxed/relaxed; d=iol.unh.edu; s=unh-iol; t=1758765180; x=1759369980; darn=dpdk.org; h=references:in-reply-to:cc:to:from:subject:message-id:date:from:to :cc:subject:date:message-id:reply-to; bh=gu/ovbY0869wqpacVEC16MEhK2BSspBpPkDejEIxLIw=; b=Sdcqxb0/jM8BnodOOXp21F8VkszbxWWB6iFpL0iHjdwBtu9hfAcJvtbWOQcuc8v86q hY+MDsN7wpvISHKuFVfnwaNQbjUj5lcHMQR8zafqVzgn73PO5ri65WRFyrLJ5pJjnQsl q8+FXVw5P3Od+z/LaQnmjd3SnuIpvoKOBmyMU= X-Google-DKIM-Signature: v=1; a=rsa-sha256; c=relaxed/relaxed; d=1e100.net; s=20230601; t=1758765180; x=1759369980; h=references:in-reply-to:cc:to:from:subject:message-id:date :x-gm-message-state:from:to:cc:subject:date:message-id:reply-to; bh=gu/ovbY0869wqpacVEC16MEhK2BSspBpPkDejEIxLIw=; b=SyAlOzya0hvW4ekVPhXjFOAZ/t1tlXpv+jaJLML4ANGAoIHBMxTEnVFSZoTdXYQQpX ZJ2Zpffjfvtgp4r1Mv7eIBBWOqGkQQntoOs29EoeXyQxWW4VKGruxv2KqkP0TmMwXPOk SW7OAB7RyGxo3GlGXuGgKz2+oRw1agh4I/FS5dnmU/wVyhDKCoypyiy/1W6/5671jv9Q dGseJSW8G8m2FuthN8dD/BB9d3Qhuh6C0bineDqAO5m6zw5k6DAVLYGTWwEixRNgYPlg P9uAk39QC9JJacu8jhau12trAvJgu/+t0vVpoMYUlHUxnk1ix5fTWsGp6SdBEIrcBWbe YlDA== X-Gm-Message-State: AOJu0YwwlOL7F4iKnOV5UzkUqbekggm0mWiMVDAleuvgw4Yy+goQOTsQ SxPNHNGw7fAHuhfcRcA5s4Gk2eBIl85GBALmthlTD/5bvlrrSzA9A9xDa5aR3U5eHbCDBCr5wDW UhCkiIrZIgZUTDQDGlVWb8flwE9qx6sqwa5YBKJkm1FU5 X-Gm-Gg: ASbGncstx+fZA6XBT+tJA0XLqGsPQ30Kx1T6Vu1pPLC6EOIYxEIfdsXsP20o0PFLyld +Z9Q5P7LSoOS1pBxk01NchQp8nJoW5qyaV55RATonIPbRe92RvgCH41nQYT6Imn2dS1hnZZy++5 DGYliyNWEqLalmhq6FMUgi3NRWiE+cYzNPqbWVVWBAr8J4RbstnrfCm0sMTa1EzzVvezciQfbSa /rxTvk1SZuSkk/2U+sPYeACriAHMIOhOcSbZRxjO1DDJdFXbisEJsZVHn9VGurqH08xR8KZ8CVm M0EfRuixn16Hq9s7AuEFpdd1MCv14SOTuHY1ee8UCwVmPbsv8fo4NPPocb8uHxBr22lShEQI X-Google-Smtp-Source: AGHT+IG3+zYHGRD2torrX4/N599cjxdxwQRj18nKwT6T4ti9fZkhkLlDvbkXU/JihtFA5MutdJKQBN96jFTp X-Received: by 2002:a05:6902:6d11:b0:eb3:7cd6:896a with SMTP id 3f1490d57ef6-eb37fc142b4mr1657892276.19.1758765180125; Wed, 24 Sep 2025 18:53:00 -0700 (PDT) Received: from postal.iol.unh.edu (postal.iol.unh.edu. [132.177.123.84]) by smtp-relay.gmail.com with ESMTPS id 3f1490d57ef6-eb3839397casm34366276.12.2025.09.24.18.53.00 (version=TLS1_2 cipher=ECDHE-ECDSA-AES128-GCM-SHA256 bits=128/128); Wed, 24 Sep 2025 18:53:00 -0700 (PDT) X-Relaying-Domain: iol.unh.edu Date: Wed, 24 Sep 2025 18:53:00 -0700 (PDT) Message-ID: <68d4a07c.250a0220.3d5f2b.2276SMTPIN_ADDED_MISSING@mx.google.com> Received: from [172.21.0.3] (unknown [172.18.0.240]) by postal.iol.unh.edu (Postfix) with ESMTP id 937946051830; Wed, 24 Sep 2025 21:52:59 -0400 (EDT) Subject: |SUCCESS| pw156910-156915 [PATCH] [RFC,6/6] intel/iavf: remove use o From: dpdklab@iol.unh.edu To: Test Report Cc: dpdk-test-reports@iol.unh.edu In-Reply-To: <20250924165527.268645-7-stephen@networkplumber.org> References: <20250924165527.268645-7-stephen@networkplumber.org> Content-Type: text/plain X-BeenThere: test-report@dpdk.org X-Mailman-Version: 2.1.29 Precedence: list List-Id: automatic DPDK test reports List-Unsubscribe: , List-Archive: List-Post: List-Help: List-Subscribe: , Errors-To: test-report-bounces@dpdk.org Test-Label: iol-compile-arm64-testing Test-Status: SUCCESS http://dpdk.org/patch/156915 _Testing PASS_ Submitter: Stephen Hemminger Date: Wednesday, September 24 2025 16:51:13 DPDK git baseline: Repo:dpdk Branch: master CommitID:441861b4a30e6b6b6aca07367dd487657b1f50e8 156910-156915 --> testing pass Upstream job id: Generic-DPDK-Compile-Meson#428263 Test environment and result as below: +------------------------------+--------------------+ | Environment | dpdk_meson_compile | +==============================+====================+ | Red Hat Enterprise Linux 9.5 | PASS | +------------------------------+--------------------+ | Ubuntu 20.04 | PASS | +------------------------------+--------------------+ | Debian GNU/Linux 12 | PASS | +------------------------------+--------------------+ | Fedora Linux 42 | PASS | +------------------------------+--------------------+ | Ubuntu 22.04 | PASS | +------------------------------+--------------------+ | CentOS Stream 9 | PASS | +------------------------------+--------------------+ | Ubuntu 24.04 | PASS | +------------------------------+--------------------+ | CentOS Stream 10 | PASS | +------------------------------+--------------------+ Red Hat Enterprise Linux 9.5 Kernel: 5.4 Compiler: gcc gcc (GCC) 11.5.0 20240719 (Red Hat 11.5.0-2) Ubuntu 20.04 Kernel: 5.15 Compiler: aarch64-linux-gnu-gcc gcc (Ubuntu 9.4.0-1ubuntu1~20.04.2) 9.4.0 Debian GNU/Linux 12 Kernel: 5.4 Compiler: gcc gcc (Debian 12.2.0-14+deb12u1) 12.2.0 Fedora Linux 42 Kernel: 5.4 Compiler: gcc gcc (GCC) 15.2.1 20250808 (Red Hat 15.2.1-1) Ubuntu 22.04 Kernel: 5.4 Compiler: gcc gcc (Ubuntu 11.4.0-1ubuntu1~22.04) 11.4.0 CentOS Stream 9 Kernel: 5.4 Compiler: gcc gcc (GCC) 11.5.0 20240719 (Red Hat 11.5.0-11) Ubuntu 24.04 Kernel: 5.4 Compiler: gcc gcc (Ubuntu 13.3.0-6ubuntu2~24.04) 13.3.0 CentOS Stream 10 Kernel: 5.4 Compiler: gcc gcc (GCC) 14.2.1 20250110 (Red Hat 14.2.1-8) To view detailed results, visit: https://lab.dpdk.org/results/dashboard/patchsets/34141/ UNH-IOL DPDK Community Lab To manage your email subscriptions, visit: https://lab.dpdk.org/results/dashboard/preferences/subscriptions/