From mboxrd@z Thu Jan 1 00:00:00 1970 Return-Path: Received: from mails.dpdk.org (mails.dpdk.org [217.70.189.124]) by inbox.dpdk.org (Postfix) with ESMTP id 0A51646F61 for ; Thu, 25 Sep 2025 04:44:27 +0200 (CEST) Received: from mails.dpdk.org (localhost [127.0.0.1]) by mails.dpdk.org (Postfix) with ESMTP id B75BD40151; Thu, 25 Sep 2025 04:44:26 +0200 (CEST) Received: from mail-qk1-f228.google.com (mail-qk1-f228.google.com [209.85.222.228]) by mails.dpdk.org (Postfix) with ESMTP id D95D840151 for ; Thu, 25 Sep 2025 04:44:24 +0200 (CEST) Received: by mail-qk1-f228.google.com with SMTP id af79cd13be357-851e732d70fso58642985a.0 for ; Wed, 24 Sep 2025 19:44:24 -0700 (PDT) DKIM-Signature: v=1; a=rsa-sha256; c=relaxed/relaxed; d=iol.unh.edu; s=unh-iol; t=1758768264; x=1759373064; darn=dpdk.org; h=references:in-reply-to:cc:to:from:subject:message-id:date:from:to :cc:subject:date:message-id:reply-to; bh=UKhu/oABrtRqlqSksm7YLxKmAVaKd4kzV01VXG8GHN4=; b=a4BnkZWLZkI7P4oRsYJoj3n3Gn1iGE7ePUMhZoqg3it6EMvdX8cHSUMZXbgf29lpb6 4PQ8sItnwfVP3RV3hrY6lA9sz89ze3Wx2eJ5ayPpgB66WF8RDho+aR2FTv3eldMRlPAc FnLGzi9mCGLtAnz71vmYCu0oMBQRZn6/rcLo4= X-Google-DKIM-Signature: v=1; a=rsa-sha256; c=relaxed/relaxed; d=1e100.net; s=20230601; t=1758768264; x=1759373064; h=references:in-reply-to:cc:to:from:subject:message-id:date :x-gm-message-state:from:to:cc:subject:date:message-id:reply-to; bh=UKhu/oABrtRqlqSksm7YLxKmAVaKd4kzV01VXG8GHN4=; b=fHLuUomgCuX0ZnWmbZyinAgCa4BgGncV8zwAqgwfrTmpfK3Lny8Fh+KjaTerb1yeo7 xIZhs8Wc911rDTRhimOZf2qVsCrqS3g6e850ZBBixUA7SZtq80OfPNNsFftLfvxNG49G MvivBVizLsyqLvp1RmTKWRs8v71G7PEOwqMdrxlHt6VDtfGKYCj1pxSBNovV+3aTN+Z2 +qnlspzLP8RBXoi5kJVmPCJskK90dhveJcztyNIOrECe+ObAMnjtPJwbstlhQnPGoEnj Jg+Hx9NgEd4aucZQYH4ETM9T9EMG+ptPaQD/Nd0RmxHARL/4YB2DVD8iXI2iigYjO9Zq Ntjw== X-Gm-Message-State: AOJu0YzQlfF9KACDDUI9fcVXhNEbnvYX/uzTIHR0KJca4298B7hKMX8E Em387tJs892ufjGsh1k0voF+zipO94hbSL8yvlkJwfxJHS+F0um1figZMqvWGisYxl1r16ajhjI DZcpgiNlaCwEGKb1wupmAETuhFqkESwCJPO734lnwSOvGuGWbD7scB6E8izLu X-Gm-Gg: ASbGncuKe5rAzR3zqw+F7BRTrmZ1qFwWEqQIngc76IhxqNMO54wG98W/9s6kCGHE05O 6MlQKqtIzJF3fKE70arVVVozQoCS8zR/g2jGihAOx9xX7dmF6Ok/oMCg1AGHEGo8Mi9J6eMT2NS /6vVWB5EwvMf9tnrB47quVX24LhIEFktX23opvUWp9WTAUp8riQl7kSL+7taP5xjTpNjO3Xt78s Z4LGUkLcc4YefHcODOcnlISguViPxS3gYG7OlM+TboqfYUqabp7Sl5Qw0ywil3to5W20JQeZOyD eiHZRxQT4WiixSC3vZCSgdVWUjbfKtM+t7jpe9fRSB6yL0lbZA== X-Google-Smtp-Source: AGHT+IGnW1zyC4zHwDS1a4P242e5GKJRn0yk8YA8I6GYYAwugSPMUkxdCn+CXa2g983ryI9VqVtxI7Px2vqD X-Received: by 2002:ac8:5ac4:0:b0:4b7:8a50:1ecc with SMTP id d75a77b69052e-4da4c58e4eemr23911951cf.44.1758768263976; Wed, 24 Sep 2025 19:44:23 -0700 (PDT) Received: from postal.iol.unh.edu (postal.iol.unh.edu. [2606:4100:3880:1234::84]) by smtp-relay.gmail.com with ESMTPS id af79cd13be357-85c2c71a729sm4217785a.4.2025.09.24.19.44.23 (version=TLS1_2 cipher=ECDHE-ECDSA-AES128-GCM-SHA256 bits=128/128); Wed, 24 Sep 2025 19:44:23 -0700 (PDT) X-Relaying-Domain: iol.unh.edu Date: Wed, 24 Sep 2025 19:44:23 -0700 (PDT) Message-ID: <68d4ac87.050a0220.4ec87.2c2aSMTPIN_ADDED_MISSING@mx.google.com> Received: from [172.21.0.2] (unknown [172.18.0.240]) by postal.iol.unh.edu (Postfix) with ESMTP id 777CB60003E8; Wed, 24 Sep 2025 22:44:23 -0400 (EDT) Subject: |SUCCESS| pw156923 [PATCH] net/zxdh: remove unnecessary null free ch From: dpdklab@iol.unh.edu To: Test Report Cc: dpdk-test-reports@iol.unh.edu, Stephen Hemminger In-Reply-To: <20250924202252.472101-1-stephen@networkplumber.org> References: <20250924202252.472101-1-stephen@networkplumber.org> Content-Type: text/plain X-BeenThere: test-report@dpdk.org X-Mailman-Version: 2.1.29 Precedence: list List-Id: automatic DPDK test reports List-Unsubscribe: , List-Archive: List-Post: List-Help: List-Subscribe: , Errors-To: test-report-bounces@dpdk.org Test-Label: iol-compile-arm64-testing Test-Status: SUCCESS http://dpdk.org/patch/156923 _Testing PASS_ Submitter: Stephen Hemminger Date: Wednesday, September 24 2025 20:22:52 DPDK git baseline: Repo:dpdk-next-net Branch: master CommitID:2786b466bcf44f122e10c45da3a9615ffde5ac8b 156923 --> testing pass Upstream job id: Generic-DPDK-Compile-Meson#428316 Test environment and result as below: +------------------------------+--------------------+ | Environment | dpdk_meson_compile | +==============================+====================+ | Red Hat Enterprise Linux 9.5 | PASS | +------------------------------+--------------------+ | Ubuntu 20.04 | PASS | +------------------------------+--------------------+ | Debian GNU/Linux 12 | PASS | +------------------------------+--------------------+ | Fedora Linux 42 | PASS | +------------------------------+--------------------+ | Ubuntu 22.04 | PASS | +------------------------------+--------------------+ | Ubuntu 24.04 | PASS | +------------------------------+--------------------+ | CentOS Stream 9 | PASS | +------------------------------+--------------------+ | CentOS Stream 10 | PASS | +------------------------------+--------------------+ Red Hat Enterprise Linux 9.5 Kernel: 5.4 Compiler: gcc gcc (GCC) 11.5.0 20240719 (Red Hat 11.5.0-2) Ubuntu 20.04 Kernel: 5.15 Compiler: aarch64-linux-gnu-gcc gcc (Ubuntu 9.4.0-1ubuntu1~20.04.2) 9.4.0 Debian GNU/Linux 12 Kernel: 5.4 Compiler: gcc gcc (Debian 12.2.0-14+deb12u1) 12.2.0 Fedora Linux 42 Kernel: 5.4 Compiler: clang gcc (GCC) 15.2.1 20250808 (Red Hat 15.2.1-1) Ubuntu 22.04 Kernel: 5.4 Compiler: gcc gcc (Ubuntu 11.4.0-1ubuntu1~22.04) 11.4.0 Ubuntu 24.04 Kernel: 5.4 Compiler: gcc gcc (Ubuntu 13.3.0-6ubuntu2~24.04) 13.3.0 CentOS Stream 9 Kernel: 5.4 Compiler: gcc gcc (GCC) 11.5.0 20240719 (Red Hat 11.5.0-11) CentOS Stream 10 Kernel: 5.4 Compiler: gcc gcc (GCC) 14.2.1 20250110 (Red Hat 14.2.1-8) To view detailed results, visit: https://lab.dpdk.org/results/dashboard/patchsets/34143/ UNH-IOL DPDK Community Lab To manage your email subscriptions, visit: https://lab.dpdk.org/results/dashboard/preferences/subscriptions/