From mboxrd@z Thu Jan 1 00:00:00 1970 Return-Path: Received: from mails.dpdk.org (mails.dpdk.org [217.70.189.124]) by inbox.dpdk.org (Postfix) with ESMTP id 7E92E46F61 for ; Thu, 25 Sep 2025 04:59:59 +0200 (CEST) Received: from mails.dpdk.org (localhost [127.0.0.1]) by mails.dpdk.org (Postfix) with ESMTP id 7924C40276; Thu, 25 Sep 2025 04:59:59 +0200 (CEST) Received: from mail-il1-f225.google.com (mail-il1-f225.google.com [209.85.166.225]) by mails.dpdk.org (Postfix) with ESMTP id E8EF040276 for ; Thu, 25 Sep 2025 04:59:58 +0200 (CEST) Received: by mail-il1-f225.google.com with SMTP id e9e14a558f8ab-4248c9a64f7so2597165ab.0 for ; Wed, 24 Sep 2025 19:59:58 -0700 (PDT) DKIM-Signature: v=1; a=rsa-sha256; c=relaxed/relaxed; d=iol.unh.edu; s=unh-iol; t=1758769198; x=1759373998; darn=dpdk.org; h=references:in-reply-to:cc:to:from:subject:message-id:date:from:to :cc:subject:date:message-id:reply-to; bh=j1liQWC+oESEhPxXgcR7xsMDPgkA1hUZfeYn+ZOKwq8=; b=JLeXdL5GGX/xQ3M9ORkuwZZNE1xheE8iVKt73Be7VnzrOG1J1DSb+oFdOCT/63+oMQ Cl2BDSp7TDZoP7LTckbV6Kz2NvzzoWAF03+IghWw/GwIgJwC/CZgvnhEzLqVYvPyXoBg Rcxur+KGEvwzJsWzXgy6zTNduUboioj3VsC+w= X-Google-DKIM-Signature: v=1; a=rsa-sha256; c=relaxed/relaxed; d=1e100.net; s=20230601; t=1758769198; x=1759373998; h=references:in-reply-to:cc:to:from:subject:message-id:date :x-gm-message-state:from:to:cc:subject:date:message-id:reply-to; bh=j1liQWC+oESEhPxXgcR7xsMDPgkA1hUZfeYn+ZOKwq8=; b=T6T9wazw599v43k2GEnZv3bxssuWrU36cOF3XF+djv96ow+VmoueZs+traiXDrqNvC MQ0fg4pM5udqS3gWpJq/0UmbpOg359eQdeuRK80gZA/rD1pRLFeUx5t82YM0vKFCfOfL NAYbEyvQobQ43fnpit7J+BT0bRcFw7hZMAEPtiHriNkr2DW8is1eSgps0BCrkzXSPNwP wPkCWT8w2DWoJEq3qcsswXU9R9gAsmAaSB8r76inBO/+5wsnJjVAO1R7S1Q5ucpRhUCf 8aVNd0O4XPdhmZl97b/0lYkOB5lAzmpABjR08V05SaLv4oOhA9LzBRFmoDwZoSd5LSKZ EqQw== X-Gm-Message-State: AOJu0Yx69JkfmgweIbPX1ypkZaeu7LLSqDzEp4qGyOFz/FjYCxets8Py 59Ikf9F5MlIFrcmfCfytKGvUVX9bUtPVVVxA7VUwImR1NTEqARkc5WVN4oegzysvfxCzTiSYd4g ZSV4rIzEqQfVQplMQyYUcuzLxorghMCk0SYTiya9mjQq0 X-Gm-Gg: ASbGncvN95up+rFpgykQToh1jwG8cOp7IG2B+rXsCb61XZmUfwrMGSuImklMJ9oF2k+ XokBw2nWii++pBm/WxftLcC9VWMNlHOVMWH41neYCgh7VOvpsXh/MJr7sKH+WO1UBguooWVvCky DSqBz2Yxg68QEci/UcgjfoiVSWlDOhHZkLETtdYwU6+lWrnNusH5t6YqtuurNYq7PtqiX6XKVnV JPGqXQc8H165aTPdfoK9yW4hX09KTvfVD7VW1oW6wvsQpx8kVAVV6dqwgvQ7WkifVIUUuZ6Z4kM OaS856yI8rtszMkMvgcH+uKCOQ70TiTxA3k53ZIrmQIQtcBebMtONkZ0XR4eQgj0/hUWICt9 X-Google-Smtp-Source: AGHT+IGJ83BwNpI1pgNHYcp1iH+BGzGMhLX6xkKgTyy7oJ/wAOuuL/8rD5Bm8j61k3bnJruvkmLSvk/gnnGl X-Received: by 2002:a05:6e02:12e8:b0:424:4bc:4b33 with SMTP id e9e14a558f8ab-425c0a1e64emr16034745ab.1.1758769198208; Wed, 24 Sep 2025 19:59:58 -0700 (PDT) Received: from postal.iol.unh.edu (postal.iol.unh.edu. [132.177.123.84]) by smtp-relay.gmail.com with ESMTPS id 8926c6da1cb9f-56a6565456fsm48753173.22.2025.09.24.19.59.58 (version=TLS1_2 cipher=ECDHE-ECDSA-AES128-GCM-SHA256 bits=128/128); Wed, 24 Sep 2025 19:59:58 -0700 (PDT) X-Relaying-Domain: iol.unh.edu Date: Wed, 24 Sep 2025 19:59:58 -0700 (PDT) Message-ID: <68d4b02e.050a0220.5397c.350fSMTPIN_ADDED_MISSING@mx.google.com> Received: from [172.21.0.3] (unknown [172.18.0.240]) by postal.iol.unh.edu (Postfix) with ESMTP id C49106051830; Wed, 24 Sep 2025 22:59:57 -0400 (EDT) Subject: |SUCCESS| pw156907-156909 [PATCH] [v4,3/3] dts: update tx_offload te From: dpdklab@iol.unh.edu To: Test Report Cc: dpdk-test-reports@iol.unh.edu In-Reply-To: <20250924164725.168773-4-abailey@iol.unh.edu> References: <20250924164725.168773-4-abailey@iol.unh.edu> Content-Type: text/plain X-BeenThere: test-report@dpdk.org X-Mailman-Version: 2.1.29 Precedence: list List-Id: automatic DPDK test reports List-Unsubscribe: , List-Archive: List-Post: List-Help: List-Subscribe: , Errors-To: test-report-bounces@dpdk.org Test-Label: iol-unit-arm64-testing Test-Status: SUCCESS http://dpdk.org/patch/156909 _Testing PASS_ Submitter: Andrew Bailey Date: Wednesday, September 24 2025 16:47:25 DPDK git baseline: Repo:dpdk Branch: master CommitID:441861b4a30e6b6b6aca07367dd487657b1f50e8 156907-156909 --> testing pass Upstream job id: Generic-Unit-Test-DPDK#374631 Test environment and result as below: +------------------------------+----------------+------------------------------+---------------------------+--------------+ | Environment | dpdk_unit_test | cryptodev_sw_snow3g_autotest | cryptodev_sw_zuc_autotest | lpm_autotest | +==============================+================+==============================+===========================+==============+ | CentOS Stream 9 | PASS | SKIPPED | SKIPPED | SKIPPED | +------------------------------+----------------+------------------------------+---------------------------+--------------+ | CentOS Stream 10 | PASS | SKIPPED | SKIPPED | SKIPPED | +------------------------------+----------------+------------------------------+---------------------------+--------------+ | Debian GNU/Linux 12 | PASS | SKIPPED | SKIPPED | SKIPPED | +------------------------------+----------------+------------------------------+---------------------------+--------------+ | Fedora Linux 42 | PASS | SKIPPED | SKIPPED | SKIPPED | +------------------------------+----------------+------------------------------+---------------------------+--------------+ | Fedora Linux 40 | PASS | SKIPPED | SKIPPED | SKIPPED | +------------------------------+----------------+------------------------------+---------------------------+--------------+ | Fedora Linux 41 | PASS | SKIPPED | SKIPPED | SKIPPED | +------------------------------+----------------+------------------------------+---------------------------+--------------+ | Red Hat Enterprise Linux 9.5 | PASS | SKIPPED | SKIPPED | SKIPPED | +------------------------------+----------------+------------------------------+---------------------------+--------------+ | Ubuntu 24.04 | PASS | SKIPPED | SKIPPED | SKIPPED | +------------------------------+----------------+------------------------------+---------------------------+--------------+ | Ubuntu 20.04 | PASS | SKIPPED | SKIPPED | PASS | +------------------------------+----------------+------------------------------+---------------------------+--------------+ | Ubuntu 22.04 | PASS | SKIPPED | SKIPPED | SKIPPED | +------------------------------+----------------+------------------------------+---------------------------+--------------+ | Debian 12 (arm) | SKIPPED | PASS | PASS | SKIPPED | +------------------------------+----------------+------------------------------+---------------------------+--------------+ CentOS Stream 9 Kernel: 5.4 Compiler: gcc gcc (GCC) 11.5.0 20240719 (Red Hat 11.5.0-11) CentOS Stream 10 Kernel: 5.4 Compiler: gcc gcc (GCC) 14.2.1 20250110 (Red Hat 14.2.1-8) Debian GNU/Linux 12 Kernel: 5.4 Compiler: gcc gcc (Debian 12.2.0-14+deb12u1) 12.2.0 Fedora Linux 42 Kernel: 5.4 Compiler: gcc gcc (GCC) 15.2.1 20250808 (Red Hat 15.2.1-1) Fedora Linux 40 Kernel: 5.4 Compiler: gcc gcc (GCC) 14.2.1 20240912 (Red Hat 14.2.1-3) Fedora Linux 41 Kernel: 5.4 Compiler: clang gcc (GCC) 14.3.1 20250523 (Red Hat 14.3.1-1) Red Hat Enterprise Linux 9.5 Kernel: 5.4 Compiler: gcc gcc (GCC) 11.5.0 20240719 (Red Hat 11.5.0-2) Ubuntu 24.04 Kernel: 5.4 Compiler: gcc gcc (Ubuntu 13.3.0-6ubuntu2~24.04) 13.3.0 Ubuntu 20.04 Kernel: 5.4 Compiler: gcc gcc (Ubuntu 9.4.0-1ubuntu1~20.04.2) 9.4.0 Ubuntu 22.04 Kernel: 5.4 Compiler: gcc gcc (Ubuntu 11.4.0-1ubuntu1~22.04) 11.4.0 Debian 12 (arm) Kernel: Depends on container host Compiler: gcc (Debian 12.2.0-14) 12.2.0 To view detailed results, visit: https://lab.dpdk.org/results/dashboard/patchsets/34140/ UNH-IOL DPDK Community Lab To manage your email subscriptions, visit: https://lab.dpdk.org/results/dashboard/preferences/subscriptions/