From mboxrd@z Thu Jan 1 00:00:00 1970 Return-Path: Received: from mails.dpdk.org (mails.dpdk.org [217.70.189.124]) by inbox.dpdk.org (Postfix) with ESMTP id F2E2C46F6A for ; Thu, 25 Sep 2025 06:06:57 +0200 (CEST) Received: from mails.dpdk.org (localhost [127.0.0.1]) by mails.dpdk.org (Postfix) with ESMTP id D2E1040276; Thu, 25 Sep 2025 06:06:57 +0200 (CEST) Received: from mail-il1-f226.google.com (mail-il1-f226.google.com [209.85.166.226]) by mails.dpdk.org (Postfix) with ESMTP id E7B6440276 for ; Thu, 25 Sep 2025 06:06:56 +0200 (CEST) Received: by mail-il1-f226.google.com with SMTP id e9e14a558f8ab-4258bd8c19bso4771725ab.2 for ; Wed, 24 Sep 2025 21:06:56 -0700 (PDT) DKIM-Signature: v=1; a=rsa-sha256; c=relaxed/relaxed; d=iol.unh.edu; s=unh-iol; t=1758773216; x=1759378016; darn=dpdk.org; h=references:in-reply-to:cc:to:from:subject:message-id:date:from:to :cc:subject:date:message-id:reply-to; bh=jIpyoxPlhggPyF51QQS+njNSyKNgn0aUTonbZF7Lc1E=; b=KQBcKTp2G/XEPjpR0NM0fuNQNgh3HL0F+CUDtY9WenKIbDlKJ2672G+lE9njeeewqo CcXRkvG/kJuHq3AayFi7SnbPERKE/kd19+q9SVcn7enYhfG55rLKI8AY+39S9SJmvwyv kBNj3KzH1so5nHsitQ4oucPWlnDvR9+X0uVRc= X-Google-DKIM-Signature: v=1; a=rsa-sha256; c=relaxed/relaxed; d=1e100.net; s=20230601; t=1758773216; x=1759378016; h=references:in-reply-to:cc:to:from:subject:message-id:date :x-gm-message-state:from:to:cc:subject:date:message-id:reply-to; bh=jIpyoxPlhggPyF51QQS+njNSyKNgn0aUTonbZF7Lc1E=; b=XGt1sg3tVlEG/ZjWMijM64Gjf9Qjb9/roin7eeaaAF+5UPH+zICHH3AbL5ffsRZeYr QQkc+o3O2vnE9HOacWdtmFyW2QysQOnyibvKjfEPAYoxaa3n3EJkcfHrEJyNRqUt91x8 1au9J3e6EePDrvMwbDC09d/6DiLxUfqIgSjBTBUyMzcHvWD1lctA0ZBXvIEuKIBWuIw8 LLRPJIsFw5ajkY7ZcpWaz5uScHcG9EWplkk1jmbaFJcEZnFaExW5s2NJ5/NKsRwxJAnT 6S2XnHyDs5AzoVSVA9SyXzU98WMbkv0rBYMqw5SS4RezNVyORi+6Iirnb4JnylDcwtRZ sQng== X-Gm-Message-State: AOJu0YyOjY1Bit024YgTW3wCLoDHsQu6LXEfHPE9S41OkDGzZnM9X55L 0Eq5DpDN7IbSYHAmzpA2hJV1a/LE6BMwRQmkJVl0gUMTX1W7GgPMXvbr5kdPlVI2qdNmjN9X9DS uwo6vHligjDnvsjgZSXN2IocIHYsE+I/RHgbI0c+gkuXs X-Gm-Gg: ASbGncvwLgTcL/mUdJGyS4ZEAd4SgDX5CO/HWUiHJYx/A9EIdl7OZTCpGwTy9Y2IEua fG9AgbpHzbbBydswsN36HjU0f5qvwVe6dyGl0nYHfRtqL3Ql2PgLbXZ7XJRan4w4RPYKkuJMVF5 kqoOfQXWNU7KM105aQKeJk69S9UEZiuSVXilwCuY6K4hHYx8eS5dvclFd/12Nbs1bAbnEj/51r3 50dvnSfbB5/A+/wjO3OBy90gUWBQ5smgt8ECyA5tfOYMQggMx/2pAYe31B98j/kKwM2KpkGN9Ls AhE4GmimsnhLnYTrN266pMeM8524OnRIko6DIg6w8l/WcDdiqLqk9YqGCUJCCsqxKgGMzrRL X-Google-Smtp-Source: AGHT+IGX4zPMkAyUEZ7AcIrc3YL553IXEVjE8yU+H8yTFUHiL3/+rQR9hPP7/MO541SR46oQU631OGPCcrnt X-Received: by 2002:a92:c70f:0:b0:425:80d0:82c6 with SMTP id e9e14a558f8ab-42595654edemr27948365ab.26.1758773216253; Wed, 24 Sep 2025 21:06:56 -0700 (PDT) Received: from postal.iol.unh.edu (postal.iol.unh.edu. [132.177.123.84]) by smtp-relay.gmail.com with ESMTPS id e9e14a558f8ab-425bbacfcc5sm572405ab.3.2025.09.24.21.06.56 (version=TLS1_2 cipher=ECDHE-ECDSA-AES128-GCM-SHA256 bits=128/128); Wed, 24 Sep 2025 21:06:56 -0700 (PDT) X-Relaying-Domain: iol.unh.edu Date: Wed, 24 Sep 2025 21:06:56 -0700 (PDT) Message-ID: <68d4bfe0.050a0220.2401f7.3a21SMTPIN_ADDED_MISSING@mx.google.com> Received: from [172.21.0.6] (unknown [172.18.0.240]) by postal.iol.unh.edu (Postfix) with ESMTP id CA02A6051830; Thu, 25 Sep 2025 00:06:55 -0400 (EDT) Subject: |SUCCESS| pw156924 [PATCH] [v1] support multiple PF process flow tab From: dpdklab@iol.unh.edu To: Test Report Cc: dpdk-test-reports@iol.unh.edu, Stephen Hemminger In-Reply-To: <20250925024526.79329-1-zhang.tianhao2@zte.com.cn> References: <20250925024526.79329-1-zhang.tianhao2@zte.com.cn> Content-Type: text/plain X-BeenThere: test-report@dpdk.org X-Mailman-Version: 2.1.29 Precedence: list List-Id: automatic DPDK test reports List-Unsubscribe: , List-Archive: List-Post: List-Help: List-Subscribe: , Errors-To: test-report-bounces@dpdk.org Test-Label: iol-unit-amd64-testing Test-Status: SUCCESS http://dpdk.org/patch/156924 _Testing PASS_ Submitter: Tianhao Zhang Date: Thursday, September 25 2025 02:45:26 DPDK git baseline: Repo:dpdk-next-net Branch: master CommitID:2786b466bcf44f122e10c45da3a9615ffde5ac8b 156924 --> testing pass Upstream job id: Generic-Unit-Test-DPDK#374740 Test environment and result as below: +-------------------------------+----------------+ | Environment | dpdk_unit_test | +===============================+================+ | Fedora Linux 40 | PASS | +-------------------------------+----------------+ | CentOS Stream 9 | PASS | +-------------------------------+----------------+ | Debian GNU/Linux 12 | PASS | +-------------------------------+----------------+ | CentOS Stream 10 | PASS | +-------------------------------+----------------+ | Fedora Linux 41 | PASS | +-------------------------------+----------------+ | Red Hat Enterprise Linux 8.10 | PASS | +-------------------------------+----------------+ | Ubuntu 20.04 | PASS | +-------------------------------+----------------+ | Fedora Linux 42 | PASS | +-------------------------------+----------------+ | Red Hat Enterprise Linux 9.5 | PASS | +-------------------------------+----------------+ | Ubuntu 22.04 | PASS | +-------------------------------+----------------+ | Windows Server 2022 | PASS | +-------------------------------+----------------+ | Ubuntu 24.04 | PASS | +-------------------------------+----------------+ Fedora Linux 40 Kernel: 5.15 Compiler: gcc gcc (GCC) 14.2.1 20240912 (Red Hat 14.2.1-3) CentOS Stream 9 Kernel: 5.15 Compiler: gcc gcc (GCC) 11.5.0 20240719 (Red Hat 11.5.0-11) Debian GNU/Linux 12 Kernel: 5.15 Compiler: gcc gcc (Debian 12.2.0-14+deb12u1) 12.2.0 CentOS Stream 10 Kernel: 5.15 Compiler: gcc gcc (GCC) 14.2.1 20250110 (Red Hat 14.2.1-8) Fedora Linux 41 Kernel: 5.15 Compiler: gcc gcc (GCC) 14.3.1 20250523 (Red Hat 14.3.1-1) Red Hat Enterprise Linux 8.10 Kernel: 5.15 Compiler: gcc gcc (GCC) 8.5.0 20210514 (Red Hat 8.5.0-22) Ubuntu 20.04 Kernel: 5.15 Compiler: gcc gcc (Ubuntu 9.4.0-1ubuntu1~20.04.2) 9.4.0 Fedora Linux 42 Kernel: 5.15 Compiler: gcc gcc (GCC) 15.2.1 20250808 (Red Hat 15.2.1-1) Red Hat Enterprise Linux 9.5 Kernel: 5.15 Compiler: gcc gcc (GCC) 11.5.0 20240719 (Red Hat 11.5.0-2) Ubuntu 22.04 Kernel: 5.15 Compiler: gcc gcc (Ubuntu 11.4.0-1ubuntu1~22.04) 11.4.0 Windows Server 2022 Kernel: 10.0.20348.2031 Compiler: clang 15.0.7, gcc 14.1.0 (MinGW), and MSVC VS 19.39.33521 Ubuntu 24.04 Kernel: 5.15 Compiler: gcc gcc (Ubuntu 13.3.0-6ubuntu2~24.04) 13.3.0 To view detailed results, visit: https://lab.dpdk.org/results/dashboard/patchsets/34144/ UNH-IOL DPDK Community Lab To manage your email subscriptions, visit: https://lab.dpdk.org/results/dashboard/preferences/subscriptions/