From mboxrd@z Thu Jan 1 00:00:00 1970 Return-Path: Received: from mails.dpdk.org (mails.dpdk.org [217.70.189.124]) by inbox.dpdk.org (Postfix) with ESMTP id 94EAD46905 for ; Thu, 25 Sep 2025 07:25:10 +0200 (CEST) Received: from mails.dpdk.org (localhost [127.0.0.1]) by mails.dpdk.org (Postfix) with ESMTP id 75A9140276; Thu, 25 Sep 2025 07:25:10 +0200 (CEST) Received: from mail-pl1-f227.google.com (mail-pl1-f227.google.com [209.85.214.227]) by mails.dpdk.org (Postfix) with ESMTP id 7888540276 for ; Thu, 25 Sep 2025 07:25:09 +0200 (CEST) Received: by mail-pl1-f227.google.com with SMTP id d9443c01a7336-27d2c35c459so5185665ad.0 for ; Wed, 24 Sep 2025 22:25:09 -0700 (PDT) DKIM-Signature: v=1; a=rsa-sha256; c=relaxed/relaxed; d=iol.unh.edu; s=unh-iol; t=1758777909; x=1759382709; darn=dpdk.org; h=references:in-reply-to:cc:to:from:subject:message-id:date:from:to :cc:subject:date:message-id:reply-to; bh=quzj+1iy4UnD0gbkjdoXTXgRRiN5aYtoglOPx7ZX1as=; b=RrUCEO1VmmV4KdU878eXwUbhw8st310zn0ZHtAA+sXnIBJAqxVsuzGUvQK1uN1MZHw nz3eCOfkQ1z/6FMlM+mgIbGQNh7/FLEyKGXOhyA9HIdKsrRxbDMP3pPd5ITGawd/08f2 6CHz/xRwAmoVXo88UUQrP74nZSb950wG+z0vA= X-Google-DKIM-Signature: v=1; a=rsa-sha256; c=relaxed/relaxed; d=1e100.net; s=20230601; t=1758777909; x=1759382709; h=references:in-reply-to:cc:to:from:subject:message-id:date :x-gm-message-state:from:to:cc:subject:date:message-id:reply-to; bh=quzj+1iy4UnD0gbkjdoXTXgRRiN5aYtoglOPx7ZX1as=; b=WtCQXoOV9X8qT+ICZa1cW4aupgopmVR6T/TRb/KYQ6r+5Z8+VbUWClq0ijit2N44XX aYDkNWCOxEfBl8K0lFOqYfG0coG1V/MY2jFBah+KRyWiFigFFLs86lUOSe0yorXdkbYI 7vdsCnT6zr8BB0Q+2WaBhvx1LJnmL20JQYiwqcLnZq+Jk694rDT26x/B5X9giv2w4NO3 F4JwOIs8XZtMkojuVWoDcJTjuTUoYPmzPcI+ToWMNdykvYgOTs/lPn8hN4n2OS1Sl9AZ fIHlasaD2gDxqtpFRu3WU7vITu/ZX1ZdNYjOHm8ultJQfs5hcrkyoHoYSwp1xS5YYizk XrmA== X-Gm-Message-State: AOJu0Yxwmu32iLBrel0C1+4wdAP/Fq/x8myrMH23KK/+vsShpl68sZjm 1JxK7FPPY0ubxQ4c8eLrq+UzhmZSTif8ZTymUGv+87XPhnKlyThZV9ZAeJWe2qg7ibrxYtG94WL PUbu9R2vVjis9fxyYRV4BfDUKjyF2E1STUD0PuSksNifwLAFN7IWqQVhK9Tf2 X-Gm-Gg: ASbGncugiNaKS4nU45QWRYWF0mvJ3leuAPCcC/A5Z6735zhBAMrvOcCuoMvzSgFJzqX SoIZ8f6yHE2zwCSiFY8RIMcF2tz8hNvae+vngj4Y9ZdCt97VA+Z2ZeKZls8tthCIuhEHZU3gWnL 7DU6Pm2l22ThKHCCZ9y6uYqLf8Pm5xPQqz1npA5HlWfRHTtF4G5WAOdLRU8w59MfOxHT+bghKnE NHz2hyTp72eMqGye2oA//v0wqljAnOOr9a5F7ceyxSePnK2vx0Ne1nx28+DsihQneeDGCjOuZYq 2zpGHBQXVG22+vkji8RaSZa9vrl512L+1LL01bek6NOMfSBNFQ== X-Google-Smtp-Source: AGHT+IG5nL4TXxxqhu0fb86aviq1HEuooQ80FSjV2ujTmYKqi9O7UnbDSAOB+j7Ws7n17ZdGDw2W/yFlOlLe X-Received: by 2002:a17:902:dace:b0:264:70e9:dcb8 with SMTP id d9443c01a7336-27ed4a5a7c8mr24231215ad.55.1758777908650; Wed, 24 Sep 2025 22:25:08 -0700 (PDT) Received: from postal.iol.unh.edu (postal.iol.unh.edu. [2606:4100:3880:1234::84]) by smtp-relay.gmail.com with ESMTPS id d9443c01a7336-27ed66bb8adsm863485ad.13.2025.09.24.22.25.08 (version=TLS1_2 cipher=ECDHE-ECDSA-AES128-GCM-SHA256 bits=128/128); Wed, 24 Sep 2025 22:25:08 -0700 (PDT) X-Relaying-Domain: iol.unh.edu Date: Wed, 24 Sep 2025 22:25:08 -0700 (PDT) Message-ID: <68d4d234.170a0220.2ee0de.5dd8SMTPIN_ADDED_MISSING@mx.google.com> Received: from [172.21.0.3] (unknown [172.18.0.240]) by postal.iol.unh.edu (Postfix) with ESMTP id 1DA896051830; Thu, 25 Sep 2025 01:25:08 -0400 (EDT) Subject: |SUCCESS| pw156924 [PATCH] [v1] support multiple PF process flow tab From: dpdklab@iol.unh.edu To: Test Report Cc: dpdk-test-reports@iol.unh.edu, Stephen Hemminger In-Reply-To: <20250925024526.79329-1-zhang.tianhao2@zte.com.cn> References: <20250925024526.79329-1-zhang.tianhao2@zte.com.cn> Content-Type: text/plain X-BeenThere: test-report@dpdk.org X-Mailman-Version: 2.1.29 Precedence: list List-Id: automatic DPDK test reports List-Unsubscribe: , List-Archive: List-Post: List-Help: List-Subscribe: , Errors-To: test-report-bounces@dpdk.org Test-Label: iol-compile-amd64-testing Test-Status: SUCCESS http://dpdk.org/patch/156924 _Testing PASS_ Submitter: Tianhao Zhang Date: Thursday, September 25 2025 02:45:26 DPDK git baseline: Repo:dpdk-next-net Branch: master CommitID:2786b466bcf44f122e10c45da3a9615ffde5ac8b 156924 --> testing pass Upstream job id: Generic-DPDK-Compile-Meson#428357 Test environment and result as below: +-------------------------------+--------------------+-------------------+------------------+-------------------------+-------------------+----------------------+ | Environment | dpdk_meson_compile | dpdk_compile_spdk | dpdk_compile_ovs | dpdk_llvm_clang_compile | dpdk_msvc_compile | dpdk_mingw64_compile | +===============================+====================+===================+==================+=========================+===================+======================+ | CentOS Stream 9 | PASS | PASS | SKIPPED | SKIPPED | SKIPPED | SKIPPED | +-------------------------------+--------------------+-------------------+------------------+-------------------------+-------------------+----------------------+ | CentOS Stream 10 | PASS | SKIPPED | SKIPPED | SKIPPED | SKIPPED | SKIPPED | +-------------------------------+--------------------+-------------------+------------------+-------------------------+-------------------+----------------------+ | Debian GNU/Linux 12 | PASS | PASS | SKIPPED | SKIPPED | SKIPPED | SKIPPED | +-------------------------------+--------------------+-------------------+------------------+-------------------------+-------------------+----------------------+ | Fedora Linux 42 | PASS | PASS | PASS | SKIPPED | SKIPPED | SKIPPED | +-------------------------------+--------------------+-------------------+------------------+-------------------------+-------------------+----------------------+ | Red Hat Enterprise Linux 8.10 | PASS | SKIPPED | SKIPPED | SKIPPED | SKIPPED | SKIPPED | +-------------------------------+--------------------+-------------------+------------------+-------------------------+-------------------+----------------------+ | Red Hat Enterprise Linux 9.5 | PASS | SKIPPED | SKIPPED | SKIPPED | SKIPPED | SKIPPED | +-------------------------------+--------------------+-------------------+------------------+-------------------------+-------------------+----------------------+ | Ubuntu 20.04 | PASS | SKIPPED | SKIPPED | SKIPPED | SKIPPED | SKIPPED | +-------------------------------+--------------------+-------------------+------------------+-------------------------+-------------------+----------------------+ | Ubuntu 22.04 | PASS | PASS | SKIPPED | SKIPPED | SKIPPED | SKIPPED | +-------------------------------+--------------------+-------------------+------------------+-------------------------+-------------------+----------------------+ | Ubuntu 24.04 | PASS | PASS | PASS | SKIPPED | SKIPPED | SKIPPED | +-------------------------------+--------------------+-------------------+------------------+-------------------------+-------------------+----------------------+ | FreeBSD 14.2 | PASS | SKIPPED | SKIPPED | SKIPPED | SKIPPED | SKIPPED | +-------------------------------+--------------------+-------------------+------------------+-------------------------+-------------------+----------------------+ | Alpine Linux 3.22.0 | PASS | SKIPPED | SKIPPED | SKIPPED | SKIPPED | SKIPPED | +-------------------------------+--------------------+-------------------+------------------+-------------------------+-------------------+----------------------+ | openSUSE Leap 15.6 | PASS | SKIPPED | SKIPPED | SKIPPED | SKIPPED | SKIPPED | +-------------------------------+--------------------+-------------------+------------------+-------------------------+-------------------+----------------------+ | Windows Server 2022 | SKIPPED | SKIPPED | SKIPPED | PASS | PASS | PASS | +-------------------------------+--------------------+-------------------+------------------+-------------------------+-------------------+----------------------+ CentOS Stream 9 Kernel: 5.15 Compiler: gcc gcc (GCC) 11.5.0 20240719 (Red Hat 11.5.0-11) CentOS Stream 10 Kernel: 5.15 Compiler: gcc gcc (GCC) 14.2.1 20250110 (Red Hat 14.2.1-8) Debian GNU/Linux 12 Kernel: 5.15 Compiler: gcc gcc (Debian 12.2.0-14+deb12u1) 12.2.0 Fedora Linux 42 Kernel: 5.15 Compiler: clang gcc (GCC) 15.2.1 20250808 (Red Hat 15.2.1-1) Red Hat Enterprise Linux 8.10 Kernel: 5.15 Compiler: gcc gcc (GCC) 8.5.0 20210514 (Red Hat 8.5.0-22) Red Hat Enterprise Linux 9.5 Kernel: 5.15 Compiler: gcc gcc (GCC) 11.5.0 20240719 (Red Hat 11.5.0-2) Ubuntu 20.04 Kernel: 5.15 Compiler: gcc gcc (Ubuntu 9.4.0-1ubuntu1~20.04.2) 9.4.0 Ubuntu 22.04 Kernel: 5.15 Compiler: gcc gcc (Ubuntu 11.4.0-1ubuntu1~22.04) 11.4.0 Ubuntu 24.04 Kernel: 5.15 Compiler: gcc gcc (Ubuntu 13.3.0-6ubuntu2~24.04) 13.3.0 FreeBSD 14.2 Kernel: 14.2-RELEASE Compiler: clang 18.1.6 Alpine Linux 3.22.0 Kernel: 5.15 Compiler: gcc gcc (Alpine 14.2.0) 14.2.0 openSUSE Leap 15.6 Kernel: 5.15 Compiler: gcc gcc (SUSE Linux) 7.5.0 Windows Server 2022 Kernel: 10.0.20348.2031 Compiler: clang 15.0.7, gcc 14.1.0 (MinGW), and MSVC VS 19.39.33521 To view detailed results, visit: https://lab.dpdk.org/results/dashboard/patchsets/34144/ UNH-IOL DPDK Community Lab To manage your email subscriptions, visit: https://lab.dpdk.org/results/dashboard/preferences/subscriptions/