From mboxrd@z Thu Jan 1 00:00:00 1970 Return-Path: Received: from mails.dpdk.org (mails.dpdk.org [217.70.189.124]) by inbox.dpdk.org (Postfix) with ESMTP id 075B946905 for ; Thu, 25 Sep 2025 07:37:21 +0200 (CEST) Received: from mails.dpdk.org (localhost [127.0.0.1]) by mails.dpdk.org (Postfix) with ESMTP id D08D540276; Thu, 25 Sep 2025 07:37:20 +0200 (CEST) Received: from mail-pg1-f225.google.com (mail-pg1-f225.google.com [209.85.215.225]) by mails.dpdk.org (Postfix) with ESMTP id 94CFC40276 for ; Thu, 25 Sep 2025 07:37:19 +0200 (CEST) Received: by mail-pg1-f225.google.com with SMTP id 41be03b00d2f7-b5507d3ccd8so567491a12.0 for ; Wed, 24 Sep 2025 22:37:19 -0700 (PDT) DKIM-Signature: v=1; a=rsa-sha256; c=relaxed/relaxed; d=iol.unh.edu; s=unh-iol; t=1758778638; x=1759383438; darn=dpdk.org; h=references:in-reply-to:cc:to:from:subject:message-id:date:from:to :cc:subject:date:message-id:reply-to; bh=nomUUJQUSoss5ZNrX3bx7rrXlA5JkyhrvPkGdQwjBfI=; b=caEpD2iumTcSEqIQSRk8DGY3ZPt7u5px0MMQPRsK2oToafm2VBpVcWoViAffa1f3jX op74mWcINU6Tfn8uhDwSOjeKVJlOF1tRF0rxdhHc5MIQCui9ht6kVk9kZKM3m/Dw0pFx GDGbWU3V3ENGy+GmrTLFU6p1Snqox+4F1IBNM= X-Google-DKIM-Signature: v=1; a=rsa-sha256; c=relaxed/relaxed; d=1e100.net; s=20230601; t=1758778638; x=1759383438; h=references:in-reply-to:cc:to:from:subject:message-id:date :x-gm-message-state:from:to:cc:subject:date:message-id:reply-to; bh=nomUUJQUSoss5ZNrX3bx7rrXlA5JkyhrvPkGdQwjBfI=; b=VB4U2dcJvEkmG+KKxqSxSBteaLPbHLdAP/jx66G8aNczELdBA6UYqCi8Bh5Zzwi+4F 8NZgacsrgoaFirOzuqU1LqnY/9OVmJNsfHalrFTIkt4i7ejV/g5OTGSwlnWpjFuuuRDf 9UzTe+7+MisXXM4VnWRSMlBG2d/lQWOBIOeJIKdq/MOL/Hf/tvvvxlX9VSaY42r0SAdU E/fi8gkHMGS1QJT4b9zrx4uwv8K7jf8DEKm4u2O4909c+RY1m/bJXg2/iwaV8GWFTBRy QIyaPP+ml6mLfj7CtI9uH+S6J2WOl7fvmYMX38x67xPO1vIIMTUTK586GkNCx3y5JSNT PxeA== X-Gm-Message-State: AOJu0YzqxvY0+//3FBKNLUP6c5076OdNTL9wU/XCyItsqF2/YucBJ4YS AVL0PyrfhZtpKdTQGZqeniXk8JIh53Wuu+HSRgKc/FZu1mRxARpEWoLN9iOsYnHkle8SGd9ycKC dafoF67wHcf0wcfrSQR2oOr1hBTZN04S2ZBBPOtVF/pRbDn3gl2iqvmvjAq9f X-Gm-Gg: ASbGnctdlGKs+UfZsEPV4v4ii/6STyYKxwb9DYDE4YH1u0WUdWDgCNq0NXaUoYCAXgS 7WrF9V02CetFmAH/ppoFGCf8UQyHpSPJLAYJtnxvpE5idwk4NeTFaj0eB8Lc2Tu1d4MKq6kYXWh hhnZ0/TZ0JCe0BhBXgBZAWYRtO6wO/a5+nlrrVEP6UUG0fALppZnYQ0xL4Bxs2Q+yEuVl8Orrs8 tS9eSwzxUVo1NdZ+4NKdZCAYFpeHegmu2nICfl6CkscLWN/DNEn2uywPybiN5kNJu/uPcbx6LgI 8Tx/1ivCr2y65S2CapX4m81hHOjeebro6HJ39Xn0qc5iGto2sw== X-Google-Smtp-Source: AGHT+IEOL7swcDRVQxJ+zxpVSICPtTBM4GKBJWW3BXkMfX/hmxzbxFLOmiPOOaEN2UPPB7uNP3mjTNKjGUm0 X-Received: by 2002:a05:6a21:99a2:b0:2e5:c9ee:96ee with SMTP id adf61e73a8af0-2e7d53bc5bbmr2679414637.37.1758778638641; Wed, 24 Sep 2025 22:37:18 -0700 (PDT) Received: from postal.iol.unh.edu (postal.iol.unh.edu. [2606:4100:3880:1234::84]) by smtp-relay.gmail.com with ESMTPS id 41be03b00d2f7-b57c55d9ef9sm49678a12.19.2025.09.24.22.37.18 (version=TLS1_2 cipher=ECDHE-ECDSA-AES128-GCM-SHA256 bits=128/128); Wed, 24 Sep 2025 22:37:18 -0700 (PDT) X-Relaying-Domain: iol.unh.edu Date: Wed, 24 Sep 2025 22:37:18 -0700 (PDT) Message-ID: <68d4d50e.630a0220.2a6536.3553SMTPIN_ADDED_MISSING@mx.google.com> Received: from [172.21.0.2] (unknown [172.18.0.240]) by postal.iol.unh.edu (Postfix) with ESMTP id E1F836051830; Thu, 25 Sep 2025 01:37:17 -0400 (EDT) Subject: |SUCCESS| pw156916-156922 [PATCH] [v3,7/7] power: separate public an From: dpdklab@iol.unh.edu To: Test Report Cc: dpdk-test-reports@iol.unh.edu In-Reply-To: <20250924172536.2447183-8-david.marchand@redhat.com> References: <20250924172536.2447183-8-david.marchand@redhat.com> Content-Type: text/plain X-BeenThere: test-report@dpdk.org X-Mailman-Version: 2.1.29 Precedence: list List-Id: automatic DPDK test reports List-Unsubscribe: , List-Archive: List-Post: List-Help: List-Subscribe: , Errors-To: test-report-bounces@dpdk.org Test-Label: iol-compile-arm64-testing Test-Status: SUCCESS http://dpdk.org/patch/156922 _Testing PASS_ Submitter: David Marchand Date: Wednesday, September 24 2025 17:25:35 DPDK git baseline: Repo:dpdk Branch: master CommitID:441861b4a30e6b6b6aca07367dd487657b1f50e8 156916-156922 --> testing pass Upstream job id: Generic-DPDK-Compile-Meson#428302 Test environment and result as below: +------------------------------+--------------------+ | Environment | dpdk_meson_compile | +==============================+====================+ | Red Hat Enterprise Linux 9.5 | PASS | +------------------------------+--------------------+ | Ubuntu 20.04 | PASS | +------------------------------+--------------------+ | Fedora Linux 42 | PASS | +------------------------------+--------------------+ | Debian GNU/Linux 12 | PASS | +------------------------------+--------------------+ | Ubuntu 22.04 | PASS | +------------------------------+--------------------+ | Ubuntu 24.04 | PASS | +------------------------------+--------------------+ | CentOS Stream 9 | PASS | +------------------------------+--------------------+ | CentOS Stream 10 | PASS | +------------------------------+--------------------+ Red Hat Enterprise Linux 9.5 Kernel: 5.4 Compiler: gcc gcc (GCC) 11.5.0 20240719 (Red Hat 11.5.0-2) Ubuntu 20.04 Kernel: 5.15 Compiler: aarch64-linux-gnu-gcc gcc (Ubuntu 9.4.0-1ubuntu1~20.04.2) 9.4.0 Fedora Linux 42 Kernel: 5.4 Compiler: gcc gcc (GCC) 15.2.1 20250808 (Red Hat 15.2.1-1) Debian GNU/Linux 12 Kernel: 5.4 Compiler: gcc gcc (Debian 12.2.0-14+deb12u1) 12.2.0 Ubuntu 22.04 Kernel: 5.4 Compiler: gcc gcc (Ubuntu 11.4.0-1ubuntu1~22.04) 11.4.0 Ubuntu 24.04 Kernel: 5.4 Compiler: gcc gcc (Ubuntu 13.3.0-6ubuntu2~24.04) 13.3.0 CentOS Stream 9 Kernel: 5.4 Compiler: gcc gcc (GCC) 11.5.0 20240719 (Red Hat 11.5.0-11) CentOS Stream 10 Kernel: 5.4 Compiler: gcc gcc (GCC) 14.2.1 20250110 (Red Hat 14.2.1-8) To view detailed results, visit: https://lab.dpdk.org/results/dashboard/patchsets/34142/ UNH-IOL DPDK Community Lab To manage your email subscriptions, visit: https://lab.dpdk.org/results/dashboard/preferences/subscriptions/