From mboxrd@z Thu Jan 1 00:00:00 1970 Return-Path: Received: from mails.dpdk.org (mails.dpdk.org [217.70.189.124]) by inbox.dpdk.org (Postfix) with ESMTP id 87D3846905 for ; Thu, 25 Sep 2025 07:42:04 +0200 (CEST) Received: from mails.dpdk.org (localhost [127.0.0.1]) by mails.dpdk.org (Postfix) with ESMTP id 7F7B140276; Thu, 25 Sep 2025 07:42:04 +0200 (CEST) Received: from mail-vs1-f99.google.com (mail-vs1-f99.google.com [209.85.217.99]) by mails.dpdk.org (Postfix) with ESMTP id 0470D40276 for ; Thu, 25 Sep 2025 07:42:03 +0200 (CEST) Received: by mail-vs1-f99.google.com with SMTP id ada2fe7eead31-5a46c3b3a5bso268265137.0 for ; Wed, 24 Sep 2025 22:42:02 -0700 (PDT) DKIM-Signature: v=1; a=rsa-sha256; c=relaxed/relaxed; d=iol.unh.edu; s=unh-iol; t=1758778922; x=1759383722; darn=dpdk.org; h=cc:to:from:subject:message-id:date:from:to:cc:subject:date :message-id:reply-to; bh=xtvrRV6phckM/PiwS//27iLyQhmljJ2fxoAERGC7xS4=; b=XUXwkcae9zpvUajD5ArFI8ajZIT3FuuRgXcwdht4bnX1r73B02xFF2ZZlbIB8oS/8q YyZ4VywiQCer9HKe8gCZmdMAph0rJHl/qO0RQOYIAB0P8xuMN/pbRrYBPK4DT+idfNrv QUx10HxCWjiz2kRm8br/quR4yl60sLhGKbIn8= X-Google-DKIM-Signature: v=1; a=rsa-sha256; c=relaxed/relaxed; d=1e100.net; s=20230601; t=1758778922; x=1759383722; h=cc:to:from:subject:message-id:date:x-gm-message-state:from:to:cc :subject:date:message-id:reply-to; bh=xtvrRV6phckM/PiwS//27iLyQhmljJ2fxoAERGC7xS4=; b=dHNS+xmBuo2fjqEPpKj4u9tUdwKJtNN00fDD9v6KqBbZQhv1iEVgEG7h0BlLdzGwCG UDVaX9J1DAM8+yL2Iwngdka8QuwCDPFKYAE33xom0/mogVJgjbMBcmEsypkitnHF47cn 2szFS9liNOejnUPNfatOxuVrUx50tAVFLwwJoHLs0SEPiPMs4YMY/7sIo9enjhZ0DT8S A+fhWY1JMO2KERkePfVaOit6wOmqgK6SLirVZqOsD9yl8y+z0BtUoTmgW0Y/kzqCbHGQ 3bkQCQjKC93LI8ok8XurznUylBc6NLRFBSnpLLtmdC50DAJXgYsOaN/t2MKoxB5SNW7g Mbuw== X-Gm-Message-State: AOJu0YzdfRywaG2m8LeSrVHxSpCzgTplp9Z0+GfC3SkSoE9l3jHcu5/q k9wYsvaVN6US5e5ZS1KUmYR9CtDFWhvwjUbIByltWvrrBe9KllQLQWcTan/kdAPUANrD7P3Sa+H 7Vyj0apcIbUt8mk7E8k1hY91UOJlWZ2s111Ouy13x2Jvo8HPCz3mF X-Gm-Gg: ASbGncvk3Tt7ins8I4OxA8GAyBYPRK6goF2oco8+apSVZwh+TAUnGP7lV8At5Lg+ysT 6lsREvyjhenD/faZbbxr/4hZ3JIGgPCbcTadOq14MgfG+GloGndqPhBnOHJK/zKQLsxfcVzDsnj yy/LmnSV6hdIR4h6QT86+eQzEXSqoFQ+/dPhLQ1JThFTauDiL6+YJuEJGe5oJQ1ufIjr40SWJLZ FIkPVAcw4pvBjdel7B4FzMNgWiryIYET8CRCb2hpOOtQnL65oVOs38AnjXr/tAfp9+HU7udx2xI VKTn6gVDm5QoJcDo/ePXzVj32tvX33I2dwmTZ9X0ot5jms0g4g== X-Google-Smtp-Source: AGHT+IFdQzscnEE8bQqGwnZrQSNphwwCCZNadSrlaNnQaZxPBBIpx/YdSjeblTTC7m/wc+vDsIN1LEMxOXp0 X-Received: by 2002:a05:6102:1611:b0:59e:a2d5:2949 with SMTP id ada2fe7eead31-5acd046d819mr953993137.28.1758778922341; Wed, 24 Sep 2025 22:42:02 -0700 (PDT) Received: from postal.iol.unh.edu (postal.iol.unh.edu. [2606:4100:3880:1234::84]) by smtp-relay.gmail.com with ESMTPS id ada2fe7eead31-5ae302f2b7csm85373137.1.2025.09.24.22.42.02 (version=TLS1_2 cipher=ECDHE-ECDSA-AES128-GCM-SHA256 bits=128/128); Wed, 24 Sep 2025 22:42:02 -0700 (PDT) X-Relaying-Domain: iol.unh.edu Date: Wed, 24 Sep 2025 22:42:02 -0700 (PDT) Message-ID: <68d4d62a.050a0220.16637c.5c92SMTPIN_ADDED_MISSING@mx.google.com> Received: from [172.21.0.2] (unknown [172.18.0.240]) by postal.iol.unh.edu (Postfix) with ESMTP id C88CD6051830; Thu, 25 Sep 2025 01:42:01 -0400 (EDT) Subject: |SUCCESS| [GIT MASTER] b287e404643aeab5bb5db084c142789df187844e From: dpdklab@iol.unh.edu To: Test Report Cc: dpdk-test-reports@iol.unh.edu, Xueming Li , Christian Ehrhardt , Kevin Traynor , Luca Boccassi Content-Type: text/plain X-BeenThere: test-report@dpdk.org X-Mailman-Version: 2.1.29 Precedence: list List-Id: automatic DPDK test reports List-Unsubscribe: , List-Archive: List-Post: List-Help: List-Subscribe: , Errors-To: test-report-bounces@dpdk.org _Testing PASS_ Branch: tags/v24.11 b287e404643aeab5bb5db084c142789df187844e --> testing pass Upstream job id: Generic-DPDK-Compile-Meson#428394 Test environment and result as below: +-------------------------------+--------------------+------------------+-------------------+-------------------+-------------------------+----------------------+ | Environment | dpdk_meson_compile | dpdk_compile_ovs | dpdk_compile_spdk | dpdk_msvc_compile | dpdk_llvm_clang_compile | dpdk_mingw64_compile | +===============================+====================+==================+===================+===================+=========================+======================+ | Fedora Linux 42 | PASS | PASS | PASS | SKIPPED | SKIPPED | SKIPPED | +-------------------------------+--------------------+------------------+-------------------+-------------------+-------------------------+----------------------+ | FreeBSD 14.2 | PASS | SKIPPED | SKIPPED | SKIPPED | SKIPPED | SKIPPED | +-------------------------------+--------------------+------------------+-------------------+-------------------+-------------------------+----------------------+ | CentOS Stream 10 | PASS | SKIPPED | SKIPPED | SKIPPED | SKIPPED | SKIPPED | +-------------------------------+--------------------+------------------+-------------------+-------------------+-------------------------+----------------------+ | CentOS Stream 9 | PASS | SKIPPED | PASS | SKIPPED | SKIPPED | SKIPPED | +-------------------------------+--------------------+------------------+-------------------+-------------------+-------------------------+----------------------+ | Debian GNU/Linux 12 | PASS | SKIPPED | PASS | SKIPPED | SKIPPED | SKIPPED | +-------------------------------+--------------------+------------------+-------------------+-------------------+-------------------------+----------------------+ | openSUSE Leap 15.6 | PASS | SKIPPED | SKIPPED | SKIPPED | SKIPPED | SKIPPED | +-------------------------------+--------------------+------------------+-------------------+-------------------+-------------------------+----------------------+ | Red Hat Enterprise Linux 8.10 | PASS | SKIPPED | SKIPPED | SKIPPED | SKIPPED | SKIPPED | +-------------------------------+--------------------+------------------+-------------------+-------------------+-------------------------+----------------------+ | Red Hat Enterprise Linux 9.5 | PASS | SKIPPED | SKIPPED | SKIPPED | SKIPPED | SKIPPED | +-------------------------------+--------------------+------------------+-------------------+-------------------+-------------------------+----------------------+ | Ubuntu 20.04 | PASS | SKIPPED | SKIPPED | SKIPPED | SKIPPED | SKIPPED | +-------------------------------+--------------------+------------------+-------------------+-------------------+-------------------------+----------------------+ | Alpine Linux 3.22.0 | PASS | SKIPPED | SKIPPED | SKIPPED | SKIPPED | SKIPPED | +-------------------------------+--------------------+------------------+-------------------+-------------------+-------------------------+----------------------+ | Ubuntu 24.04 | PASS | PASS | PASS | SKIPPED | SKIPPED | SKIPPED | +-------------------------------+--------------------+------------------+-------------------+-------------------+-------------------------+----------------------+ | Ubuntu 22.04 | PASS | SKIPPED | PASS | SKIPPED | SKIPPED | SKIPPED | +-------------------------------+--------------------+------------------+-------------------+-------------------+-------------------------+----------------------+ | Windows Server 2022 | SKIPPED | SKIPPED | SKIPPED | PASS | PASS | PASS | +-------------------------------+--------------------+------------------+-------------------+-------------------+-------------------------+----------------------+ Fedora Linux 42 Kernel: 5.15 Compiler: gcc gcc (GCC) 15.2.1 20250808 (Red Hat 15.2.1-1) FreeBSD 14.2 Kernel: 14.2-RELEASE Compiler: clang 18.1.6 CentOS Stream 10 Kernel: 5.15 Compiler: gcc gcc (GCC) 14.2.1 20250110 (Red Hat 14.2.1-8) CentOS Stream 9 Kernel: 5.15 Compiler: gcc gcc (GCC) 11.5.0 20240719 (Red Hat 11.5.0-11) Debian GNU/Linux 12 Kernel: 5.15 Compiler: gcc gcc (Debian 12.2.0-14+deb12u1) 12.2.0 openSUSE Leap 15.6 Kernel: 5.15 Compiler: gcc gcc (SUSE Linux) 7.5.0 Red Hat Enterprise Linux 8.10 Kernel: 5.15 Compiler: gcc gcc (GCC) 8.5.0 20210514 (Red Hat 8.5.0-22) Red Hat Enterprise Linux 9.5 Kernel: 5.15 Compiler: gcc gcc (GCC) 11.5.0 20240719 (Red Hat 11.5.0-2) Ubuntu 20.04 Kernel: 5.15 Compiler: gcc gcc (Ubuntu 9.4.0-1ubuntu1~20.04.2) 9.4.0 Alpine Linux 3.22.0 Kernel: 5.15 Compiler: gcc gcc (Alpine 14.2.0) 14.2.0 Ubuntu 24.04 Kernel: 5.15 Compiler: gcc gcc (Ubuntu 13.3.0-6ubuntu2~24.04) 13.3.0 Ubuntu 22.04 Kernel: 5.15 Compiler: gcc gcc (Ubuntu 11.4.0-1ubuntu1~22.04) 11.4.0 Windows Server 2022 Kernel: 10.0.20348.2031 Compiler: clang 15.0.7, gcc 14.1.0 (MinGW), and MSVC VS 19.39.33521 To view detailed results, visit: https://lab.dpdk.org/results/dashboard/tarballs/34995/ UNH-IOL DPDK Community Lab To manage your email subscriptions, visit: https://lab.dpdk.org/results/dashboard/preferences/subscriptions/