From mboxrd@z Thu Jan 1 00:00:00 1970 Return-Path: Received: from mails.dpdk.org (mails.dpdk.org [217.70.189.124]) by inbox.dpdk.org (Postfix) with ESMTP id 1225746905 for ; Thu, 25 Sep 2025 07:46:34 +0200 (CEST) Received: from mails.dpdk.org (localhost [127.0.0.1]) by mails.dpdk.org (Postfix) with ESMTP id E277140276; Thu, 25 Sep 2025 07:46:33 +0200 (CEST) Received: from mail-il1-f226.google.com (mail-il1-f226.google.com [209.85.166.226]) by mails.dpdk.org (Postfix) with ESMTP id 356A440276 for ; Thu, 25 Sep 2025 07:46:33 +0200 (CEST) Received: by mail-il1-f226.google.com with SMTP id e9e14a558f8ab-4248a13fbe9so2951555ab.1 for ; Wed, 24 Sep 2025 22:46:33 -0700 (PDT) DKIM-Signature: v=1; a=rsa-sha256; c=relaxed/relaxed; d=iol.unh.edu; s=unh-iol; t=1758779192; x=1759383992; darn=dpdk.org; h=cc:to:from:subject:message-id:date:from:to:cc:subject:date :message-id:reply-to; bh=C/yKM/5F+/HtG1LDm9sdXvGIVZ4jViU38Qm5Ck9D6AQ=; b=NAAYW1wrw5BOdsUQPChbMQZk8OcEec+NLvtOSrg7pd2e7npGfsfmmxLhBVnjf69O9z oWoFFy2+nQOzWa+o5VaNie5lV5bvVscHbNe+CdusLff5II9+BSFeM3EIeHQXwmaC0FEA 0qLpQoXiaYzlVYJuyF+hA5WXqKqMejCi+vGhc= X-Google-DKIM-Signature: v=1; a=rsa-sha256; c=relaxed/relaxed; d=1e100.net; s=20230601; t=1758779192; x=1759383992; h=cc:to:from:subject:message-id:date:x-gm-message-state:from:to:cc :subject:date:message-id:reply-to; bh=C/yKM/5F+/HtG1LDm9sdXvGIVZ4jViU38Qm5Ck9D6AQ=; b=FRlJHTsHS7ngX/P0eqfgrPW5he9jSsipj206yWmyfUuPOzAsBTrNc+bt5apxKrG5ta eEDUVB3XFvEqWDaS7+xIai1IoR+/7NfqIUsY3vhrVyXemeYtPJD+qTrVo+CG+5mQUEND yTKWrxbDsKKsmLwcOMIbT8AyVeB6RaHjdBxRi1uKRja9KHfYJTOOWLp9mCShuX76oTSf Whz3V4Hyz+tqGw+2h+DQuTbdHsY2VkfpbrXa3TF9HQ93m71FZFZem7oZP6I+2nahA43t /xijZPAKpRgRbXLK+PywA0FcNe72RlGBNfXhS2qpYP46DoK08UgSm5ySc7KueWE6m+F/ dUJQ== X-Gm-Message-State: AOJu0YxhMedARPUNgyUfaq7GcGlvWunSUd1YQDgXEDSj4DfwkGvtALpj /p6QdPH5dYZIOg/B9uzEWwjXyAPLJqSVQkRXE8F4a/w8TMo2GLnmiQp8EZpTTQC1Z98Ys5FsAqG s86KPzIHlTRePmGSkjFap/+dDJeEjC0173g+V X-Gm-Gg: ASbGnct7UQAKJ9ErwuMRBKQNq0dRaDVDkkd+3StkkZulMsnMs/3+fcJbuTz4/f8sl/t Y4OojE1UN2DKfTG7e7yg5PdwIEo6UCkxsMd0oGJuNOoUdSPpb10xMlvZOuPhaKuWWtAyJhBw74f 6y44hzkLtX/SU180UUhSAU0D5vQu1Qr06pghGucuvUZuxMEhIJ5d7nNmf29g41rRbaa3PRqvuhJ jW/04lGdZ2EZc4n/nV9t0trBvhHDO/1VefnaEcno1TpZCiU8V/HoLJK65NEQjV/4wHkhVEjhGwW AqhWmKiBVk85Ty1PObeADDkJbSx9aTrxeKhqX2N4c9e9wh4qhYv4Q/GaXmGTuit9Bg19Uc3s X-Google-Smtp-Source: AGHT+IF4EVfk0cgDUiBsqjNh+1Qdg9cb5mc8u91WXt5OpyRkHKqJgGqR4Ux3QCFktp3okg6DLjM1yw+EtHUj X-Received: by 2002:a92:db07:0:b0:425:7481:cc9 with SMTP id e9e14a558f8ab-42595644b72mr24118805ab.24.1758779192382; Wed, 24 Sep 2025 22:46:32 -0700 (PDT) Received: from postal.iol.unh.edu (postal.iol.unh.edu. [132.177.123.84]) by smtp-relay.gmail.com with ESMTPS id e9e14a558f8ab-425bc0b5878sm665075ab.12.2025.09.24.22.46.32 (version=TLS1_2 cipher=ECDHE-ECDSA-AES128-GCM-SHA256 bits=128/128); Wed, 24 Sep 2025 22:46:32 -0700 (PDT) X-Relaying-Domain: iol.unh.edu Date: Wed, 24 Sep 2025 22:46:32 -0700 (PDT) Message-ID: <68d4d738.920a0220.7b2b.44edSMTPIN_ADDED_MISSING@mx.google.com> Received: from [172.21.0.2] (unknown [172.18.0.240]) by postal.iol.unh.edu (Postfix) with ESMTP id E844A6051830; Thu, 25 Sep 2025 01:46:31 -0400 (EDT) Subject: |SUCCESS| [GIT MASTER] b287e404643aeab5bb5db084c142789df187844e From: dpdklab@iol.unh.edu To: Test Report Cc: dpdk-test-reports@iol.unh.edu, Xueming Li , Christian Ehrhardt , Kevin Traynor , Luca Boccassi Content-Type: text/plain X-BeenThere: test-report@dpdk.org X-Mailman-Version: 2.1.29 Precedence: list List-Id: automatic DPDK test reports List-Unsubscribe: , List-Archive: List-Post: List-Help: List-Subscribe: , Errors-To: test-report-bounces@dpdk.org _Testing PASS_ Branch: tags/v24.11 b287e404643aeab5bb5db084c142789df187844e --> testing pass Upstream job id: Generic-Unit-Test-DPDK#374808 Test environment and result as below: +-------------------------------+----------------+ | Environment | dpdk_unit_test | +===============================+================+ | CentOS Stream 9 | PASS | +-------------------------------+----------------+ | CentOS Stream 10 | PASS | +-------------------------------+----------------+ | Fedora Linux 40 | PASS | +-------------------------------+----------------+ | Debian GNU/Linux 12 | PASS | +-------------------------------+----------------+ | Fedora Linux 41 | PASS | +-------------------------------+----------------+ | Red Hat Enterprise Linux 8.10 | PASS | +-------------------------------+----------------+ | Red Hat Enterprise Linux 9.5 | PASS | +-------------------------------+----------------+ | Fedora Linux 42 | PASS | +-------------------------------+----------------+ | Ubuntu 22.04 | PASS | +-------------------------------+----------------+ | Ubuntu 20.04 | PASS | +-------------------------------+----------------+ | Ubuntu 24.04 | PASS | +-------------------------------+----------------+ | Windows Server 2022 | PASS | +-------------------------------+----------------+ CentOS Stream 9 Kernel: 5.15 Compiler: gcc gcc (GCC) 11.5.0 20240719 (Red Hat 11.5.0-11) CentOS Stream 10 Kernel: 5.15 Compiler: gcc gcc (GCC) 14.2.1 20250110 (Red Hat 14.2.1-8) Fedora Linux 40 Kernel: 5.15 Compiler: gcc gcc (GCC) 14.2.1 20240912 (Red Hat 14.2.1-3) Debian GNU/Linux 12 Kernel: 5.15 Compiler: gcc gcc (Debian 12.2.0-14+deb12u1) 12.2.0 Fedora Linux 41 Kernel: 5.15 Compiler: clang gcc (GCC) 14.3.1 20250523 (Red Hat 14.3.1-1) Red Hat Enterprise Linux 8.10 Kernel: 5.15 Compiler: gcc gcc (GCC) 8.5.0 20210514 (Red Hat 8.5.0-22) Red Hat Enterprise Linux 9.5 Kernel: 5.15 Compiler: gcc gcc (GCC) 11.5.0 20240719 (Red Hat 11.5.0-2) Fedora Linux 42 Kernel: 5.15 Compiler: gcc gcc (GCC) 15.2.1 20250808 (Red Hat 15.2.1-1) Ubuntu 22.04 Kernel: 5.15 Compiler: gcc gcc (Ubuntu 11.4.0-1ubuntu1~22.04) 11.4.0 Ubuntu 20.04 Kernel: 5.15 Compiler: gcc gcc (Ubuntu 9.4.0-1ubuntu1~20.04.2) 9.4.0 Ubuntu 24.04 Kernel: 5.15 Compiler: gcc gcc (Ubuntu 13.3.0-6ubuntu2~24.04) 13.3.0 Windows Server 2022 Kernel: 10.0.20348.2031 Compiler: clang 15.0.7, gcc 14.1.0 (MinGW), and MSVC VS 19.39.33521 To view detailed results, visit: https://lab.dpdk.org/results/dashboard/tarballs/34995/ UNH-IOL DPDK Community Lab To manage your email subscriptions, visit: https://lab.dpdk.org/results/dashboard/preferences/subscriptions/