From mboxrd@z Thu Jan 1 00:00:00 1970 Return-Path: Received: from mails.dpdk.org (mails.dpdk.org [217.70.189.124]) by inbox.dpdk.org (Postfix) with ESMTP id A7C9646905 for ; Thu, 25 Sep 2025 07:53:52 +0200 (CEST) Received: from mails.dpdk.org (localhost [127.0.0.1]) by mails.dpdk.org (Postfix) with ESMTP id A088B40276; Thu, 25 Sep 2025 07:53:52 +0200 (CEST) Received: from mail-oa1-f100.google.com (mail-oa1-f100.google.com [209.85.160.100]) by mails.dpdk.org (Postfix) with ESMTP id 7426640276 for ; Thu, 25 Sep 2025 07:53:51 +0200 (CEST) Received: by mail-oa1-f100.google.com with SMTP id 586e51a60fabf-364bd7cce53so158649fac.3 for ; Wed, 24 Sep 2025 22:53:51 -0700 (PDT) DKIM-Signature: v=1; a=rsa-sha256; c=relaxed/relaxed; d=iol.unh.edu; s=unh-iol; t=1758779631; x=1759384431; darn=dpdk.org; h=cc:to:from:subject:message-id:date:from:to:cc:subject:date :message-id:reply-to; bh=k0wQHLeBG8FQhpaWxAKOMQNOmO77lzUXApXk15/dvjs=; b=XZj7iNNgbwl4yeuZ742jTExMn9yGpETje9dzg+9wnGTSF99ghMuuB+Fac7ZUnrVqTV QEld7WSOJwUbscj2WC3/Q2XQP55CfdkVVGtI8FMizNRNZWqg3M9WQmDucRc7ykOVIe19 FyiTNREJ9cL1pi5fAuD6ntX1ObjSyWjpFSHnY= X-Google-DKIM-Signature: v=1; a=rsa-sha256; c=relaxed/relaxed; d=1e100.net; s=20230601; t=1758779631; x=1759384431; h=cc:to:from:subject:message-id:date:x-gm-message-state:from:to:cc :subject:date:message-id:reply-to; bh=k0wQHLeBG8FQhpaWxAKOMQNOmO77lzUXApXk15/dvjs=; b=E8Zkru7oyw7ZLMLQLMsAD4z0HBF/OdB+CHQSElZ91Ee3tEHCB5jZOeXHNHGDW/GHz4 ibOzoCM4tFvZvNCMOUHsGFgMPn4B+L9DgYYO1QvG8CmDI+7wOP7qfTDTCZYwHwTZKs5g vaKBI9dYqa8f3afO02gksRlRO7Q4saVPpL3p6hPYmGaWJr7bf+OmnR4z28mxCs/NYPDs Ju1nlKILBkl0juj0lu67WgWdpKfRyzVR3RSwPSVMnh0maDPlzwCAbG2rx8P1vjLohfXS rijDF2frQCBitP7TmQ4C+PWuiWU85RdhXJMlijuctA9r/egIni9mhPFvKGahF1R9K7Z0 q6Pw== X-Gm-Message-State: AOJu0YxJ1sFqFImwih4EfjJ0t/CT+7BBXL9N6l6LxBqVWkHEA5rKcZqK dU33DRCMl6xr0TlHqukUuFZf2t19QpsdcRy3krMv9qM57VyrZceF0KiSRPz682FKSAouGOuQsZm SI4xggKl+DXYBC5fNFq254dVCP4WWzCweBpq0/G1E0qxe+mEXaIKJ X-Gm-Gg: ASbGncsQAXGt7oLcoz1atRFVsheBNmYYmVIhfTM9hMQI48CmT/EtBlxrjZMOh3Krj+r PF6n0CiQ9A0u5v74uMnLG5hDJrjb6XvIwa3sY4Z929fD91nLJBiXMWCMR9iUmj7Y5Pk9h0+dQMx PpbCV4ZN+PRIWOHkH25kTMaY4cNLXUlt8bhO1bCg5UR4gJdchieVQmUddpcpUpoESr+keYs3Whu 878zR/Ng7Kdy7jrqWhno/LqHfC3uCasAeCbQEE9NbUYnF1GfVi5dGaLtxEjS/b5f9Falx4Mym9M SSvvSaN6scaPW7//Jw1XtvEqqjlFfNA4xlj0naUuVCP+5MdfFw== X-Google-Smtp-Source: AGHT+IFz8e6seYd5KMoIkoSx5DC9qcoFk0Zc9gHSUc4MGL6L5VhCW5MJ7TExgrYmzzPVtroQqLKgASEkIP1b X-Received: by 2002:a05:6870:332b:b0:35c:e005:cf16 with SMTP id 586e51a60fabf-35ec2095561mr1053616fac.22.1758779630635; Wed, 24 Sep 2025 22:53:50 -0700 (PDT) Received: from postal.iol.unh.edu (postal.iol.unh.edu. [2606:4100:3880:1234::84]) by smtp-relay.gmail.com with ESMTPS id 586e51a60fabf-363b77d2d21sm69393fac.20.2025.09.24.22.53.50 (version=TLS1_2 cipher=ECDHE-ECDSA-AES128-GCM-SHA256 bits=128/128); Wed, 24 Sep 2025 22:53:50 -0700 (PDT) X-Relaying-Domain: iol.unh.edu Date: Wed, 24 Sep 2025 22:53:50 -0700 (PDT) Message-ID: <68d4d8ee.050a0220.dd10d.4af9SMTPIN_ADDED_MISSING@mx.google.com> Received: from [172.21.0.3] (unknown [172.18.0.240]) by postal.iol.unh.edu (Postfix) with ESMTP id 28A746051830; Thu, 25 Sep 2025 01:53:50 -0400 (EDT) Subject: |SUCCESS| [GIT MASTER] 3b43ce3f4a54468e7ef65760c2fd7b4d6ee6d9fc From: dpdklab@iol.unh.edu To: Test Report Cc: dpdk-test-reports@iol.unh.edu, Xueming Li , Christian Ehrhardt , Kevin Traynor , Luca Boccassi Content-Type: text/plain X-BeenThere: test-report@dpdk.org X-Mailman-Version: 2.1.29 Precedence: list List-Id: automatic DPDK test reports List-Unsubscribe: , List-Archive: List-Post: List-Help: List-Subscribe: , Errors-To: test-report-bounces@dpdk.org _Testing PASS_ Branch: tags/v22.11 3b43ce3f4a54468e7ef65760c2fd7b4d6ee6d9fc --> testing pass Upstream job id: Generic-DPDK-Compile-Meson#428418 Test environment and result as below: +-------------------------------+--------------------+-------------------------+----------------------+ | Environment | dpdk_meson_compile | dpdk_llvm_clang_compile | dpdk_mingw64_compile | +===============================+====================+=========================+======================+ | CentOS Stream 9 | PASS | SKIPPED | SKIPPED | +-------------------------------+--------------------+-------------------------+----------------------+ | Debian GNU/Linux 12 | PASS | SKIPPED | SKIPPED | +-------------------------------+--------------------+-------------------------+----------------------+ | CentOS Stream 10 | PASS | SKIPPED | SKIPPED | +-------------------------------+--------------------+-------------------------+----------------------+ | Fedora Linux 42 | PASS | SKIPPED | SKIPPED | +-------------------------------+--------------------+-------------------------+----------------------+ | openSUSE Leap 15.6 | PASS | SKIPPED | SKIPPED | +-------------------------------+--------------------+-------------------------+----------------------+ | Red Hat Enterprise Linux 8.10 | PASS | SKIPPED | SKIPPED | +-------------------------------+--------------------+-------------------------+----------------------+ | Red Hat Enterprise Linux 9.5 | PASS | SKIPPED | SKIPPED | +-------------------------------+--------------------+-------------------------+----------------------+ | Ubuntu 20.04 | PASS | SKIPPED | SKIPPED | +-------------------------------+--------------------+-------------------------+----------------------+ | Ubuntu 22.04 | PASS | SKIPPED | SKIPPED | +-------------------------------+--------------------+-------------------------+----------------------+ | Ubuntu 24.04 | PASS | SKIPPED | SKIPPED | +-------------------------------+--------------------+-------------------------+----------------------+ | FreeBSD 14.2 | PASS | SKIPPED | SKIPPED | +-------------------------------+--------------------+-------------------------+----------------------+ | Windows Server 2022 | SKIPPED | PASS | PASS | +-------------------------------+--------------------+-------------------------+----------------------+ CentOS Stream 9 Kernel: 5.15 Compiler: gcc gcc (GCC) 11.5.0 20240719 (Red Hat 11.5.0-11) Debian GNU/Linux 12 Kernel: 5.15 Compiler: gcc gcc (Debian 12.2.0-14+deb12u1) 12.2.0 CentOS Stream 10 Kernel: 5.15 Compiler: gcc gcc (GCC) 14.2.1 20250110 (Red Hat 14.2.1-8) Fedora Linux 42 Kernel: 5.15 Compiler: clang gcc (GCC) 15.2.1 20250808 (Red Hat 15.2.1-1) openSUSE Leap 15.6 Kernel: 5.15 Compiler: gcc gcc (SUSE Linux) 7.5.0 Red Hat Enterprise Linux 8.10 Kernel: 5.15 Compiler: gcc gcc (GCC) 8.5.0 20210514 (Red Hat 8.5.0-22) Red Hat Enterprise Linux 9.5 Kernel: 5.15 Compiler: gcc gcc (GCC) 11.5.0 20240719 (Red Hat 11.5.0-2) Ubuntu 20.04 Kernel: 5.15 Compiler: gcc gcc (Ubuntu 9.4.0-1ubuntu1~20.04.2) 9.4.0 Ubuntu 22.04 Kernel: 5.15 Compiler: gcc gcc (Ubuntu 11.4.0-1ubuntu1~22.04) 11.4.0 Ubuntu 24.04 Kernel: 5.15 Compiler: gcc gcc (Ubuntu 13.3.0-6ubuntu2~24.04) 13.3.0 FreeBSD 14.2 Kernel: 14.2-RELEASE Compiler: clang 18.1.6 Windows Server 2022 Kernel: 10.0.20348.2031 Compiler: clang 15.0.7, gcc 14.1.0 (MinGW), and MSVC VS 19.39.33521 To view detailed results, visit: https://lab.dpdk.org/results/dashboard/tarballs/34994/ UNH-IOL DPDK Community Lab To manage your email subscriptions, visit: https://lab.dpdk.org/results/dashboard/preferences/subscriptions/