From mboxrd@z Thu Jan 1 00:00:00 1970 Return-Path: Received: from mails.dpdk.org (mails.dpdk.org [217.70.189.124]) by inbox.dpdk.org (Postfix) with ESMTP id 4797246F6A for ; Thu, 25 Sep 2025 08:57:43 +0200 (CEST) Received: from mails.dpdk.org (localhost [127.0.0.1]) by mails.dpdk.org (Postfix) with ESMTP id 312CE40276; Thu, 25 Sep 2025 08:57:43 +0200 (CEST) Received: from mail-qv1-f99.google.com (mail-qv1-f99.google.com [209.85.219.99]) by mails.dpdk.org (Postfix) with ESMTP id A816340276 for ; Thu, 25 Sep 2025 08:57:41 +0200 (CEST) Received: by mail-qv1-f99.google.com with SMTP id 6a1803df08f44-79599d65f75so4605856d6.2 for ; Wed, 24 Sep 2025 23:57:41 -0700 (PDT) DKIM-Signature: v=1; a=rsa-sha256; c=relaxed/relaxed; d=iol.unh.edu; s=unh-iol; t=1758783461; x=1759388261; darn=dpdk.org; h=references:in-reply-to:cc:to:from:subject:message-id:date:from:to :cc:subject:date:message-id:reply-to; bh=/Pf09XKwqaqwUR+qVPoLuO18mw6E3KIGBYfO40JwDKc=; b=ZRvaCMDxwXEH5/56+sy/rfycYuOnFY9Vd8YUBylvo8WbTqvRIXnsDTlKY7X5eRXapG Nbo/BXSCuKCjWwgLEVbZSN837n/yubRqRnD9g5WlPjRJPN8OnDnFx86ToekZFRIqxfiz AkNJ7Vc3/rmx4KAUhv7tebMfVfYbzBIAh1OnI= X-Google-DKIM-Signature: v=1; a=rsa-sha256; c=relaxed/relaxed; d=1e100.net; s=20230601; t=1758783461; x=1759388261; h=references:in-reply-to:cc:to:from:subject:message-id:date :x-gm-message-state:from:to:cc:subject:date:message-id:reply-to; bh=/Pf09XKwqaqwUR+qVPoLuO18mw6E3KIGBYfO40JwDKc=; b=q/ziVEUtozcEVCTcDlRLy+HGFrwgh5ASj0mpc9CAGOa+pv84m7wQZYyhDydQLgfnTt lRy581nrV02fhriVGCyKx/w5+Q7eLa8ClN7tdeCxATLB9YdsqyBWr9mP4DiuQbXQCc5S 6kYamFIF4gI040u+Ipb3dbiZgtSOBJqGP0sFHdWmMmIQenjx63quZR+9k5QE3CucmjRc R6U4FbqTOhWqavQ6Nzd/6EOo0VZR+fQT6urG1Bdbt0+YO8k+mMeWgSuGWmldPERRPicw oKfHIoKBLzgtF2ojVMftQPoAdj8Z3b5MymsEAKddmrIt0+S/Kof7dz63AG1NP83zIcap EtDg== X-Gm-Message-State: AOJu0YzTUtSOXtECNzI1seEAi1TihKxAGelg9aUPyZanqDmM9TUsmU+p NBXtVRgaRFe98wSGrPER2Gy3Oe9q5NNjYFPSYx9rALhrvDoaJFN9eNZDabt+N0Uq9Ux5nqBhEHF b4LXCWwBffvJxfeUNLTPzkWn9+NsxJiVzhnJ80QKbmNTD X-Gm-Gg: ASbGncuYVmzA1IbvZCIrm0Cxt47gudxwZ/OhlqoMcvSVwIA/mn7e+wdyUVll6StNvgE eT+AxbS74Cr80IOk2Vksn3/8lMvBxJosisBshDuhJd0c7CB1Pdgh1SkVSvTZqNfC+pQ0BaqkMck Rx/DpuZsXSLQR9wNPZGRhZKdpAgkfrHbSTG9F5GnX7C+rOD5PEeMq6wNaJKHJSNyeSQ6obg/rIQ qU7nQXdsA8WD3/2vPtzv+k+/rbbSCbFHU3ruL1EZKxGs6p+DAfzQqpvqtTl6V29Jm8Efg1TMpg6 wt/bqTTdkl86s1neCR5KYW8XMptw8juxbcnq1bJrMJg1s3MHTZ3O1ysx2fWQe327neT0Bqf3 X-Google-Smtp-Source: AGHT+IGPmkhmhq5l1hhWnehQu0wSeD7JPiY3+flkLfJPdoYpKqDi/0u785daAPEE35qpmBMi1PI5ayYA8/kw X-Received: by 2002:a05:6214:ca3:b0:765:619f:6412 with SMTP id 6a1803df08f44-7fc443da007mr29555396d6.63.1758783460936; Wed, 24 Sep 2025 23:57:40 -0700 (PDT) Received: from postal.iol.unh.edu (postal.iol.unh.edu. [132.177.123.84]) by smtp-relay.gmail.com with ESMTPS id 6a1803df08f44-801325cad0dsm819776d6.9.2025.09.24.23.57.40 (version=TLS1_2 cipher=ECDHE-ECDSA-AES128-GCM-SHA256 bits=128/128); Wed, 24 Sep 2025 23:57:40 -0700 (PDT) X-Relaying-Domain: iol.unh.edu Date: Wed, 24 Sep 2025 23:57:40 -0700 (PDT) Message-ID: <68d4e7e4.050a0220.153112.5596SMTPIN_ADDED_MISSING@mx.google.com> Received: from [172.21.0.2] (unknown [172.18.0.240]) by postal.iol.unh.edu (Postfix) with ESMTP id 837186051830; Thu, 25 Sep 2025 02:57:40 -0400 (EDT) Subject: |SUCCESS| pw156924 [PATCH] [v1] support multiple PF process flow tab From: dpdklab@iol.unh.edu To: Test Report Cc: dpdk-test-reports@iol.unh.edu, Stephen Hemminger In-Reply-To: <20250925024526.79329-1-zhang.tianhao2@zte.com.cn> References: <20250925024526.79329-1-zhang.tianhao2@zte.com.cn> Content-Type: text/plain X-BeenThere: test-report@dpdk.org X-Mailman-Version: 2.1.29 Precedence: list List-Id: automatic DPDK test reports List-Unsubscribe: , List-Archive: List-Post: List-Help: List-Subscribe: , Errors-To: test-report-bounces@dpdk.org Test-Label: iol-compile-arm64-testing Test-Status: SUCCESS http://dpdk.org/patch/156924 _Testing PASS_ Submitter: Tianhao Zhang Date: Thursday, September 25 2025 02:45:26 DPDK git baseline: Repo:dpdk-next-net Branch: master CommitID:2786b466bcf44f122e10c45da3a9615ffde5ac8b 156924 --> testing pass Upstream job id: Generic-DPDK-Compile-Meson#428337 Test environment and result as below: +------------------------------+--------------------+ | Environment | dpdk_meson_compile | +==============================+====================+ | Ubuntu 20.04 | PASS | +------------------------------+--------------------+ | Debian GNU/Linux 12 | PASS | +------------------------------+--------------------+ | Red Hat Enterprise Linux 9.5 | PASS | +------------------------------+--------------------+ | Fedora Linux 42 | PASS | +------------------------------+--------------------+ | Ubuntu 24.04 | PASS | +------------------------------+--------------------+ | Ubuntu 22.04 | PASS | +------------------------------+--------------------+ | CentOS Stream 9 | PASS | +------------------------------+--------------------+ | CentOS Stream 10 | PASS | +------------------------------+--------------------+ Ubuntu 20.04 Kernel: 5.15 Compiler: aarch64-linux-gnu-gcc gcc (Ubuntu 9.4.0-1ubuntu1~20.04.2) 9.4.0 Debian GNU/Linux 12 Kernel: 5.4 Compiler: gcc gcc (Debian 12.2.0-14+deb12u1) 12.2.0 Red Hat Enterprise Linux 9.5 Kernel: 5.4 Compiler: gcc gcc (GCC) 11.5.0 20240719 (Red Hat 11.5.0-2) Fedora Linux 42 Kernel: 5.4 Compiler: gcc gcc (GCC) 15.2.1 20250808 (Red Hat 15.2.1-1) Ubuntu 24.04 Kernel: 5.4 Compiler: gcc gcc (Ubuntu 13.3.0-6ubuntu2~24.04) 13.3.0 Ubuntu 22.04 Kernel: 5.4 Compiler: gcc gcc (Ubuntu 11.4.0-1ubuntu1~22.04) 11.4.0 CentOS Stream 9 Kernel: 5.4 Compiler: gcc gcc (GCC) 11.5.0 20240719 (Red Hat 11.5.0-11) CentOS Stream 10 Kernel: 5.4 Compiler: gcc gcc (GCC) 14.2.1 20250110 (Red Hat 14.2.1-8) To view detailed results, visit: https://lab.dpdk.org/results/dashboard/patchsets/34144/ UNH-IOL DPDK Community Lab To manage your email subscriptions, visit: https://lab.dpdk.org/results/dashboard/preferences/subscriptions/