* |SUCCESS| [GIT MASTER] 2786b466bcf44f122e10c45da3a9615ffde5ac8b
@ 2025-09-25 7:13 dpdklab
0 siblings, 0 replies; 10+ messages in thread
From: dpdklab @ 2025-09-25 7:13 UTC (permalink / raw)
To: Test Report; +Cc: dpdk-test-reports, Stephen Hemminger
_Testing PASS_
Branch: dpdk-next-net
2786b466bcf44f122e10c45da3a9615ffde5ac8b --> testing pass
Upstream job id: Generic-DPDK-Compile-Meson#428434
Test environment and result as below:
+-------------------------------+--------------------+-------------------+------------------+-------------------------+-------------------+----------------------+
| Environment | dpdk_meson_compile | dpdk_compile_spdk | dpdk_compile_ovs | dpdk_llvm_clang_compile | dpdk_msvc_compile | dpdk_mingw64_compile |
+===============================+====================+===================+==================+=========================+===================+======================+
| CentOS Stream 9 | PASS | PASS | SKIPPED | SKIPPED | SKIPPED | SKIPPED |
+-------------------------------+--------------------+-------------------+------------------+-------------------------+-------------------+----------------------+
| CentOS Stream 10 | PASS | SKIPPED | SKIPPED | SKIPPED | SKIPPED | SKIPPED |
+-------------------------------+--------------------+-------------------+------------------+-------------------------+-------------------+----------------------+
| Fedora Linux 42 | PASS | PASS | PASS | SKIPPED | SKIPPED | SKIPPED |
+-------------------------------+--------------------+-------------------+------------------+-------------------------+-------------------+----------------------+
| Debian GNU/Linux 12 | PASS | PASS | SKIPPED | SKIPPED | SKIPPED | SKIPPED |
+-------------------------------+--------------------+-------------------+------------------+-------------------------+-------------------+----------------------+
| openSUSE Leap 15.6 | PASS | SKIPPED | SKIPPED | SKIPPED | SKIPPED | SKIPPED |
+-------------------------------+--------------------+-------------------+------------------+-------------------------+-------------------+----------------------+
| Ubuntu 20.04 | PASS | SKIPPED | SKIPPED | SKIPPED | SKIPPED | SKIPPED |
+-------------------------------+--------------------+-------------------+------------------+-------------------------+-------------------+----------------------+
| FreeBSD 14.2 | PASS | SKIPPED | SKIPPED | SKIPPED | SKIPPED | SKIPPED |
+-------------------------------+--------------------+-------------------+------------------+-------------------------+-------------------+----------------------+
| Red Hat Enterprise Linux 8.10 | PASS | SKIPPED | SKIPPED | SKIPPED | SKIPPED | SKIPPED |
+-------------------------------+--------------------+-------------------+------------------+-------------------------+-------------------+----------------------+
| Red Hat Enterprise Linux 9.5 | PASS | SKIPPED | SKIPPED | SKIPPED | SKIPPED | SKIPPED |
+-------------------------------+--------------------+-------------------+------------------+-------------------------+-------------------+----------------------+
| Ubuntu 22.04 | PASS | PASS | SKIPPED | SKIPPED | SKIPPED | SKIPPED |
+-------------------------------+--------------------+-------------------+------------------+-------------------------+-------------------+----------------------+
| Ubuntu 24.04 | PASS | PASS | PASS | SKIPPED | SKIPPED | SKIPPED |
+-------------------------------+--------------------+-------------------+------------------+-------------------------+-------------------+----------------------+
| Alpine Linux 3.22.0 | PASS | SKIPPED | SKIPPED | SKIPPED | SKIPPED | SKIPPED |
+-------------------------------+--------------------+-------------------+------------------+-------------------------+-------------------+----------------------+
| Windows Server 2022 | SKIPPED | SKIPPED | SKIPPED | PASS | PASS | PASS |
+-------------------------------+--------------------+-------------------+------------------+-------------------------+-------------------+----------------------+
CentOS Stream 9
Kernel: 5.15
Compiler: gcc gcc (GCC) 11.5.0 20240719 (Red Hat 11.5.0-11)
CentOS Stream 10
Kernel: 5.15
Compiler: gcc gcc (GCC) 14.2.1 20250110 (Red Hat 14.2.1-8)
Fedora Linux 42
Kernel: 5.15
Compiler: clang gcc (GCC) 15.2.1 20250808 (Red Hat 15.2.1-1)
Debian GNU/Linux 12
Kernel: 5.15
Compiler: gcc gcc (Debian 12.2.0-14+deb12u1) 12.2.0
openSUSE Leap 15.6
Kernel: 5.15
Compiler: gcc gcc (SUSE Linux) 7.5.0
Ubuntu 20.04
Kernel: 4.19
Compiler: gcc gcc (Ubuntu 9.4.0-1ubuntu1~20.04.2) 9.4.0
FreeBSD 14.2
Kernel: 14.2-RELEASE
Compiler: clang 18.1.6
Red Hat Enterprise Linux 8.10
Kernel: 5.15
Compiler: gcc gcc (GCC) 8.5.0 20210514 (Red Hat 8.5.0-22)
Red Hat Enterprise Linux 9.5
Kernel: 5.15
Compiler: gcc gcc (GCC) 11.5.0 20240719 (Red Hat 11.5.0-2)
Ubuntu 22.04
Kernel: 5.15
Compiler: gcc gcc (Ubuntu 11.4.0-1ubuntu1~22.04) 11.4.0
Ubuntu 24.04
Kernel: 5.15
Compiler: gcc gcc (Ubuntu 13.3.0-6ubuntu2~24.04) 13.3.0
Alpine Linux 3.22.0
Kernel: 5.15
Compiler: gcc gcc (Alpine 14.2.0) 14.2.0
Windows Server 2022
Kernel: 10.0.20348.2031
Compiler: clang 15.0.7, gcc 14.1.0 (MinGW), and MSVC VS 19.39.33521
To view detailed results, visit:
https://lab.dpdk.org/results/dashboard/tarballs/34997/
UNH-IOL DPDK Community Lab
To manage your email subscriptions, visit:
https://lab.dpdk.org/results/dashboard/preferences/subscriptions/
^ permalink raw reply [flat|nested] 10+ messages in thread
* |SUCCESS| [GIT MASTER] 2786b466bcf44f122e10c45da3a9615ffde5ac8b
@ 2025-09-25 19:53 dpdklab
0 siblings, 0 replies; 10+ messages in thread
From: dpdklab @ 2025-09-25 19:53 UTC (permalink / raw)
To: Test Report; +Cc: dpdk-test-reports, Stephen Hemminger
_Testing PASS_
Branch: dpdk-next-net
2786b466bcf44f122e10c45da3a9615ffde5ac8b --> testing pass
Upstream job id: Generic-Unit-Test-DPDK#374851
Test environment and result as below:
+------------------------------+----------------+---------------------------+--------------+------------------------------+
| Environment | dpdk_unit_test | cryptodev_sw_zuc_autotest | lpm_autotest | cryptodev_sw_snow3g_autotest |
+==============================+================+===========================+==============+==============================+
| CentOS Stream 9 | PASS | SKIPPED | SKIPPED | SKIPPED |
+------------------------------+----------------+---------------------------+--------------+------------------------------+
| CentOS Stream 10 | PASS | SKIPPED | SKIPPED | SKIPPED |
+------------------------------+----------------+---------------------------+--------------+------------------------------+
| Fedora Linux 40 | PASS | SKIPPED | SKIPPED | SKIPPED |
+------------------------------+----------------+---------------------------+--------------+------------------------------+
| Debian GNU/Linux 12 | PASS | SKIPPED | SKIPPED | SKIPPED |
+------------------------------+----------------+---------------------------+--------------+------------------------------+
| Fedora Linux 41 | PASS | SKIPPED | SKIPPED | SKIPPED |
+------------------------------+----------------+---------------------------+--------------+------------------------------+
| Ubuntu 22.04 | PASS | SKIPPED | SKIPPED | SKIPPED |
+------------------------------+----------------+---------------------------+--------------+------------------------------+
| Fedora Linux 42 | PASS | SKIPPED | SKIPPED | SKIPPED |
+------------------------------+----------------+---------------------------+--------------+------------------------------+
| Ubuntu 20.04 | PASS | SKIPPED | PASS | SKIPPED |
+------------------------------+----------------+---------------------------+--------------+------------------------------+
| Red Hat Enterprise Linux 9.5 | PASS | SKIPPED | SKIPPED | SKIPPED |
+------------------------------+----------------+---------------------------+--------------+------------------------------+
| Ubuntu 24.04 | PASS | SKIPPED | SKIPPED | SKIPPED |
+------------------------------+----------------+---------------------------+--------------+------------------------------+
| Debian 12 (arm) | SKIPPED | PASS | SKIPPED | PASS |
+------------------------------+----------------+---------------------------+--------------+------------------------------+
CentOS Stream 9
Kernel: 5.4
Compiler: gcc gcc (GCC) 11.5.0 20240719 (Red Hat 11.5.0-11)
CentOS Stream 10
Kernel: 5.4
Compiler: gcc gcc (GCC) 14.2.1 20250110 (Red Hat 14.2.1-8)
Fedora Linux 40
Kernel: 5.4
Compiler: gcc gcc (GCC) 14.2.1 20240912 (Red Hat 14.2.1-3)
Debian GNU/Linux 12
Kernel: 5.4
Compiler: gcc gcc (Debian 12.2.0-14+deb12u1) 12.2.0
Fedora Linux 41
Kernel: 5.4
Compiler: gcc gcc (GCC) 14.3.1 20250523 (Red Hat 14.3.1-1)
Ubuntu 22.04
Kernel: 5.4
Compiler: gcc gcc (Ubuntu 11.4.0-1ubuntu1~22.04) 11.4.0
Fedora Linux 42
Kernel: 5.4
Compiler: gcc gcc (GCC) 15.2.1 20250808 (Red Hat 15.2.1-1)
Ubuntu 20.04
Kernel: 5.4
Compiler: gcc gcc (Ubuntu 9.4.0-1ubuntu1~20.04.2) 9.4.0
Red Hat Enterprise Linux 9.5
Kernel: 5.4
Compiler: gcc gcc (GCC) 11.5.0 20240719 (Red Hat 11.5.0-2)
Ubuntu 24.04
Kernel: 5.4
Compiler: gcc gcc (Ubuntu 13.3.0-6ubuntu2~24.04) 13.3.0
Debian 12 (arm)
Kernel: Depends on container host
Compiler: gcc (Debian 12.2.0-14) 12.2.0
To view detailed results, visit:
https://lab.dpdk.org/results/dashboard/tarballs/34997/
UNH-IOL DPDK Community Lab
To manage your email subscriptions, visit:
https://lab.dpdk.org/results/dashboard/preferences/subscriptions/
^ permalink raw reply [flat|nested] 10+ messages in thread
* |SUCCESS| [GIT MASTER] 2786b466bcf44f122e10c45da3a9615ffde5ac8b
@ 2025-09-25 9:50 dpdklab
0 siblings, 0 replies; 10+ messages in thread
From: dpdklab @ 2025-09-25 9:50 UTC (permalink / raw)
To: Test Report; +Cc: dpdk-test-reports, Stephen Hemminger
_Testing PASS_
Branch: dpdk-next-net
2786b466bcf44f122e10c45da3a9615ffde5ac8b --> testing pass
Upstream job id: Generic-DPDK-Compile-Meson#428446
Test environment and result as below:
+------------------------------+--------------------+
| Environment | dpdk_meson_compile |
+==============================+====================+
| Red Hat Enterprise Linux 9.5 | PASS |
+------------------------------+--------------------+
| Ubuntu 20.04 | PASS |
+------------------------------+--------------------+
| Debian GNU/Linux 12 | PASS |
+------------------------------+--------------------+
| Fedora Linux 42 | PASS |
+------------------------------+--------------------+
| Ubuntu 22.04 | PASS |
+------------------------------+--------------------+
| Ubuntu 24.04 | PASS |
+------------------------------+--------------------+
| CentOS Stream 9 | PASS |
+------------------------------+--------------------+
| CentOS Stream 10 | PASS |
+------------------------------+--------------------+
Red Hat Enterprise Linux 9.5
Kernel: 5.4
Compiler: gcc gcc (GCC) 11.5.0 20240719 (Red Hat 11.5.0-2)
Ubuntu 20.04
Kernel: 5.15
Compiler: aarch64-linux-gnu-gcc gcc (Ubuntu 9.4.0-1ubuntu1~20.04.2) 9.4.0
Debian GNU/Linux 12
Kernel: 5.4
Compiler: gcc gcc (Debian 12.2.0-14+deb12u1) 12.2.0
Fedora Linux 42
Kernel: 5.4
Compiler: gcc gcc (GCC) 15.2.1 20250808 (Red Hat 15.2.1-1)
Ubuntu 22.04
Kernel: 5.4
Compiler: gcc gcc (Ubuntu 11.4.0-1ubuntu1~22.04) 11.4.0
Ubuntu 24.04
Kernel: 5.4
Compiler: gcc gcc (Ubuntu 13.3.0-6ubuntu2~24.04) 13.3.0
CentOS Stream 9
Kernel: 5.4
Compiler: gcc gcc (GCC) 11.5.0 20240719 (Red Hat 11.5.0-11)
CentOS Stream 10
Kernel: 5.4
Compiler: gcc gcc (GCC) 14.2.1 20250110 (Red Hat 14.2.1-8)
To view detailed results, visit:
https://lab.dpdk.org/results/dashboard/tarballs/34997/
UNH-IOL DPDK Community Lab
To manage your email subscriptions, visit:
https://lab.dpdk.org/results/dashboard/preferences/subscriptions/
^ permalink raw reply [flat|nested] 10+ messages in thread
* |SUCCESS| [GIT MASTER] 2786b466bcf44f122e10c45da3a9615ffde5ac8b
@ 2025-09-25 7:24 dpdklab
0 siblings, 0 replies; 10+ messages in thread
From: dpdklab @ 2025-09-25 7:24 UTC (permalink / raw)
To: Test Report; +Cc: dpdk-test-reports, Stephen Hemminger
_Functional Testing PASS_
Branch: dpdk-next-net
2786b466bcf44f122e10c45da3a9615ffde5ac8b --> functional testing pass
Upstream job id: Template-DTS-Pipeline#246252
Test environment and result as below:
Ubuntu 20.04
Kernel: 5.4
Compiler: gcc gcc (Ubuntu 9.4.0-1ubuntu1~20.04.1) 9.4.0
NIC: Intel Corporation Ethernet Converged Network Adapter XL710-QDA2 40000 Mbps
Aggregate Results by Test Suite
+-----------------------------+--------+
| Test Suite | Result |
+=============================+========+
| unit_tests_mbuf | PASS |
+-----------------------------+--------+
| vhost_virtio_user_interrupt | PASS |
+-----------------------------+--------+
| virtio_smoke | PASS |
+-----------------------------+--------+
Ubuntu 22.04
Kernel: 5.15
Compiler: gcc gcc (Ubuntu 11.4.0-1ubuntu1~22.04.2) 11.4.0
NIC: Intel Corporation QAT 8970 0 Mbps
Aggregate Results by Test Suite
+----------------------------+--------+
| Test Suite | Result |
+============================+========+
| crypto_perf_cryptodev_perf | PASS |
+----------------------------+--------+
To view detailed results, visit:
https://lab.dpdk.org/results/dashboard/tarballs/34997/
UNH-IOL DPDK Community Lab
To manage your email subscriptions, visit:
https://lab.dpdk.org/results/dashboard/preferences/subscriptions/
^ permalink raw reply [flat|nested] 10+ messages in thread
* |SUCCESS| [GIT MASTER] 2786b466bcf44f122e10c45da3a9615ffde5ac8b
@ 2025-09-25 7:18 dpdklab
0 siblings, 0 replies; 10+ messages in thread
From: dpdklab @ 2025-09-25 7:18 UTC (permalink / raw)
To: Test Report; +Cc: dpdk-test-reports, Stephen Hemminger
_Testing PASS_
Branch: dpdk-next-net
2786b466bcf44f122e10c45da3a9615ffde5ac8b --> testing pass
Upstream job id: Generic-Unit-Test-DPDK#374846
Test environment and result as below:
+-------------------------------+----------------+
| Environment | dpdk_unit_test |
+===============================+================+
| CentOS Stream 10 | PASS |
+-------------------------------+----------------+
| CentOS Stream 9 | PASS |
+-------------------------------+----------------+
| Debian GNU/Linux 12 | PASS |
+-------------------------------+----------------+
| Fedora Linux 40 | PASS |
+-------------------------------+----------------+
| Fedora Linux 41 | PASS |
+-------------------------------+----------------+
| Red Hat Enterprise Linux 8.10 | PASS |
+-------------------------------+----------------+
| Fedora Linux 42 | PASS |
+-------------------------------+----------------+
| Ubuntu 22.04 | PASS |
+-------------------------------+----------------+
| Ubuntu 20.04 | PASS |
+-------------------------------+----------------+
| Ubuntu 24.04 | PASS |
+-------------------------------+----------------+
| Red Hat Enterprise Linux 9.5 | PASS |
+-------------------------------+----------------+
| Windows Server 2022 | PASS |
+-------------------------------+----------------+
CentOS Stream 10
Kernel: 5.15
Compiler: gcc gcc (GCC) 14.2.1 20250110 (Red Hat 14.2.1-8)
CentOS Stream 9
Kernel: 5.15
Compiler: gcc gcc (GCC) 11.5.0 20240719 (Red Hat 11.5.0-11)
Debian GNU/Linux 12
Kernel: 5.15
Compiler: gcc gcc (Debian 12.2.0-14+deb12u1) 12.2.0
Fedora Linux 40
Kernel: 5.15
Compiler: clang gcc (GCC) 14.2.1 20240912 (Red Hat 14.2.1-3)
Fedora Linux 41
Kernel: 5.15
Compiler: gcc gcc (GCC) 14.3.1 20250523 (Red Hat 14.3.1-1)
Red Hat Enterprise Linux 8.10
Kernel: 5.15
Compiler: gcc gcc (GCC) 8.5.0 20210514 (Red Hat 8.5.0-22)
Fedora Linux 42
Kernel: 5.15
Compiler: gcc gcc (GCC) 15.2.1 20250808 (Red Hat 15.2.1-1)
Ubuntu 22.04
Kernel: 5.15
Compiler: gcc gcc (Ubuntu 11.4.0-1ubuntu1~22.04) 11.4.0
Ubuntu 20.04
Kernel: 5.15
Compiler: gcc gcc (Ubuntu 9.4.0-1ubuntu1~20.04.2) 9.4.0
Ubuntu 24.04
Kernel: 5.15
Compiler: gcc gcc (Ubuntu 13.3.0-6ubuntu2~24.04) 13.3.0
Red Hat Enterprise Linux 9.5
Kernel: 5.15
Compiler: gcc gcc (GCC) 11.5.0 20240719 (Red Hat 11.5.0-2)
Windows Server 2022
Kernel: 10.0.20348.2031
Compiler: clang 15.0.7, gcc 14.1.0 (MinGW), and MSVC VS 19.39.33521
To view detailed results, visit:
https://lab.dpdk.org/results/dashboard/tarballs/34997/
UNH-IOL DPDK Community Lab
To manage your email subscriptions, visit:
https://lab.dpdk.org/results/dashboard/preferences/subscriptions/
^ permalink raw reply [flat|nested] 10+ messages in thread
* |SUCCESS| [GIT MASTER] 2786b466bcf44f122e10c45da3a9615ffde5ac8b
@ 2025-09-25 7:12 dpdklab
0 siblings, 0 replies; 10+ messages in thread
From: dpdklab @ 2025-09-25 7:12 UTC (permalink / raw)
To: Test Report; +Cc: dpdk-test-reports, Stephen Hemminger
_Testing PASS_
Branch: dpdk-next-net
2786b466bcf44f122e10c45da3a9615ffde5ac8b --> testing pass
Upstream job id: Template-DTS-Pipeline#246254
Test environment and result as below:
+--------------+----------------------+----------------------+
| Environment | dpdk_fips_validation | compressdev_zlib_pmd |
+==============+======================+======================+
| Ubuntu 20.04 | PASS | SKIPPED |
+--------------+----------------------+----------------------+
| Ubuntu 22.04 | SKIPPED | PASS |
+--------------+----------------------+----------------------+
Ubuntu 20.04
Kernel: 5.15
Compiler: gcc gcc (Ubuntu 9.4.0-1ubuntu1~20.04.2) 9.4.0
Ubuntu 22.04
Kernel: 5.15
Compiler: gcc gcc (Ubuntu 11.4.0-1ubuntu1~22.04.2) 11.4.0
To view detailed results, visit:
https://lab.dpdk.org/results/dashboard/tarballs/34997/
UNH-IOL DPDK Community Lab
To manage your email subscriptions, visit:
https://lab.dpdk.org/results/dashboard/preferences/subscriptions/
^ permalink raw reply [flat|nested] 10+ messages in thread
* |SUCCESS| [GIT MASTER] 2786b466bcf44f122e10c45da3a9615ffde5ac8b
@ 2025-09-25 7:04 dpdklab
0 siblings, 0 replies; 10+ messages in thread
From: dpdklab @ 2025-09-25 7:04 UTC (permalink / raw)
To: Test Report; +Cc: dpdk-test-reports, Stephen Hemminger
_Performance Testing PASS_
Branch: dpdk-next-net
2786b466bcf44f122e10c45da3a9615ffde5ac8b --> performance testing pass
Upstream job id: Template-DTS-Pipeline#246248
Test environment and result as below:
Ubuntu 22.04
Kernel: 5.15
Compiler: gcc gcc (Ubuntu 11.4.0-1ubuntu1~22.04.2) 11.4.0
NIC: Arm Broadcom Inc. brcm_57414 25000 Mbps
Fail/Total: 0/2
Detail performance results:
+------------+---------+----------+-------------+------------------------------+
| frame_size | txd/rxd | num_cpus | num_threads | throughput difference from |
| | | | | expected |
+============+=========+==========+=============+==============================+
| 64 | 512 | 1 | 1 | 0.0% |
+------------+---------+----------+-------------+------------------------------+
| 64 | 2048 | 1 | 1 | -0.0% |
+------------+---------+----------+-------------+------------------------------+
Ubuntu 22.04
Kernel: 5.15
Compiler: gcc gcc (Ubuntu 11.4.0-1ubuntu1~22.04) 11.4.0
NIC: Broadcom Inc. and subsidiaries BCM57414 NetXtreme-E 10Gb/25Gb RDMA Ethernet Controller 16d7 25 Mbps
Fail/Total: 0/3
Detail performance results:
+------------+---------+----------+-------------+------------------------------+
| frame_size | txd/rxd | num_cpus | num_threads | throughput difference from |
| | | | | expected |
+============+=========+==========+=============+==============================+
| 64 | 128 | 1 | 1 | -0.6% |
+------------+---------+----------+-------------+------------------------------+
| 64 | 512 | 1 | 1 | -1.0% |
+------------+---------+----------+-------------+------------------------------+
| 64 | 2048 | 1 | 1 | -0.9% |
+------------+---------+----------+-------------+------------------------------+
To view detailed results, visit:
https://lab.dpdk.org/results/dashboard/tarballs/34997/
UNH-IOL DPDK Community Lab
To manage your email subscriptions, visit:
https://lab.dpdk.org/results/dashboard/preferences/subscriptions/
^ permalink raw reply [flat|nested] 10+ messages in thread
* |SUCCESS| [GIT MASTER] 2786b466bcf44f122e10c45da3a9615ffde5ac8b
@ 2025-09-25 7:02 dpdklab
0 siblings, 0 replies; 10+ messages in thread
From: dpdklab @ 2025-09-25 7:02 UTC (permalink / raw)
To: Test Report; +Cc: dpdk-test-reports, Stephen Hemminger
_Testing PASS_
Branch: dpdk-next-net
2786b466bcf44f122e10c45da3a9615ffde5ac8b --> testing pass
Upstream job id: ACVP-FIPS-testing#11213
Test environment and result as below:
+--------------+----------------------+----------------------+
| Environment | dpdk_fips_validation | compressdev_zlib_pmd |
+==============+======================+======================+
| Ubuntu 20.04 | PASS | SKIPPED |
+--------------+----------------------+----------------------+
| Ubuntu 22.04 | SKIPPED | PASS |
+--------------+----------------------+----------------------+
Ubuntu 20.04
Kernel: 5.15
Compiler: gcc gcc (Ubuntu 9.4.0-1ubuntu1~20.04.2) 9.4.0
Ubuntu 22.04
Kernel: 5.15
Compiler: gcc gcc (Ubuntu 11.4.0-1ubuntu1~22.04.2) 11.4.0
To view detailed results, visit:
https://lab.dpdk.org/results/dashboard/tarballs/34997/
UNH-IOL DPDK Community Lab
To manage your email subscriptions, visit:
https://lab.dpdk.org/results/dashboard/preferences/subscriptions/
^ permalink raw reply [flat|nested] 10+ messages in thread
* |SUCCESS| [GIT MASTER] 2786b466bcf44f122e10c45da3a9615ffde5ac8b
@ 2025-09-25 6:53 dpdklab
0 siblings, 0 replies; 10+ messages in thread
From: dpdklab @ 2025-09-25 6:53 UTC (permalink / raw)
To: Test Report; +Cc: dpdk-test-reports, Stephen Hemminger
_Functional Testing PASS_
Branch: dpdk-next-net
2786b466bcf44f122e10c45da3a9615ffde5ac8b --> functional testing pass
Upstream job id: Template-DTS-Pipeline#246250
Test environment and result as below:
Ubuntu 20.04
Kernel: 5.4
Compiler: gcc gcc (Ubuntu 9.4.0-1ubuntu1~20.04.1) 9.4.0
NIC: Intel Corporation Ethernet Converged Network Adapter XL710-QDA2 40000 Mbps
Aggregate Results by Test Suite
+-----------------------------+--------+
| Test Suite | Result |
+=============================+========+
| unit_tests_mbuf | PASS |
+-----------------------------+--------+
| vhost_virtio_user_interrupt | PASS |
+-----------------------------+--------+
| virtio_smoke | PASS |
+-----------------------------+--------+
To view detailed results, visit:
https://lab.dpdk.org/results/dashboard/tarballs/34997/
UNH-IOL DPDK Community Lab
To manage your email subscriptions, visit:
https://lab.dpdk.org/results/dashboard/preferences/subscriptions/
^ permalink raw reply [flat|nested] 10+ messages in thread
* |SUCCESS| [GIT MASTER] 2786b466bcf44f122e10c45da3a9615ffde5ac8b
@ 2025-09-25 6:37 dpdklab
0 siblings, 0 replies; 10+ messages in thread
From: dpdklab @ 2025-09-25 6:37 UTC (permalink / raw)
To: Test Report; +Cc: dpdk-test-reports, Stephen Hemminger
_Functional Testing PASS_
Branch: dpdk-next-net
2786b466bcf44f122e10c45da3a9615ffde5ac8b --> functional testing pass
Upstream job id: Template-DTS-Pipeline#246253
Test environment and result as below:
Ubuntu 20.04.6
Kernel: 5.4.105
Compiler: gcc 9.4
NIC: Marvell CN106XX 50000 Mbps
Target: arm64-native-linuxapp-gcc
Aggregate Results by Test Suite
+----------------+--------+
| Test Suite | Result |
+================+========+
| cmdline | PASS |
+----------------+--------+
| dynamic_queue | PASS |
+----------------+--------+
| rxtx_callbacks | PASS |
+----------------+--------+
To view detailed results, visit:
https://lab.dpdk.org/results/dashboard/tarballs/34997/
UNH-IOL DPDK Community Lab
To manage your email subscriptions, visit:
https://lab.dpdk.org/results/dashboard/preferences/subscriptions/
^ permalink raw reply [flat|nested] 10+ messages in thread
end of thread, other threads:[~2025-09-25 19:53 UTC | newest]
Thread overview: 10+ messages (download: mbox.gz / follow: Atom feed)
-- links below jump to the message on this page --
2025-09-25 7:13 |SUCCESS| [GIT MASTER] 2786b466bcf44f122e10c45da3a9615ffde5ac8b dpdklab
-- strict thread matches above, loose matches on Subject: below --
2025-09-25 19:53 dpdklab
2025-09-25 9:50 dpdklab
2025-09-25 7:24 dpdklab
2025-09-25 7:18 dpdklab
2025-09-25 7:12 dpdklab
2025-09-25 7:04 dpdklab
2025-09-25 7:02 dpdklab
2025-09-25 6:53 dpdklab
2025-09-25 6:37 dpdklab
This is a public inbox, see mirroring instructions
for how to clone and mirror all data and code used for this inbox;
as well as URLs for NNTP newsgroup(s).