From mboxrd@z Thu Jan 1 00:00:00 1970 Return-Path: Received: from mails.dpdk.org (mails.dpdk.org [217.70.189.124]) by inbox.dpdk.org (Postfix) with ESMTP id 343A746F6A for ; Thu, 25 Sep 2025 09:13:25 +0200 (CEST) Received: from mails.dpdk.org (localhost [127.0.0.1]) by mails.dpdk.org (Postfix) with ESMTP id 2A6544028F; Thu, 25 Sep 2025 09:13:25 +0200 (CEST) Received: from mail-qv1-f100.google.com (mail-qv1-f100.google.com [209.85.219.100]) by mails.dpdk.org (Postfix) with ESMTP id 928324028F for ; Thu, 25 Sep 2025 09:13:23 +0200 (CEST) Received: by mail-qv1-f100.google.com with SMTP id 6a1803df08f44-799572d92b0so4826866d6.3 for ; Thu, 25 Sep 2025 00:13:23 -0700 (PDT) DKIM-Signature: v=1; a=rsa-sha256; c=relaxed/relaxed; d=iol.unh.edu; s=unh-iol; t=1758784403; x=1759389203; darn=dpdk.org; h=cc:to:from:subject:message-id:date:from:to:cc:subject:date :message-id:reply-to; bh=ptNMb67+BZLTQvtWRl56vzycYYPdkDuhiQ8YFb+XbBg=; b=G9kTBt486VBJ7XrjT69lmaZDXu+rbVdIPl+CSqRltvb9ixi8N36D//yKL/XqreOiBw WchuJuwSqATUISS7CPtAixwrgy4sVNuBkrD+poe098MadcfEVEM37pcIOzRXc7+pxtsU C8yv2MGmX+A33qgN6S55b4oj+ldvXp6Fa2zO4= X-Google-DKIM-Signature: v=1; a=rsa-sha256; c=relaxed/relaxed; d=1e100.net; s=20230601; t=1758784403; x=1759389203; h=cc:to:from:subject:message-id:date:x-gm-message-state:from:to:cc :subject:date:message-id:reply-to; bh=ptNMb67+BZLTQvtWRl56vzycYYPdkDuhiQ8YFb+XbBg=; b=R9j0yLP7Hjda3Rm5CGH3HAvGckzQ9go7i8DMJg7KJ+zMdUjxiO29EUsM541gyl9nkB XE4kbNDNIB+WEBXDbWIZU8EX+mfMc5jO/A1pWoIQ0GZ+4R6LuyKc/HQx7ntnlBOR+mjl NpMoOnZfQuG/cpZpRnFQ7ml6XQLKZkXK4Rp/GF7egw/M18/mbVZ8aeEhfeBMMCAuSgMo N2cVd5ub+v12IPnLL4Y5XWXk8bMj9mv6YeAgLKx3bLAhTvesdXKRPboHQkBPAi9wR+XD 1GajGRuNh445ziUTbf3ieCCBhseH6gm1EhJ+CXOb5o4dAL3emqd8XD+xUA9cotxxje+h nsRg== X-Gm-Message-State: AOJu0YzGa5cRkiuGywtp9P+iRycpJqvSIiP7G9HexHZaWr7Uyw5OiSE/ aGN94mBz1w0XDEW4eiRe5CxVU4n/dtyqe4EPd64WljNLnZd6AoKa2lVr527ORV30bd1A/wMFRl2 1ncv4Zb7VB1yy+u1s5t1aQDfBwpVMihrlNjobTjEzdIyD X-Gm-Gg: ASbGnctjEcET+WSC6n6EpkrnZCWdyZ7NRq/0Mm/2N/ROsfFAxi5fra6ylM+Y5y30Hu8 FiKnsYRzJpANgrpMplg/h6Ys9Hay1cmCnpe5RXBAMFYL2BpE6YpmqxPA5hQcrIBfuDCH5I3uPDi 4O79JnILnCft/W/eS+jVjvh8tF6pt3YgAAqeohVUt9LRUM7LYgvgOocWqLo/ct1WA00J+UWUpYK 85SQLpK80f6r50l/q8V6J6Mja5LLNkfcIzNmoyHCqoT7uVB0CL18gpefH3v5kwJ/nhDfXcKhhBT oDp6M2hgBN/K9qu6BcHdisEIlJYnn4Xw41pxqnpf+UbNc56SdwXJVqHUgmxvmI1GnfNJBy9J X-Google-Smtp-Source: AGHT+IEpeD7TKBw7zOImrVipev7xds5zx6ZNQVPm25sB+QT9UHufovs/Jat+IHwitd0GEtz1KEGE0Tps5jRe X-Received: by 2002:a05:6214:e8e:b0:775:b23f:8d52 with SMTP id 6a1803df08f44-7fc28641959mr35052946d6.4.1758784402895; Thu, 25 Sep 2025 00:13:22 -0700 (PDT) Received: from postal.iol.unh.edu (postal.iol.unh.edu. [132.177.123.84]) by smtp-relay.gmail.com with ESMTPS id 6a1803df08f44-8013949f543sm837546d6.15.2025.09.25.00.13.22 (version=TLS1_2 cipher=ECDHE-ECDSA-AES128-GCM-SHA256 bits=128/128); Thu, 25 Sep 2025 00:13:22 -0700 (PDT) X-Relaying-Domain: iol.unh.edu Date: Thu, 25 Sep 2025 00:13:22 -0700 (PDT) Message-ID: <68d4eb92.050a0220.177283.556eSMTPIN_ADDED_MISSING@mx.google.com> Received: from [172.21.0.2] (unknown [172.18.0.240]) by postal.iol.unh.edu (Postfix) with ESMTP id 955BC6051830; Thu, 25 Sep 2025 03:13:22 -0400 (EDT) Subject: |SUCCESS| [GIT MASTER] 2786b466bcf44f122e10c45da3a9615ffde5ac8b From: dpdklab@iol.unh.edu To: Test Report Cc: dpdk-test-reports@iol.unh.edu, Stephen Hemminger Content-Type: text/plain X-BeenThere: test-report@dpdk.org X-Mailman-Version: 2.1.29 Precedence: list List-Id: automatic DPDK test reports List-Unsubscribe: , List-Archive: List-Post: List-Help: List-Subscribe: , Errors-To: test-report-bounces@dpdk.org _Testing PASS_ Branch: dpdk-next-net 2786b466bcf44f122e10c45da3a9615ffde5ac8b --> testing pass Upstream job id: Generic-DPDK-Compile-Meson#428434 Test environment and result as below: +-------------------------------+--------------------+-------------------+------------------+-------------------------+-------------------+----------------------+ | Environment | dpdk_meson_compile | dpdk_compile_spdk | dpdk_compile_ovs | dpdk_llvm_clang_compile | dpdk_msvc_compile | dpdk_mingw64_compile | +===============================+====================+===================+==================+=========================+===================+======================+ | CentOS Stream 9 | PASS | PASS | SKIPPED | SKIPPED | SKIPPED | SKIPPED | +-------------------------------+--------------------+-------------------+------------------+-------------------------+-------------------+----------------------+ | CentOS Stream 10 | PASS | SKIPPED | SKIPPED | SKIPPED | SKIPPED | SKIPPED | +-------------------------------+--------------------+-------------------+------------------+-------------------------+-------------------+----------------------+ | Fedora Linux 42 | PASS | PASS | PASS | SKIPPED | SKIPPED | SKIPPED | +-------------------------------+--------------------+-------------------+------------------+-------------------------+-------------------+----------------------+ | Debian GNU/Linux 12 | PASS | PASS | SKIPPED | SKIPPED | SKIPPED | SKIPPED | +-------------------------------+--------------------+-------------------+------------------+-------------------------+-------------------+----------------------+ | openSUSE Leap 15.6 | PASS | SKIPPED | SKIPPED | SKIPPED | SKIPPED | SKIPPED | +-------------------------------+--------------------+-------------------+------------------+-------------------------+-------------------+----------------------+ | Ubuntu 20.04 | PASS | SKIPPED | SKIPPED | SKIPPED | SKIPPED | SKIPPED | +-------------------------------+--------------------+-------------------+------------------+-------------------------+-------------------+----------------------+ | FreeBSD 14.2 | PASS | SKIPPED | SKIPPED | SKIPPED | SKIPPED | SKIPPED | +-------------------------------+--------------------+-------------------+------------------+-------------------------+-------------------+----------------------+ | Red Hat Enterprise Linux 8.10 | PASS | SKIPPED | SKIPPED | SKIPPED | SKIPPED | SKIPPED | +-------------------------------+--------------------+-------------------+------------------+-------------------------+-------------------+----------------------+ | Red Hat Enterprise Linux 9.5 | PASS | SKIPPED | SKIPPED | SKIPPED | SKIPPED | SKIPPED | +-------------------------------+--------------------+-------------------+------------------+-------------------------+-------------------+----------------------+ | Ubuntu 22.04 | PASS | PASS | SKIPPED | SKIPPED | SKIPPED | SKIPPED | +-------------------------------+--------------------+-------------------+------------------+-------------------------+-------------------+----------------------+ | Ubuntu 24.04 | PASS | PASS | PASS | SKIPPED | SKIPPED | SKIPPED | +-------------------------------+--------------------+-------------------+------------------+-------------------------+-------------------+----------------------+ | Alpine Linux 3.22.0 | PASS | SKIPPED | SKIPPED | SKIPPED | SKIPPED | SKIPPED | +-------------------------------+--------------------+-------------------+------------------+-------------------------+-------------------+----------------------+ | Windows Server 2022 | SKIPPED | SKIPPED | SKIPPED | PASS | PASS | PASS | +-------------------------------+--------------------+-------------------+------------------+-------------------------+-------------------+----------------------+ CentOS Stream 9 Kernel: 5.15 Compiler: gcc gcc (GCC) 11.5.0 20240719 (Red Hat 11.5.0-11) CentOS Stream 10 Kernel: 5.15 Compiler: gcc gcc (GCC) 14.2.1 20250110 (Red Hat 14.2.1-8) Fedora Linux 42 Kernel: 5.15 Compiler: clang gcc (GCC) 15.2.1 20250808 (Red Hat 15.2.1-1) Debian GNU/Linux 12 Kernel: 5.15 Compiler: gcc gcc (Debian 12.2.0-14+deb12u1) 12.2.0 openSUSE Leap 15.6 Kernel: 5.15 Compiler: gcc gcc (SUSE Linux) 7.5.0 Ubuntu 20.04 Kernel: 4.19 Compiler: gcc gcc (Ubuntu 9.4.0-1ubuntu1~20.04.2) 9.4.0 FreeBSD 14.2 Kernel: 14.2-RELEASE Compiler: clang 18.1.6 Red Hat Enterprise Linux 8.10 Kernel: 5.15 Compiler: gcc gcc (GCC) 8.5.0 20210514 (Red Hat 8.5.0-22) Red Hat Enterprise Linux 9.5 Kernel: 5.15 Compiler: gcc gcc (GCC) 11.5.0 20240719 (Red Hat 11.5.0-2) Ubuntu 22.04 Kernel: 5.15 Compiler: gcc gcc (Ubuntu 11.4.0-1ubuntu1~22.04) 11.4.0 Ubuntu 24.04 Kernel: 5.15 Compiler: gcc gcc (Ubuntu 13.3.0-6ubuntu2~24.04) 13.3.0 Alpine Linux 3.22.0 Kernel: 5.15 Compiler: gcc gcc (Alpine 14.2.0) 14.2.0 Windows Server 2022 Kernel: 10.0.20348.2031 Compiler: clang 15.0.7, gcc 14.1.0 (MinGW), and MSVC VS 19.39.33521 To view detailed results, visit: https://lab.dpdk.org/results/dashboard/tarballs/34997/ UNH-IOL DPDK Community Lab To manage your email subscriptions, visit: https://lab.dpdk.org/results/dashboard/preferences/subscriptions/