From mboxrd@z Thu Jan 1 00:00:00 1970 Return-Path: Received: from mails.dpdk.org (mails.dpdk.org [217.70.189.124]) by inbox.dpdk.org (Postfix) with ESMTP id C37AE46F6A for ; Thu, 25 Sep 2025 09:18:40 +0200 (CEST) Received: from mails.dpdk.org (localhost [127.0.0.1]) by mails.dpdk.org (Postfix) with ESMTP id 9BEA54028F; Thu, 25 Sep 2025 09:18:40 +0200 (CEST) Received: from mail-pg1-f228.google.com (mail-pg1-f228.google.com [209.85.215.228]) by mails.dpdk.org (Postfix) with ESMTP id 016F44028F for ; Thu, 25 Sep 2025 09:18:38 +0200 (CEST) Received: by mail-pg1-f228.google.com with SMTP id 41be03b00d2f7-b4f9d61e7deso470266a12.2 for ; Thu, 25 Sep 2025 00:18:38 -0700 (PDT) DKIM-Signature: v=1; a=rsa-sha256; c=relaxed/relaxed; d=iol.unh.edu; s=unh-iol; t=1758784718; x=1759389518; darn=dpdk.org; h=cc:to:from:subject:message-id:date:from:to:cc:subject:date :message-id:reply-to; bh=pTFArnRHeA/NY5/5+SKf7+FflQht369q5/LLxZUJ1RI=; b=HqPBOcWVqxkuIIoh40YKZ0X8bMfWDSd4uyJ1I573erqD0Y0yVQnDZ8u+avWiiG9Y0P 5UiAU6ChKFjqQs/2Ck4JlrCJ3Ee6520DeNxEN+8rh8Dq4akPdrmufvYz3szObmkaUjYg giu6ZAx9fiZrJzrqJ07EW4RLBmYuuOkzwfYZQ= X-Google-DKIM-Signature: v=1; a=rsa-sha256; c=relaxed/relaxed; d=1e100.net; s=20230601; t=1758784718; x=1759389518; h=cc:to:from:subject:message-id:date:x-gm-message-state:from:to:cc :subject:date:message-id:reply-to; bh=pTFArnRHeA/NY5/5+SKf7+FflQht369q5/LLxZUJ1RI=; b=VvNGMKlL3b0AiFGnMaNbkGpao31akZMTovTMSYSI0phG3+s45pKZqNNonYNwOZYm7C aDNigHJBkSFB5yqgL02NZDIRmCsaP/RwaHrbF4mwQG2RNmQ2+JARpxvJ3p6Zqfbq+uWQ lpfzUGtPIyW2CZN88HpnqWo/s3lOfixziF+wXIo1KRWg+iTwrkHGt4joo29cBBCaV8/c VzlUuAyGvvxufoYChNW2IrTSzQVrQW8akoouyylZaMC6lUE84aa7BUH9WB4SA2Y1YWD1 RRDaF043rjTADhzwxLTwuGKUGpu4LTb9ZsgVkbz377ia8cG6t1tSr8iCXzdaDZS+tKrr 7qVg== X-Gm-Message-State: AOJu0YytwZ5mLi7kv/19//3TEA7bW6ir2a8tCB7DAWYNv6Q/ZNCg4Lpx byfHdQcdQJdVMKcgfGnBkMtKXlfwUPv6DaVYtNTk3uz1Ec+LQvT+veD56idECymkWQZuAWOack5 yAIUPOnnYpck5DrMse1M50Y7B8JSykQyhVIiZVruRgbwT X-Gm-Gg: ASbGncus5ErpFwc9r4UuVj4V16Nxgh5I+AzT9uk9fu6z25415KJ0s4xJQaffpppTObs ks78JmfAfRR3w7lXL4qda+he10CZCSpGb4vUGThkJQ6jkqOzEqQ9jJLEM88VAl9oFCUUZf/vxSB 1/n0ys/m0gAgvox4sMgb4+dTHdpEDHkKLfQTMJzmOTBKhVQ8VcY3DvPibCcWATTu/MnvMSBVxix ek/LgT4RYltpWQy5M4FjLllnG3X6RBmeak9RTe7O+W3nZARgsu20k3mO6FTxRGY3VWFi/xDIeA5 J76EFbYB7y5llzRiB/U/fjdl1sSd56UHSM1aupXfjlBlirKnX1jZ5gMQGVLlnLR74Sa+2p3p X-Google-Smtp-Source: AGHT+IHbqyMywiEoJGUN87YeYSCxF3H5pkrlUIfOvQVgpYnBDZ0PiMxntLox2l+KTyhoYYHLBI5Nm1Yv0tIT X-Received: by 2002:a17:902:e5c7:b0:279:daa1:676d with SMTP id d9443c01a7336-27ed49b30d6mr24488885ad.8.1758784717235; Thu, 25 Sep 2025 00:18:37 -0700 (PDT) Received: from postal.iol.unh.edu (postal.iol.unh.edu. [132.177.123.84]) by smtp-relay.gmail.com with ESMTPS id d9443c01a7336-27ed66dcf5dsm1023795ad.19.2025.09.25.00.18.37 (version=TLS1_2 cipher=ECDHE-ECDSA-AES128-GCM-SHA256 bits=128/128); Thu, 25 Sep 2025 00:18:37 -0700 (PDT) X-Relaying-Domain: iol.unh.edu Date: Thu, 25 Sep 2025 00:18:37 -0700 (PDT) Message-ID: <68d4eccd.170a0220.3a164b.68acSMTPIN_ADDED_MISSING@mx.google.com> Received: from [172.21.0.2] (unknown [172.18.0.240]) by postal.iol.unh.edu (Postfix) with ESMTP id 75ADB60003E8; Thu, 25 Sep 2025 03:18:36 -0400 (EDT) Subject: |SUCCESS| [GIT MASTER] 2786b466bcf44f122e10c45da3a9615ffde5ac8b From: dpdklab@iol.unh.edu To: Test Report Cc: dpdk-test-reports@iol.unh.edu, Stephen Hemminger Content-Type: text/plain X-BeenThere: test-report@dpdk.org X-Mailman-Version: 2.1.29 Precedence: list List-Id: automatic DPDK test reports List-Unsubscribe: , List-Archive: List-Post: List-Help: List-Subscribe: , Errors-To: test-report-bounces@dpdk.org _Testing PASS_ Branch: dpdk-next-net 2786b466bcf44f122e10c45da3a9615ffde5ac8b --> testing pass Upstream job id: Generic-Unit-Test-DPDK#374846 Test environment and result as below: +-------------------------------+----------------+ | Environment | dpdk_unit_test | +===============================+================+ | CentOS Stream 10 | PASS | +-------------------------------+----------------+ | CentOS Stream 9 | PASS | +-------------------------------+----------------+ | Debian GNU/Linux 12 | PASS | +-------------------------------+----------------+ | Fedora Linux 40 | PASS | +-------------------------------+----------------+ | Fedora Linux 41 | PASS | +-------------------------------+----------------+ | Red Hat Enterprise Linux 8.10 | PASS | +-------------------------------+----------------+ | Fedora Linux 42 | PASS | +-------------------------------+----------------+ | Ubuntu 22.04 | PASS | +-------------------------------+----------------+ | Ubuntu 20.04 | PASS | +-------------------------------+----------------+ | Ubuntu 24.04 | PASS | +-------------------------------+----------------+ | Red Hat Enterprise Linux 9.5 | PASS | +-------------------------------+----------------+ | Windows Server 2022 | PASS | +-------------------------------+----------------+ CentOS Stream 10 Kernel: 5.15 Compiler: gcc gcc (GCC) 14.2.1 20250110 (Red Hat 14.2.1-8) CentOS Stream 9 Kernel: 5.15 Compiler: gcc gcc (GCC) 11.5.0 20240719 (Red Hat 11.5.0-11) Debian GNU/Linux 12 Kernel: 5.15 Compiler: gcc gcc (Debian 12.2.0-14+deb12u1) 12.2.0 Fedora Linux 40 Kernel: 5.15 Compiler: clang gcc (GCC) 14.2.1 20240912 (Red Hat 14.2.1-3) Fedora Linux 41 Kernel: 5.15 Compiler: gcc gcc (GCC) 14.3.1 20250523 (Red Hat 14.3.1-1) Red Hat Enterprise Linux 8.10 Kernel: 5.15 Compiler: gcc gcc (GCC) 8.5.0 20210514 (Red Hat 8.5.0-22) Fedora Linux 42 Kernel: 5.15 Compiler: gcc gcc (GCC) 15.2.1 20250808 (Red Hat 15.2.1-1) Ubuntu 22.04 Kernel: 5.15 Compiler: gcc gcc (Ubuntu 11.4.0-1ubuntu1~22.04) 11.4.0 Ubuntu 20.04 Kernel: 5.15 Compiler: gcc gcc (Ubuntu 9.4.0-1ubuntu1~20.04.2) 9.4.0 Ubuntu 24.04 Kernel: 5.15 Compiler: gcc gcc (Ubuntu 13.3.0-6ubuntu2~24.04) 13.3.0 Red Hat Enterprise Linux 9.5 Kernel: 5.15 Compiler: gcc gcc (GCC) 11.5.0 20240719 (Red Hat 11.5.0-2) Windows Server 2022 Kernel: 10.0.20348.2031 Compiler: clang 15.0.7, gcc 14.1.0 (MinGW), and MSVC VS 19.39.33521 To view detailed results, visit: https://lab.dpdk.org/results/dashboard/tarballs/34997/ UNH-IOL DPDK Community Lab To manage your email subscriptions, visit: https://lab.dpdk.org/results/dashboard/preferences/subscriptions/