From mboxrd@z Thu Jan 1 00:00:00 1970 Return-Path: Received: from mails.dpdk.org (mails.dpdk.org [217.70.189.124]) by inbox.dpdk.org (Postfix) with ESMTP id B9C6446F6D for ; Thu, 25 Sep 2025 10:07:34 +0200 (CEST) Received: from mails.dpdk.org (localhost [127.0.0.1]) by mails.dpdk.org (Postfix) with ESMTP id 949134028F; Thu, 25 Sep 2025 10:07:34 +0200 (CEST) Received: from mail-qv1-f98.google.com (mail-qv1-f98.google.com [209.85.219.98]) by mails.dpdk.org (Postfix) with ESMTP id 3EB744028F for ; Thu, 25 Sep 2025 10:07:33 +0200 (CEST) Received: by mail-qv1-f98.google.com with SMTP id 6a1803df08f44-79390b83c7dso4637316d6.1 for ; Thu, 25 Sep 2025 01:07:33 -0700 (PDT) DKIM-Signature: v=1; a=rsa-sha256; c=relaxed/relaxed; d=iol.unh.edu; s=unh-iol; t=1758787652; x=1759392452; darn=dpdk.org; h=cc:to:from:subject:message-id:date:from:to:cc:subject:date :message-id:reply-to; bh=jGUNRxB+THb8exWB2X3JQjLOddfnVOj/mkVJFrnhJxc=; b=BUg8Utq0Smxj+7oJiRt0Y3+E2yCTAyl+wTnald8MHc76qDsCJ2yyLa/1qBBJ2tf1Tk XkB6HuCXGjqAy9+j0GEyLRvP28ZfKGsp0VsA5GxOVZ2KCgIxVtxybdxlp12f7mkvW+HB pgo6IKdQh+LAlPi/LNNQ7seUh79uRRSCnrfyk= X-Google-DKIM-Signature: v=1; a=rsa-sha256; c=relaxed/relaxed; d=1e100.net; s=20230601; t=1758787652; x=1759392452; h=cc:to:from:subject:message-id:date:x-gm-message-state:from:to:cc :subject:date:message-id:reply-to; bh=jGUNRxB+THb8exWB2X3JQjLOddfnVOj/mkVJFrnhJxc=; b=PFHxejOF2PpdGrw+Pnl9IYRNsXeC6kXyi4TA5YuEgUltfXliDeoBg+ndPBl0SgZ5Lb VrzYJ3ZvEfBhG9Y6asRN4wHMwLFuridxe+H66gWKRitXcftzLcAQs1FDxns/9KT3w98e viqqVORlJcO1+H4D2EeLT0D7DZvv/NP7slYth6KEwd78TGTcHoVWGutFjTINsqDTJGfz 7sb4Bh65OsW41tRt/pC4CakDlJsZxLG/Q7xsDxx9+K5RXq3uI8xkr/DsPTdqjVpM3jLk m/sWVmTV2+FolctAbNM7tLjCeQExY8gjE+hrkNJRzRuOtpGkANsSB7h4bVYSwp4NPTf2 GTtQ== X-Gm-Message-State: AOJu0Yy8NktWNxXWqEyJX3u3J2SOZFjcMJYF2FFIsLInBCPnLxdFWB4o 2hIst94rZZyaGpSzxy35VqW7ykXWZwbNdWp3+LgHV+wRrIMQ/rBuA2TCaSOC5MhahBpXakjmK/5 FtxuTFyXhoCnqI46Ix6w2UIw3OWUQmpduET0o X-Gm-Gg: ASbGncvLmrli2EP14tCirCRv4dpNnMqQApyfVtvSI37pW6/KQb7vYn72x3aYS5/SaSu YCJA4kicjU33rvuaK8Jxp+TbIlHlSFYTw7rAUZWRNWwhuxphLG8NqTj+329QlYw7baJSjMxdbPS /kEqIXb+ClcDevjowIB2RY2tL6kik69EjO1KdjwthYS0aKuAYZBjCQMODed8oikGh/4OZfZuL7M /0Vi7Ybt/ITtu9xNuVRYBIA45yPVmcCHcWnkYkb4e3CA/ZaFejuIhNYDzNc7kPYhjSsohC13pTu dbT76mbRNHAOV8so3HBfmYjV3ebSO8tPnDB0WxVIU8/SPjL0eyqsvbIL6WkFZiltjy1BVvXp X-Google-Smtp-Source: AGHT+IHO+SBD9T1QqfEoaCi9TRw5ZQlzaI7BxSEVGpUAQqQQOuVlGro0InYOq9PyMHaevUSsNeCToO1wLjNy X-Received: by 2002:a05:6214:5187:b0:795:ba18:4f29 with SMTP id 6a1803df08f44-7fc2f2daf9fmr39810496d6.24.1758787652447; Thu, 25 Sep 2025 01:07:32 -0700 (PDT) Received: from postal.iol.unh.edu (postal.iol.unh.edu. [132.177.123.84]) by smtp-relay.gmail.com with ESMTPS id 6a1803df08f44-801325caf22sm933646d6.5.2025.09.25.01.07.32 (version=TLS1_2 cipher=ECDHE-ECDSA-AES128-GCM-SHA256 bits=128/128); Thu, 25 Sep 2025 01:07:32 -0700 (PDT) X-Relaying-Domain: iol.unh.edu Date: Thu, 25 Sep 2025 01:07:32 -0700 (PDT) Message-ID: <68d4f844.d40a0220.2605e2.5f1fSMTPIN_ADDED_MISSING@mx.google.com> Received: from [172.21.0.3] (unknown [172.18.0.240]) by postal.iol.unh.edu (Postfix) with ESMTP id 1CDF26051830; Thu, 25 Sep 2025 04:07:32 -0400 (EDT) Subject: |SUCCESS| [GIT MASTER] b287e404643aeab5bb5db084c142789df187844e From: dpdklab@iol.unh.edu To: Test Report Cc: dpdk-test-reports@iol.unh.edu, Xueming Li , Christian Ehrhardt , Kevin Traynor , Luca Boccassi Content-Type: text/plain X-BeenThere: test-report@dpdk.org X-Mailman-Version: 2.1.29 Precedence: list List-Id: automatic DPDK test reports List-Unsubscribe: , List-Archive: List-Post: List-Help: List-Subscribe: , Errors-To: test-report-bounces@dpdk.org _Testing PASS_ Branch: tags/v24.11 b287e404643aeab5bb5db084c142789df187844e --> testing pass Upstream job id: Generic-DPDK-Compile-Meson#428401 Test environment and result as below: +------------------------------+--------------------+ | Environment | dpdk_meson_compile | +==============================+====================+ | Red Hat Enterprise Linux 9.5 | PASS | +------------------------------+--------------------+ | Ubuntu 20.04 | PASS | +------------------------------+--------------------+ | Fedora Linux 42 | PASS | +------------------------------+--------------------+ | CentOS Stream 10 | PASS | +------------------------------+--------------------+ | Ubuntu 22.04 | PASS | +------------------------------+--------------------+ | Debian GNU/Linux 12 | PASS | +------------------------------+--------------------+ | Ubuntu 24.04 | PASS | +------------------------------+--------------------+ | CentOS Stream 9 | PASS | +------------------------------+--------------------+ Red Hat Enterprise Linux 9.5 Kernel: 5.4 Compiler: gcc gcc (GCC) 11.5.0 20240719 (Red Hat 11.5.0-2) Ubuntu 20.04 Kernel: 5.15 Compiler: aarch64-linux-gnu-gcc gcc (Ubuntu 9.4.0-1ubuntu1~20.04.2) 9.4.0 Fedora Linux 42 Kernel: 5.4 Compiler: gcc gcc (GCC) 15.2.1 20250808 (Red Hat 15.2.1-1) CentOS Stream 10 Kernel: 5.4 Compiler: gcc gcc (GCC) 14.2.1 20250110 (Red Hat 14.2.1-8) Ubuntu 22.04 Kernel: 5.4 Compiler: gcc gcc (Ubuntu 11.4.0-1ubuntu1~22.04) 11.4.0 Debian GNU/Linux 12 Kernel: 5.4 Compiler: gcc gcc (Debian 12.2.0-14+deb12u1) 12.2.0 Ubuntu 24.04 Kernel: 5.4 Compiler: gcc gcc (Ubuntu 13.3.0-6ubuntu2~24.04) 13.3.0 CentOS Stream 9 Kernel: 5.4 Compiler: gcc gcc (GCC) 11.5.0 20240719 (Red Hat 11.5.0-11) To view detailed results, visit: https://lab.dpdk.org/results/dashboard/tarballs/34995/ UNH-IOL DPDK Community Lab To manage your email subscriptions, visit: https://lab.dpdk.org/results/dashboard/preferences/subscriptions/