From mboxrd@z Thu Jan 1 00:00:00 1970 Return-Path: Received: from mails.dpdk.org (mails.dpdk.org [217.70.189.124]) by inbox.dpdk.org (Postfix) with ESMTP id BB87E46F6D for ; Thu, 25 Sep 2025 10:20:17 +0200 (CEST) Received: from mails.dpdk.org (localhost [127.0.0.1]) by mails.dpdk.org (Postfix) with ESMTP id B151A4028F; Thu, 25 Sep 2025 10:20:17 +0200 (CEST) Received: from mail-il1-f225.google.com (mail-il1-f225.google.com [209.85.166.225]) by mails.dpdk.org (Postfix) with ESMTP id 792444028F for ; Thu, 25 Sep 2025 10:20:16 +0200 (CEST) Received: by mail-il1-f225.google.com with SMTP id e9e14a558f8ab-425635acc4dso7199115ab.1 for ; Thu, 25 Sep 2025 01:20:16 -0700 (PDT) DKIM-Signature: v=1; a=rsa-sha256; c=relaxed/relaxed; d=iol.unh.edu; s=unh-iol; t=1758788416; x=1759393216; darn=dpdk.org; h=references:in-reply-to:cc:to:from:subject:message-id:date:from:to :cc:subject:date:message-id:reply-to; bh=iZppt7TCd05ClxU6ElePB7Buyg2AfntBIuxRA5bpzro=; b=A2h0kDOPBrQlyfk497DX8nZGc6k4fcIIaAT80DdTdH2jpsZh7xp1v8VKuHUs1W4iuv t736C39ouk7bfuzaqwZBG61rhdvq+4szcq4s79ppLTA0L8RvbXfFByI7jUmUvsizWHQV uPy6JQr+sOgWtuq3kmxk35dyPcWSB4VQXXtzc= X-Google-DKIM-Signature: v=1; a=rsa-sha256; c=relaxed/relaxed; d=1e100.net; s=20230601; t=1758788416; x=1759393216; h=references:in-reply-to:cc:to:from:subject:message-id:date :x-gm-message-state:from:to:cc:subject:date:message-id:reply-to; bh=iZppt7TCd05ClxU6ElePB7Buyg2AfntBIuxRA5bpzro=; b=qGu/8WhWNxSQj1eVRib0fUbO+z65GTgKTlZK655IvYVoM3+D92XLxgD2Ka2mUS7Afj jRdk1sCQ0peCR71+DKdoNaHmQJop1BzpI0NE/tJziY4lFFgOLQOluZNBMiR80L3e/DWk 3GvAA48fK/YKF2JHoKHvZFcGgfM0L4Vb/GgZ1eNwBII0bcTzb7iH1N6yttL4eVmbyzni HBtEeLyqCWnV8Df3O2RKdc//R8OyxQPMyUw5QB4VNQ0UKcyID+t0jnfLrA8rJJnKZC7E 2CuOoAsuxfI2zdq6HeOFFiEEZmuuFnnYkbh1qcDtNUDkXWdP+RC/DL03xiShyBzJS4DA pVCw== X-Gm-Message-State: AOJu0YwuqcM1/N6WVfz0An3BzTkJRB2d7zmPvEcQY/Tuxeln11/JXu9i 8esV6b6OlOsIwL5iQsYUIxHkcSJqktA9L5ISeSMjSU78xFjlxuc56cpdwEESt4hpq3u8ijWZd45 fQcWt/H9ikaEfTd+RPBHvAqiT0y5dI7zggL0WuckbOzA/ X-Gm-Gg: ASbGncvXFLPC2g5KHDFnfSUgPcpEKzJMyTcCXXAK2EhvgnmEZv8d852eVxC8L4CpYol Q5q8DDJ/pwd/Fs0FoMw8jAYIxWAx1vjCsxeeIemvXySmxhI2sgHM8J82WNzySQLebaupcNWWVMH pXogrKiFJyPzKFO2/uxolxEu4g/ohqtkfgQUJZuW0SmiIOexcFbksdvf5ghQRkuvmz+19KHSURP tzUlhPXFyjNaqHRbDYbs7VLi9Odsz4sSysB5K+QJAJv+NucoKaJb/3V1rPwyDwR9ZA8g/ZIhvzJ 14RtXk4/TjNue1rd44ugCNUfd965eUZbvl7SuTKAfmCNqwFB4MOJl7N2uiCpiXFgqV7zZRKj X-Google-Smtp-Source: AGHT+IGbg2HTxAWPRfMHVqxXV0z13iVZEBlF3EeBFNb6QGQ15I/OXh3KsOzyk0KZS+j0AaWF7RyHnTLjZIWe X-Received: by 2002:a05:6e02:3c82:b0:424:2d4:5844 with SMTP id e9e14a558f8ab-425955ca95cmr30217285ab.5.1758788415775; Thu, 25 Sep 2025 01:20:15 -0700 (PDT) Received: from postal.iol.unh.edu (postal.iol.unh.edu. [132.177.123.84]) by smtp-relay.gmail.com with ESMTPS id 8926c6da1cb9f-56a642124a3sm74835173.10.2025.09.25.01.20.15 (version=TLS1_2 cipher=ECDHE-ECDSA-AES128-GCM-SHA256 bits=128/128); Thu, 25 Sep 2025 01:20:15 -0700 (PDT) X-Relaying-Domain: iol.unh.edu Date: Thu, 25 Sep 2025 01:20:15 -0700 (PDT) Message-ID: <68d4fb3f.050a0220.3b0ec5.529bSMTPIN_ADDED_MISSING@mx.google.com> Received: from [172.21.0.2] (unknown [172.18.0.240]) by postal.iol.unh.edu (Postfix) with ESMTP id 4EAD06051830; Thu, 25 Sep 2025 04:20:15 -0400 (EDT) Subject: |SUCCESS| pw156926-156941 [PATCH] [v11,17/17] net/nbl: add nbl devic From: dpdklab@iol.unh.edu To: Test Report Cc: dpdk-test-reports@iol.unh.edu, Stephen Hemminger In-Reply-To: <20250925065854.2907820-18-dimon.zhao@nebula-matrix.com> References: <20250925065854.2907820-18-dimon.zhao@nebula-matrix.com> Content-Type: text/plain X-BeenThere: test-report@dpdk.org X-Mailman-Version: 2.1.29 Precedence: list List-Id: automatic DPDK test reports List-Unsubscribe: , List-Archive: List-Post: List-Help: List-Subscribe: , Errors-To: test-report-bounces@dpdk.org Test-Label: iol-unit-amd64-testing Test-Status: SUCCESS http://dpdk.org/patch/156941 _Testing PASS_ Submitter: Dimon Zhao Date: Thursday, September 25 2025 06:58:54 DPDK git baseline: Repo:dpdk-next-net Branch: master CommitID:2786b466bcf44f122e10c45da3a9615ffde5ac8b 156926-156941 --> testing pass Upstream job id: Generic-Unit-Test-DPDK#374880 Test environment and result as below: +-------------------------------+----------------+ | Environment | dpdk_unit_test | +===============================+================+ | CentOS Stream 9 | PASS | +-------------------------------+----------------+ | Debian GNU/Linux 12 | PASS | +-------------------------------+----------------+ | CentOS Stream 10 | PASS | +-------------------------------+----------------+ | Fedora Linux 40 | PASS | +-------------------------------+----------------+ | Fedora Linux 41 | PASS | +-------------------------------+----------------+ | Fedora Linux 42 | PASS | +-------------------------------+----------------+ | Ubuntu 20.04 | PASS | +-------------------------------+----------------+ | Red Hat Enterprise Linux 8.10 | PASS | +-------------------------------+----------------+ | Ubuntu 22.04 | PASS | +-------------------------------+----------------+ | Ubuntu 24.04 | PASS | +-------------------------------+----------------+ | Red Hat Enterprise Linux 9.5 | PASS | +-------------------------------+----------------+ | Windows Server 2022 | PASS | +-------------------------------+----------------+ CentOS Stream 9 Kernel: 5.15 Compiler: gcc gcc (GCC) 11.5.0 20240719 (Red Hat 11.5.0-11) Debian GNU/Linux 12 Kernel: 5.15 Compiler: gcc gcc (Debian 12.2.0-14+deb12u1) 12.2.0 CentOS Stream 10 Kernel: 5.15 Compiler: gcc gcc (GCC) 14.2.1 20250110 (Red Hat 14.2.1-8) Fedora Linux 40 Kernel: 5.15 Compiler: gcc gcc (GCC) 14.2.1 20240912 (Red Hat 14.2.1-3) Fedora Linux 41 Kernel: 5.15 Compiler: clang gcc (GCC) 14.3.1 20250523 (Red Hat 14.3.1-1) Fedora Linux 42 Kernel: 5.15 Compiler: gcc gcc (GCC) 15.2.1 20250808 (Red Hat 15.2.1-1) Ubuntu 20.04 Kernel: 5.15 Compiler: gcc gcc (Ubuntu 9.4.0-1ubuntu1~20.04.2) 9.4.0 Red Hat Enterprise Linux 8.10 Kernel: 5.15 Compiler: gcc gcc (GCC) 8.5.0 20210514 (Red Hat 8.5.0-22) Ubuntu 22.04 Kernel: 5.15 Compiler: gcc gcc (Ubuntu 11.4.0-1ubuntu1~22.04) 11.4.0 Ubuntu 24.04 Kernel: 5.15 Compiler: gcc gcc (Ubuntu 13.3.0-6ubuntu2~24.04) 13.3.0 Red Hat Enterprise Linux 9.5 Kernel: 5.15 Compiler: gcc gcc (GCC) 11.5.0 20240719 (Red Hat 11.5.0-2) Windows Server 2022 Kernel: 10.0.20348.2031 Compiler: clang 15.0.7, gcc 14.1.0 (MinGW), and MSVC VS 19.39.33521 To view detailed results, visit: https://lab.dpdk.org/results/dashboard/patchsets/34145/ UNH-IOL DPDK Community Lab To manage your email subscriptions, visit: https://lab.dpdk.org/results/dashboard/preferences/subscriptions/