From mboxrd@z Thu Jan 1 00:00:00 1970 Return-Path: Received: from mails.dpdk.org (mails.dpdk.org [217.70.189.124]) by inbox.dpdk.org (Postfix) with ESMTP id 00D8546F6D for ; Thu, 25 Sep 2025 10:21:34 +0200 (CEST) Received: from mails.dpdk.org (localhost [127.0.0.1]) by mails.dpdk.org (Postfix) with ESMTP id ED6FE4028F; Thu, 25 Sep 2025 10:21:34 +0200 (CEST) Received: from mail-il1-f228.google.com (mail-il1-f228.google.com [209.85.166.228]) by mails.dpdk.org (Postfix) with ESMTP id 412724028F for ; Thu, 25 Sep 2025 10:21:33 +0200 (CEST) Received: by mail-il1-f228.google.com with SMTP id e9e14a558f8ab-4259247208aso3202265ab.3 for ; Thu, 25 Sep 2025 01:21:33 -0700 (PDT) DKIM-Signature: v=1; a=rsa-sha256; c=relaxed/relaxed; d=iol.unh.edu; s=unh-iol; t=1758788492; x=1759393292; darn=dpdk.org; h=references:in-reply-to:cc:to:from:subject:message-id:date:from:to :cc:subject:date:message-id:reply-to; bh=+SNxkH14UnVEybFn6L5jzfKFULHVbxWEE7op4ArXTjI=; b=c1II+TzZbBlpBaqIjrJEtM59LnKA3Fqz7uXjLNpH0kPPwvE6gHhoxQjsFDVNyr2t+9 zryhHDAlXjvEk+DrZt4btdQhjdGrDcnLtD4bRKNFrkoQh59zXBrSJJh+eSgF08Zq7NVY 1AKHFqeJgLLlfRz3I50vCSz/LHgbYNt+zdYOY= X-Google-DKIM-Signature: v=1; a=rsa-sha256; c=relaxed/relaxed; d=1e100.net; s=20230601; t=1758788492; x=1759393292; h=references:in-reply-to:cc:to:from:subject:message-id:date :x-gm-message-state:from:to:cc:subject:date:message-id:reply-to; bh=+SNxkH14UnVEybFn6L5jzfKFULHVbxWEE7op4ArXTjI=; b=ScasfUXU5yXOxLYDDw0tSKW5WhuEv/oJ64B3EuoUKZda0u3S2Y1lpXv6X2/8IpmDqG 3miKy/essS6t5XM3qrFHMhgZDRkQwIzfIQ10EtZoRrlZQLjlTip9vufGLfdlqDJNLGHl zlVH0DkyZazeFZDwJZxdH+02O8puzv36ZeBVLb9NurOTQwFw84ZbKyfj+mg/2oSmDabR 4azLUygiLaFgj+wh6HS029uJIX6MNZP4RRWsYRBAirmnZ5MiA5xbc24nzge5X9powlQr SVQcF9QAFK8dqKuRhdE+1bwKY8BOZ1bLIAHi/BTkaS0nKiItYgCUUKug+N5HIQQ9BBdh eP4A== X-Gm-Message-State: AOJu0YydNDQGE5JmYMQexTR7I4+yITnvsQ8tSnZoFE9jwmEPsRU1NS1p k8PAP/GqpYU46rRreUke2CROnLzt5NH+BAKHkis0PFMlm6P8XEpRvpoiVeoXw4tWdyR7jaroheW bLJ3utEoxTkMU3U7CkyhTjtjZanleZNQRGZpv6G7XOFYz9lUMyEcRapbQ5t6M X-Gm-Gg: ASbGnctrpzSGwSIvq9Z9a7mreJId7X7GE2dAGBzoTOJ5kLQ9gtuuZn10Osu2odyKSNW fPwrY0QP+Nju2Op/dlUCYOtfdqJtTC/XlmmVqkB7JeSl5iupTF/sjollzuIlNUj6q6lN3+BO0p9 eM/53PkkOPoVjh5EmJzoPDv3Nzj40UNXfed/0aFbyoAcqdgO9l8ochZ4qzySkP0L7ASfshCI3lI pggB/6+yVLbB/3LvNo2dcjtZhhBvIDSVPtV1PrLZ7pl59l5qXciFWeQ5IMT9kcaJTwMw7ITkrv3 W2Z6oKAwthTQ4KyCyYxsW40EuOu5LxAsCOkNxzX+iqKw76URIg== X-Google-Smtp-Source: AGHT+IGAMRD6j9MeRiqq2iylR2+99Vlh0/yL9A2Nbo8R7JcQo2dTnCPnuCsHg5E7o/X6H7NGCbQ+r37+/sdH X-Received: by 2002:a05:6e02:3a0d:b0:425:7ab4:d61 with SMTP id e9e14a558f8ab-4259563bb2bmr39678995ab.25.1758788492365; Thu, 25 Sep 2025 01:21:32 -0700 (PDT) Received: from postal.iol.unh.edu (postal.iol.unh.edu. [2606:4100:3880:1234::84]) by smtp-relay.gmail.com with ESMTPS id e9e14a558f8ab-425c02657fbsm943545ab.42.2025.09.25.01.21.32 (version=TLS1_2 cipher=ECDHE-ECDSA-AES128-GCM-SHA256 bits=128/128); Thu, 25 Sep 2025 01:21:32 -0700 (PDT) X-Relaying-Domain: iol.unh.edu Date: Thu, 25 Sep 2025 01:21:32 -0700 (PDT) Message-ID: <68d4fb8c.050a0220.1d7e9f.5f45SMTPIN_ADDED_MISSING@mx.google.com> Received: from [172.21.0.2] (unknown [172.18.0.240]) by postal.iol.unh.edu (Postfix) with ESMTP id DFE806051830; Thu, 25 Sep 2025 04:21:31 -0400 (EDT) Subject: |SUCCESS| pw156926-156941 [PATCH] [v11,17/17] net/nbl: add nbl devic From: dpdklab@iol.unh.edu To: Test Report Cc: dpdk-test-reports@iol.unh.edu, Stephen Hemminger In-Reply-To: <20250925065854.2907820-18-dimon.zhao@nebula-matrix.com> References: <20250925065854.2907820-18-dimon.zhao@nebula-matrix.com> Content-Type: text/plain X-BeenThere: test-report@dpdk.org X-Mailman-Version: 2.1.29 Precedence: list List-Id: automatic DPDK test reports List-Unsubscribe: , List-Archive: List-Post: List-Help: List-Subscribe: , Errors-To: test-report-bounces@dpdk.org Test-Label: iol-compile-amd64-testing Test-Status: SUCCESS http://dpdk.org/patch/156941 _Testing PASS_ Submitter: Dimon Zhao Date: Thursday, September 25 2025 06:58:54 DPDK git baseline: Repo:dpdk-next-net Branch: master CommitID:2786b466bcf44f122e10c45da3a9615ffde5ac8b 156926-156941 --> testing pass Upstream job id: Generic-DPDK-Compile-Meson#428461 Test environment and result as below: +-------------------------------+--------------------+-------------------+------------------+-------------------------+-------------------+----------------------+ | Environment | dpdk_meson_compile | dpdk_compile_spdk | dpdk_compile_ovs | dpdk_llvm_clang_compile | dpdk_msvc_compile | dpdk_mingw64_compile | +===============================+====================+===================+==================+=========================+===================+======================+ | CentOS Stream 9 | PASS | PASS | SKIPPED | SKIPPED | SKIPPED | SKIPPED | +-------------------------------+--------------------+-------------------+------------------+-------------------------+-------------------+----------------------+ | CentOS Stream 10 | PASS | SKIPPED | SKIPPED | SKIPPED | SKIPPED | SKIPPED | +-------------------------------+--------------------+-------------------+------------------+-------------------------+-------------------+----------------------+ | Debian GNU/Linux 12 | PASS | PASS | SKIPPED | SKIPPED | SKIPPED | SKIPPED | +-------------------------------+--------------------+-------------------+------------------+-------------------------+-------------------+----------------------+ | Fedora Linux 42 | PASS | PASS | PASS | SKIPPED | SKIPPED | SKIPPED | +-------------------------------+--------------------+-------------------+------------------+-------------------------+-------------------+----------------------+ | openSUSE Leap 15.6 | PASS | SKIPPED | SKIPPED | SKIPPED | SKIPPED | SKIPPED | +-------------------------------+--------------------+-------------------+------------------+-------------------------+-------------------+----------------------+ | Ubuntu 20.04 | PASS | SKIPPED | SKIPPED | SKIPPED | SKIPPED | SKIPPED | +-------------------------------+--------------------+-------------------+------------------+-------------------------+-------------------+----------------------+ | Red Hat Enterprise Linux 8.10 | PASS | SKIPPED | SKIPPED | SKIPPED | SKIPPED | SKIPPED | +-------------------------------+--------------------+-------------------+------------------+-------------------------+-------------------+----------------------+ | Red Hat Enterprise Linux 9.5 | PASS | SKIPPED | SKIPPED | SKIPPED | SKIPPED | SKIPPED | +-------------------------------+--------------------+-------------------+------------------+-------------------------+-------------------+----------------------+ | FreeBSD 14.2 | PASS | SKIPPED | SKIPPED | SKIPPED | SKIPPED | SKIPPED | +-------------------------------+--------------------+-------------------+------------------+-------------------------+-------------------+----------------------+ | Ubuntu 22.04 | PASS | PASS | SKIPPED | SKIPPED | SKIPPED | SKIPPED | +-------------------------------+--------------------+-------------------+------------------+-------------------------+-------------------+----------------------+ | Ubuntu 24.04 | PASS | PASS | PASS | SKIPPED | SKIPPED | SKIPPED | +-------------------------------+--------------------+-------------------+------------------+-------------------------+-------------------+----------------------+ | Alpine Linux 3.22.0 | PASS | SKIPPED | SKIPPED | SKIPPED | SKIPPED | SKIPPED | +-------------------------------+--------------------+-------------------+------------------+-------------------------+-------------------+----------------------+ | Windows Server 2022 | SKIPPED | SKIPPED | SKIPPED | PASS | PASS | PASS | +-------------------------------+--------------------+-------------------+------------------+-------------------------+-------------------+----------------------+ CentOS Stream 9 Kernel: 5.15 Compiler: gcc gcc (GCC) 11.5.0 20240719 (Red Hat 11.5.0-11) CentOS Stream 10 Kernel: 5.15 Compiler: gcc gcc (GCC) 14.2.1 20250110 (Red Hat 14.2.1-8) Debian GNU/Linux 12 Kernel: 5.15 Compiler: gcc gcc (Debian 12.2.0-14+deb12u1) 12.2.0 Fedora Linux 42 Kernel: 5.15 Compiler: clang gcc (GCC) 15.2.1 20250808 (Red Hat 15.2.1-1) openSUSE Leap 15.6 Kernel: 5.15 Compiler: gcc gcc (SUSE Linux) 7.5.0 Ubuntu 20.04 Kernel: 4.19 Compiler: gcc gcc (Ubuntu 9.4.0-1ubuntu1~20.04.2) 9.4.0 Red Hat Enterprise Linux 8.10 Kernel: 5.15 Compiler: gcc gcc (GCC) 8.5.0 20210514 (Red Hat 8.5.0-22) Red Hat Enterprise Linux 9.5 Kernel: 5.15 Compiler: gcc gcc (GCC) 11.5.0 20240719 (Red Hat 11.5.0-2) FreeBSD 14.2 Kernel: 14.2-RELEASE Compiler: clang 18.1.6 Ubuntu 22.04 Kernel: 5.15 Compiler: gcc gcc (Ubuntu 11.4.0-1ubuntu1~22.04) 11.4.0 Ubuntu 24.04 Kernel: 5.15 Compiler: gcc gcc (Ubuntu 13.3.0-6ubuntu2~24.04) 13.3.0 Alpine Linux 3.22.0 Kernel: 5.15 Compiler: gcc gcc (Alpine 14.2.0) 14.2.0 Windows Server 2022 Kernel: 10.0.20348.2031 Compiler: clang 15.0.7, gcc 14.1.0 (MinGW), and MSVC VS 19.39.33521 To view detailed results, visit: https://lab.dpdk.org/results/dashboard/patchsets/34145/ UNH-IOL DPDK Community Lab To manage your email subscriptions, visit: https://lab.dpdk.org/results/dashboard/preferences/subscriptions/