From mboxrd@z Thu Jan 1 00:00:00 1970 Return-Path: Received: from mails.dpdk.org (mails.dpdk.org [217.70.189.124]) by inbox.dpdk.org (Postfix) with ESMTP id 6420246F6D for ; Thu, 25 Sep 2025 10:58:08 +0200 (CEST) Received: from mails.dpdk.org (localhost [127.0.0.1]) by mails.dpdk.org (Postfix) with ESMTP id 3F7644028F; Thu, 25 Sep 2025 10:58:08 +0200 (CEST) Received: from mail-il1-f228.google.com (mail-il1-f228.google.com [209.85.166.228]) by mails.dpdk.org (Postfix) with ESMTP id D91EC4028F for ; Thu, 25 Sep 2025 10:58:06 +0200 (CEST) Received: by mail-il1-f228.google.com with SMTP id e9e14a558f8ab-3fe48646d40so10132655ab.0 for ; Thu, 25 Sep 2025 01:58:06 -0700 (PDT) DKIM-Signature: v=1; a=rsa-sha256; c=relaxed/relaxed; d=iol.unh.edu; s=unh-iol; t=1758790686; x=1759395486; darn=dpdk.org; h=cc:to:from:subject:message-id:date:from:to:cc:subject:date :message-id:reply-to; bh=rjSN6srGjgph1mYoSHQ9/cV56Eb78zFlm/TDAb6dnWk=; b=XnWSixX9NYAei6Wel4TjFlG+Z0CfQfaxUp0ptkSMDXjWZwBXE5QAZjHYy+oaKEZgre vhe/bdLmWjt580T6bTsb2/QBfNGa/TwCL7me8ILjosCw0/lIvmH+xkjTKk3+VQNO8Q8T WoKeikkx+qhPUBdFVpAk7tcMe4ZTJKYC2sN2o= X-Google-DKIM-Signature: v=1; a=rsa-sha256; c=relaxed/relaxed; d=1e100.net; s=20230601; t=1758790686; x=1759395486; h=cc:to:from:subject:message-id:date:x-gm-message-state:from:to:cc :subject:date:message-id:reply-to; bh=rjSN6srGjgph1mYoSHQ9/cV56Eb78zFlm/TDAb6dnWk=; b=OR404F/F3Hy7Yz2sAbIGuwR1agUIG/f3AQkqoE7y0TCoNimWpOPNDjv14MGFXusXpH 9oJFisSb5lsWpUHeoangwLeb/fbJsQ5t4Yd4pBWnbH1gmE+LidndnwlzhyIDBvICAUX9 9ZIcaFb8sj4aFwYs5UC4x4LPgo224jfMEMCwaM4rjL96pGi2z3VJppmJsY/EimumWTof bm5w0/VGpRZ+ACve2WD0YXcE2vv2mqEEad+/e0oj020J1Z1T9SrAVCpbLFc8Q1NQFtGp B0MV2wvyU96gamVB87Vq7TfCGqLGvsAN9UUCEz9TyQgWHEcrUT4xMo4AGUUXoPQJxnBC WaoQ== X-Gm-Message-State: AOJu0YzT/ZOiZTWe6zBIDwcTHU2XWSq36x+apquADoa4svZkDMMcQkJu IFqTRq5PK0VAgcm4e9SnCclzvWWKwI1nB0MGEt2qfw3lu337CO6m9cI92dC1TqbZoF/snENg+oC ERCP1i31Sqe9onv8UZQl9VAIYhKohgRaVwlne X-Gm-Gg: ASbGncsYQD0AO7mjA4fgt3Ep7+o8GEawqZH5du10nRA2eZ/x5KhA6f5M4uuOL85TT/L JzxY+JGTy71QQMqdr9YvKjKRKM0QyetCYaXBxmM/ZnMijvGrAFnv5an2ScfjE5vL80KoxFaBc6r efQsC1M3IjzJJVLpPBaAtlM1tq5vjQTPbkk6yzqjxx9vF9UVMcKQo2aCnWnlHrzZe/bSVwMKErI b++D2eMmQ05cIHQYTBq7CfYpwVd+HueogovlBXSCPCr2GCc2IDvO0+KcNdqO2GY+9DscvwR169O mY3MKUaBwal9B35bHFG0e7OzE6kI9cF2gOzDeqSYzr8/4J13tjLhjjug7h/pTt1CYBbq400T X-Google-Smtp-Source: AGHT+IHDjTEbtVcbM0NErBXKOg2McGbckh48Y59Qu6FVp+nfHDjXDyXFW3SlrEHoqGA3LfMrUFDO3DQcWGy1 X-Received: by 2002:a05:6e02:154f:b0:425:94f5:5e3 with SMTP id e9e14a558f8ab-425c2460dd6mr26681955ab.10.1758790686089; Thu, 25 Sep 2025 01:58:06 -0700 (PDT) Received: from postal.iol.unh.edu (postal.iol.unh.edu. [132.177.123.84]) by smtp-relay.gmail.com with ESMTPS id e9e14a558f8ab-425c02654e1sm870695ab.41.2025.09.25.01.58.06 (version=TLS1_2 cipher=ECDHE-ECDSA-AES128-GCM-SHA256 bits=128/128); Thu, 25 Sep 2025 01:58:06 -0700 (PDT) X-Relaying-Domain: iol.unh.edu Date: Thu, 25 Sep 2025 01:58:06 -0700 (PDT) Message-ID: <68d5041e.050a0220.69415.57fbSMTPIN_ADDED_MISSING@mx.google.com> Received: from [172.21.0.2] (unknown [172.18.0.240]) by postal.iol.unh.edu (Postfix) with ESMTP id 5F5386051830; Thu, 25 Sep 2025 04:58:05 -0400 (EDT) Subject: |SUCCESS| [GIT MASTER] 3b43ce3f4a54468e7ef65760c2fd7b4d6ee6d9fc From: dpdklab@iol.unh.edu To: Test Report Cc: dpdk-test-reports@iol.unh.edu, Xueming Li , Christian Ehrhardt , Kevin Traynor , Luca Boccassi Content-Type: text/plain X-BeenThere: test-report@dpdk.org X-Mailman-Version: 2.1.29 Precedence: list List-Id: automatic DPDK test reports List-Unsubscribe: , List-Archive: List-Post: List-Help: List-Subscribe: , Errors-To: test-report-bounces@dpdk.org _Testing PASS_ Branch: tags/v22.11 3b43ce3f4a54468e7ef65760c2fd7b4d6ee6d9fc --> testing pass Upstream job id: Generic-DPDK-Compile-Meson#428428 Test environment and result as below: +------------------------------+--------------------+ | Environment | dpdk_meson_compile | +==============================+====================+ | Red Hat Enterprise Linux 9.5 | PASS | +------------------------------+--------------------+ | Ubuntu 20.04 | PASS | +------------------------------+--------------------+ | Debian GNU/Linux 12 | PASS | +------------------------------+--------------------+ | Fedora Linux 42 | PASS | +------------------------------+--------------------+ | Ubuntu 22.04 | PASS | +------------------------------+--------------------+ | Ubuntu 24.04 | PASS | +------------------------------+--------------------+ | CentOS Stream 10 | PASS | +------------------------------+--------------------+ | CentOS Stream 9 | PASS | +------------------------------+--------------------+ Red Hat Enterprise Linux 9.5 Kernel: 5.4 Compiler: gcc gcc (GCC) 11.5.0 20240719 (Red Hat 11.5.0-2) Ubuntu 20.04 Kernel: 5.15 Compiler: aarch64-linux-gnu-gcc gcc (Ubuntu 9.4.0-1ubuntu1~20.04.2) 9.4.0 Debian GNU/Linux 12 Kernel: 5.4 Compiler: gcc gcc (Debian 12.2.0-14+deb12u1) 12.2.0 Fedora Linux 42 Kernel: 5.4 Compiler: clang gcc (GCC) 15.2.1 20250808 (Red Hat 15.2.1-1) Ubuntu 22.04 Kernel: 5.4 Compiler: gcc gcc (Ubuntu 11.4.0-1ubuntu1~22.04) 11.4.0 Ubuntu 24.04 Kernel: 5.4 Compiler: gcc gcc (Ubuntu 13.3.0-6ubuntu2~24.04) 13.3.0 CentOS Stream 10 Kernel: 5.4 Compiler: gcc gcc (GCC) 14.2.1 20250110 (Red Hat 14.2.1-8) CentOS Stream 9 Kernel: 5.4 Compiler: gcc gcc (GCC) 11.5.0 20240719 (Red Hat 11.5.0-11) To view detailed results, visit: https://lab.dpdk.org/results/dashboard/tarballs/34994/ UNH-IOL DPDK Community Lab To manage your email subscriptions, visit: https://lab.dpdk.org/results/dashboard/preferences/subscriptions/