From mboxrd@z Thu Jan 1 00:00:00 1970 Return-Path: Received: from mails.dpdk.org (mails.dpdk.org [217.70.189.124]) by inbox.dpdk.org (Postfix) with ESMTP id 7439146F6D for ; Thu, 25 Sep 2025 11:50:23 +0200 (CEST) Received: from mails.dpdk.org (localhost [127.0.0.1]) by mails.dpdk.org (Postfix) with ESMTP id 5A511402AB; Thu, 25 Sep 2025 11:50:23 +0200 (CEST) Received: from mail-il1-f225.google.com (mail-il1-f225.google.com [209.85.166.225]) by mails.dpdk.org (Postfix) with ESMTP id EFA65402AB for ; Thu, 25 Sep 2025 11:50:22 +0200 (CEST) Received: by mail-il1-f225.google.com with SMTP id e9e14a558f8ab-426813b9712so1028625ab.2 for ; Thu, 25 Sep 2025 02:50:22 -0700 (PDT) DKIM-Signature: v=1; a=rsa-sha256; c=relaxed/relaxed; d=iol.unh.edu; s=unh-iol; t=1758793822; x=1759398622; darn=dpdk.org; h=cc:to:from:subject:message-id:date:from:to:cc:subject:date :message-id:reply-to; bh=8wKQNOq+zhavndWnKwAWX2ttcddKwydgQPq4+Djdn2Q=; b=VSkvFu1dT7Eh7JLgYsUt/AFtwA7WgQSgL4sG/jkf9P39/3hTnv5RtHEmJ73N8dHxj8 U4yUj7AB0qD2C6iTThjrqD3Jq37lu65UovqFleJNDsdksj6gTrVfYHKFy5jxJr6b6/7b 3GDm8UJHarALE4LNZaPam1JY/BoZu9mNn26Lk= X-Google-DKIM-Signature: v=1; a=rsa-sha256; c=relaxed/relaxed; d=1e100.net; s=20230601; t=1758793822; x=1759398622; h=cc:to:from:subject:message-id:date:x-gm-message-state:from:to:cc :subject:date:message-id:reply-to; bh=8wKQNOq+zhavndWnKwAWX2ttcddKwydgQPq4+Djdn2Q=; b=HoNNY0jD5xjnPKA5uSZo4cwk/yQJahAd+jPbBB+up45HqDwy/QKsAryUIi7zo6FrgV 0Ft7jiPHlGBiMqEaBYHscXIxF5vAUgA3fRO5Kcw0tzXenCKb9WKHAihUWDWp9UgIXgWF 6h0A8TciE3p88vIujt4soe/cGfC4PP/Eki6czGl+dAazGpS1iDK8c5itWr2Y/9Zcgojv Hv4qyNiV5zbOH5HC81gFPrm5Bob/M+zQDJ6cNBAKwHGrflU/i/OMNQ1J8/nXfFKnOVK3 RXP/BiKhsb/Y6gopiRNHy4jZaQO+Ghr7Cf/mE8upqsaec+ue9eIVg2CtPw/pq9Nk5OSn LjPQ== X-Gm-Message-State: AOJu0Yyf1LPJia2qIuCOHIyO+B2CXj7C5ow5/BYiYChkE8XtPAE/geUz uKmzf7roZckbGrcNRC13V0CgBMMTiOPD2lavmRoHJWnRK6VZmxE6A2y19cN8RAkx4TUN4prQkSB 6HohLk088ef29eDpi4k2CsJURD606xupH1axANbBSEtOKF7AQEVGLZTonb0Lx X-Gm-Gg: ASbGnctjrGryHlLiiQPvJ5mYnxPxJnMEXAyv5ByBJfbqTajuKK9bB+4KGjfz5zNbltL Qk3IFMjK5AoaVp0ZHpB+pkX3t2Wt29SfVNapaMjZmUUFbqF95MzMDho33+z6ScvBJatvsBZf+vO 4YDpY7351EgtRAzSbRsvVKvKbZj0nOb2zfQid+eLv0vekTQhsmvs9l+EV5ZaLcsQr4NhZPSIZ/B J/PLVP05cnGk+GCc4ZEAdBkjd2aFfip0NWkQQ3arz8MbgCzeF99mc1M2czPEGZ90aLtdHY9YlJj OdGdPe7Z+F64j37H3yN/TCmbdpZjNg9vLx52OFXl8v3id4hY5w== X-Google-Smtp-Source: AGHT+IFuTjY0AJGXm8UVlND3+2gj83c91+2cWdTvxewglbvUxWctcaoUUZNlUn9zc8q835pTa0ouN4D/6sqt X-Received: by 2002:a05:6e02:461b:b0:424:f397:3880 with SMTP id e9e14a558f8ab-4259563bdccmr41807425ab.26.1758793822161; Thu, 25 Sep 2025 02:50:22 -0700 (PDT) Received: from postal.iol.unh.edu (postal.iol.unh.edu. [2606:4100:3880:1234::84]) by smtp-relay.gmail.com with ESMTPS id e9e14a558f8ab-425bf6d4f14sm893645ab.23.2025.09.25.02.50.22 (version=TLS1_2 cipher=ECDHE-ECDSA-AES128-GCM-SHA256 bits=128/128); Thu, 25 Sep 2025 02:50:22 -0700 (PDT) X-Relaying-Domain: iol.unh.edu Date: Thu, 25 Sep 2025 02:50:22 -0700 (PDT) Message-ID: <68d5105e.050a0220.10f3a1.5946SMTPIN_ADDED_MISSING@mx.google.com> Received: from [172.21.0.4] (unknown [172.18.0.240]) by postal.iol.unh.edu (Postfix) with ESMTP id 608B660003F7; Thu, 25 Sep 2025 05:50:21 -0400 (EDT) Subject: |SUCCESS| [GIT MASTER] 2786b466bcf44f122e10c45da3a9615ffde5ac8b From: dpdklab@iol.unh.edu To: Test Report Cc: dpdk-test-reports@iol.unh.edu, Stephen Hemminger Content-Type: text/plain X-BeenThere: test-report@dpdk.org X-Mailman-Version: 2.1.29 Precedence: list List-Id: automatic DPDK test reports List-Unsubscribe: , List-Archive: List-Post: List-Help: List-Subscribe: , Errors-To: test-report-bounces@dpdk.org _Testing PASS_ Branch: dpdk-next-net 2786b466bcf44f122e10c45da3a9615ffde5ac8b --> testing pass Upstream job id: Generic-DPDK-Compile-Meson#428446 Test environment and result as below: +------------------------------+--------------------+ | Environment | dpdk_meson_compile | +==============================+====================+ | Red Hat Enterprise Linux 9.5 | PASS | +------------------------------+--------------------+ | Ubuntu 20.04 | PASS | +------------------------------+--------------------+ | Debian GNU/Linux 12 | PASS | +------------------------------+--------------------+ | Fedora Linux 42 | PASS | +------------------------------+--------------------+ | Ubuntu 22.04 | PASS | +------------------------------+--------------------+ | Ubuntu 24.04 | PASS | +------------------------------+--------------------+ | CentOS Stream 9 | PASS | +------------------------------+--------------------+ | CentOS Stream 10 | PASS | +------------------------------+--------------------+ Red Hat Enterprise Linux 9.5 Kernel: 5.4 Compiler: gcc gcc (GCC) 11.5.0 20240719 (Red Hat 11.5.0-2) Ubuntu 20.04 Kernel: 5.15 Compiler: aarch64-linux-gnu-gcc gcc (Ubuntu 9.4.0-1ubuntu1~20.04.2) 9.4.0 Debian GNU/Linux 12 Kernel: 5.4 Compiler: gcc gcc (Debian 12.2.0-14+deb12u1) 12.2.0 Fedora Linux 42 Kernel: 5.4 Compiler: gcc gcc (GCC) 15.2.1 20250808 (Red Hat 15.2.1-1) Ubuntu 22.04 Kernel: 5.4 Compiler: gcc gcc (Ubuntu 11.4.0-1ubuntu1~22.04) 11.4.0 Ubuntu 24.04 Kernel: 5.4 Compiler: gcc gcc (Ubuntu 13.3.0-6ubuntu2~24.04) 13.3.0 CentOS Stream 9 Kernel: 5.4 Compiler: gcc gcc (GCC) 11.5.0 20240719 (Red Hat 11.5.0-11) CentOS Stream 10 Kernel: 5.4 Compiler: gcc gcc (GCC) 14.2.1 20250110 (Red Hat 14.2.1-8) To view detailed results, visit: https://lab.dpdk.org/results/dashboard/tarballs/34997/ UNH-IOL DPDK Community Lab To manage your email subscriptions, visit: https://lab.dpdk.org/results/dashboard/preferences/subscriptions/