From mboxrd@z Thu Jan 1 00:00:00 1970 Return-Path: Received: from mails.dpdk.org (mails.dpdk.org [217.70.189.124]) by inbox.dpdk.org (Postfix) with ESMTP id 9AAE046F6F for ; Thu, 25 Sep 2025 12:28:08 +0200 (CEST) Received: from mails.dpdk.org (localhost [127.0.0.1]) by mails.dpdk.org (Postfix) with ESMTP id 793C9402AB; Thu, 25 Sep 2025 12:28:08 +0200 (CEST) Received: from mail-pl1-f225.google.com (mail-pl1-f225.google.com [209.85.214.225]) by mails.dpdk.org (Postfix) with ESMTP id 98F6D402AB for ; Thu, 25 Sep 2025 12:28:06 +0200 (CEST) Received: by mail-pl1-f225.google.com with SMTP id d9443c01a7336-24457f581aeso8770725ad.0 for ; Thu, 25 Sep 2025 03:28:06 -0700 (PDT) DKIM-Signature: v=1; a=rsa-sha256; c=relaxed/relaxed; d=iol.unh.edu; s=unh-iol; t=1758796085; x=1759400885; darn=dpdk.org; h=references:in-reply-to:cc:to:from:subject:message-id:date:from:to :cc:subject:date:message-id:reply-to; bh=Bc4j2c1IRNtcy5snS3/1HQ4SiX6MSf+FYCFC/bNEBR8=; b=eXwrnMNAbw/fLS2bHWz7mziMWrr5T3JvaYwVIx40IkIyL8yidiqa+ds3Etqdrrt17R XAfFetsPRdDnUFlQU2pQokJ/5GmpcqGb0Bf3dSiSRds6aU6YkJN5XNwzrTYhMfqSkbyG 2oLXP1mlgPABZYy6nCnxM7qLSqoSwviBWKh3Y= X-Google-DKIM-Signature: v=1; a=rsa-sha256; c=relaxed/relaxed; d=1e100.net; s=20230601; t=1758796086; x=1759400886; h=references:in-reply-to:cc:to:from:subject:message-id:date :x-gm-message-state:from:to:cc:subject:date:message-id:reply-to; bh=Bc4j2c1IRNtcy5snS3/1HQ4SiX6MSf+FYCFC/bNEBR8=; b=bj8nuY8MphmEC3F3/aGupyMPf48nXJ4fYzK0DVA25wMGqoitsvGXRJ4Gj7U2UfPWf1 SE1+9ewCx8yucttwLYUGxQYZxcwT87O37yOkxs4GenT91Y0vhdV5jsIGhzmCWhWbcKnL Lfeh8ajm/wQx8PwUESGuO5pTTExZp+5klskxZV2GA6YfoLx5/IaeTQjqpz6jfScuH7HE 47qDDh8ANKQU+VoflKDlvAa2E9HED1y9IvBBjx6FtBzhQ0jnliY/BfupJLdYwQhXl1jH FkrTVCJjzQ++aaMG8g+uRJVBmI4MC1aM4ZcKuMTqjF3ninUtuWTFWWJx1X2+nTtCgmKf r5Ew== X-Gm-Message-State: AOJu0Ywa7AJorXvSpJ5FKYhsBqI4VrubRXNxECqPAy4K0GHBNpNA+UNl 946x9rh3/4LTHVSBgcb24rUL2qWBxendE3hB0hNDhiWyPIXiOxTNib/Vpg7t5MTk+SMB9HQPOqt Je2EzywoBMv59Daz178Hf1jHh37NJ5dffS5BbSlJvyKxk X-Gm-Gg: ASbGnctccd8IUwERHwknjZ4mD6/5lMLuehr/JxaPuyyEmYbQEmnk+6tuSzTJM95MoW5 FCr2fuEAO4DhEvnkPhVKFZJW6LZur4FKUzgNy+5+6a/Ff5OGsOHYwJ3aBEh9GxrPOycw6iSeoLU UetfkVUyBeCXX4c64eNrQkZYUhwedtjrI1wEIWcrTWYDoGYOPNTowWWy5pGcDGISelQae7NVwaR wxFuL5rMsk4GjELdcnoVXfUc0+F7FfINpNpVGZS+TVIDbFbyOre4WnnQ27zsLLDFU/Z5oiHo2bD G4JCl1oYXsPWSNgA0wntTZrVh7F+etARYgPzseNG63cEGdB+0ZQgQRLQktatBRa9SjNN1ZZ/ X-Google-Smtp-Source: AGHT+IHr+YcAQokHpl+mh7PbBt52RnGHAY5lV84Z+gAOYTsAnH+ZZcyXfidvYZWM4yvlVj6K0VQFzemPdEZE X-Received: by 2002:a17:902:db0f:b0:269:9e4d:4c8b with SMTP id d9443c01a7336-27ed4a3ed4cmr37726525ad.21.1758796085643; Thu, 25 Sep 2025 03:28:05 -0700 (PDT) Received: from postal.iol.unh.edu (postal.iol.unh.edu. [132.177.123.84]) by smtp-relay.gmail.com with ESMTPS id d9443c01a7336-27ed66bb6efsm1284535ad.15.2025.09.25.03.28.05 (version=TLS1_2 cipher=ECDHE-ECDSA-AES128-GCM-SHA256 bits=128/128); Thu, 25 Sep 2025 03:28:05 -0700 (PDT) X-Relaying-Domain: iol.unh.edu Date: Thu, 25 Sep 2025 03:28:05 -0700 (PDT) Message-ID: <68d51935.170a0220.956e3.80f6SMTPIN_ADDED_MISSING@mx.google.com> Received: from [172.21.0.2] (unknown [172.18.0.240]) by postal.iol.unh.edu (Postfix) with ESMTP id CF99660003F7; Thu, 25 Sep 2025 06:28:04 -0400 (EDT) Subject: |SUCCESS| pw156942-156943 [PATCH] [v2,2/2] net/idpf: enable AVX2 for From: dpdklab@iol.unh.edu To: Test Report Cc: dpdk-test-reports@iol.unh.edu, Bruce Richardson In-Reply-To: <20250925092020.1640175-3-shaiq.wani@intel.com> References: <20250925092020.1640175-3-shaiq.wani@intel.com> Content-Type: text/plain X-BeenThere: test-report@dpdk.org X-Mailman-Version: 2.1.29 Precedence: list List-Id: automatic DPDK test reports List-Unsubscribe: , List-Archive: List-Post: List-Help: List-Subscribe: , Errors-To: test-report-bounces@dpdk.org Test-Label: iol-unit-amd64-testing Test-Status: SUCCESS http://dpdk.org/patch/156943 _Testing PASS_ Submitter: Shaiq Wani Date: Thursday, September 25 2025 09:20:20 DPDK git baseline: Repo:dpdk-next-net-intel Branch: master CommitID:1807857fccc30dbf5a7d93c88bb7cd05d81a3d0d 156942-156943 --> testing pass Upstream job id: Generic-VM-Unit-Test-DPDK#31373 Test environment and result as below: +-------------------------------+----------------+ | Environment | dpdk_unit_test | +===============================+================+ | CentOS Stream 10 | PASS | +-------------------------------+----------------+ | CentOS Stream 9 | PASS | +-------------------------------+----------------+ | Debian GNU/Linux 12 | PASS | +-------------------------------+----------------+ | Fedora Linux 40 | PASS | +-------------------------------+----------------+ | Fedora Linux 41 | PASS | +-------------------------------+----------------+ | Red Hat Enterprise Linux 8.10 | PASS | +-------------------------------+----------------+ | Fedora Linux 42 | PASS | +-------------------------------+----------------+ | Red Hat Enterprise Linux 9.5 | PASS | +-------------------------------+----------------+ | Ubuntu 20.04 | PASS | +-------------------------------+----------------+ | Ubuntu 22.04 | PASS | +-------------------------------+----------------+ | Ubuntu 24.04 | PASS | +-------------------------------+----------------+ | Windows Server 2022 | PASS | +-------------------------------+----------------+ CentOS Stream 10 Kernel: 5.15 Compiler: gcc gcc (GCC) 14.2.1 20250110 (Red Hat 14.2.1-8) CentOS Stream 9 Kernel: 5.15 Compiler: gcc gcc (GCC) 11.5.0 20240719 (Red Hat 11.5.0-11) Debian GNU/Linux 12 Kernel: 5.15 Compiler: gcc gcc (Debian 12.2.0-14+deb12u1) 12.2.0 Fedora Linux 40 Kernel: 5.15 Compiler: gcc gcc (GCC) 14.2.1 20240912 (Red Hat 14.2.1-3) Fedora Linux 41 Kernel: 5.15 Compiler: gcc gcc (GCC) 14.3.1 20250523 (Red Hat 14.3.1-1) Red Hat Enterprise Linux 8.10 Kernel: 5.15 Compiler: gcc gcc (GCC) 8.5.0 20210514 (Red Hat 8.5.0-22) Fedora Linux 42 Kernel: 5.15 Compiler: gcc gcc (GCC) 15.2.1 20250808 (Red Hat 15.2.1-1) Red Hat Enterprise Linux 9.5 Kernel: 5.15 Compiler: gcc gcc (GCC) 11.5.0 20240719 (Red Hat 11.5.0-2) Ubuntu 20.04 Kernel: 5.15 Compiler: gcc gcc (Ubuntu 9.4.0-1ubuntu1~20.04.2) 9.4.0 Ubuntu 22.04 Kernel: 5.15 Compiler: gcc gcc (Ubuntu 11.4.0-1ubuntu1~22.04) 11.4.0 Ubuntu 24.04 Kernel: 5.15 Compiler: gcc gcc (Ubuntu 13.3.0-6ubuntu2~24.04) 13.3.0 Windows Server 2022 Kernel: 10.0.20348.2031 Compiler: clang 15.0.7, gcc 14.1.0 (MinGW), and MSVC VS 19.39.33521 To view detailed results, visit: https://lab.dpdk.org/results/dashboard/patchsets/34146/ UNH-IOL DPDK Community Lab To manage your email subscriptions, visit: https://lab.dpdk.org/results/dashboard/preferences/subscriptions/