From mboxrd@z Thu Jan 1 00:00:00 1970 Return-Path: Received: from mails.dpdk.org (mails.dpdk.org [217.70.189.124]) by inbox.dpdk.org (Postfix) with ESMTP id 4006046F6F for ; Thu, 25 Sep 2025 12:32:32 +0200 (CEST) Received: from mails.dpdk.org (localhost [127.0.0.1]) by mails.dpdk.org (Postfix) with ESMTP id 3B5EA402E7; Thu, 25 Sep 2025 12:32:32 +0200 (CEST) Received: from mail-il1-f226.google.com (mail-il1-f226.google.com [209.85.166.226]) by mails.dpdk.org (Postfix) with ESMTP id 865EE402E7 for ; Thu, 25 Sep 2025 12:32:31 +0200 (CEST) Received: by mail-il1-f226.google.com with SMTP id e9e14a558f8ab-4248b34fc8eso7533185ab.3 for ; Thu, 25 Sep 2025 03:32:31 -0700 (PDT) DKIM-Signature: v=1; a=rsa-sha256; c=relaxed/relaxed; d=iol.unh.edu; s=unh-iol; t=1758796351; x=1759401151; darn=dpdk.org; h=references:in-reply-to:cc:to:from:subject:message-id:date:from:to :cc:subject:date:message-id:reply-to; bh=qVNLD2fUUM3X3fCocvFX2ZTiix09BmMWI9MgakFEsNA=; b=OzhKTlGuQSfMVdRUITHdfUmJs9GJc01Lw2quIQShL0q8tCSHwVbT6/vA4w18NL4SV3 Vsl/5pOhlJ7fnelfYiDafOrRYw119dw32vFxr4NeuW7RieLktdTOJVmPDXhcnTGZ/QPR FsIAmMxJrjkYJsnKFXsK7V4E58jGEt398AHn8= X-Google-DKIM-Signature: v=1; a=rsa-sha256; c=relaxed/relaxed; d=1e100.net; s=20230601; t=1758796351; x=1759401151; h=references:in-reply-to:cc:to:from:subject:message-id:date :x-gm-message-state:from:to:cc:subject:date:message-id:reply-to; bh=qVNLD2fUUM3X3fCocvFX2ZTiix09BmMWI9MgakFEsNA=; b=HHuhUow6vYVE1KWQlZBn4ICkaRTpzy7OnKtMkZzvlMWsY0AqxcoKGbuFi8dWrBxQqX ZQk8YEfEQzw8Wv4r2i0ct98DYqXS+zEaBx4AAelVyEAbG1oSwOxWPCKWft5q2LxstxRf vRoyRXK1sTJJEmUDIJCtkSc5cnbIUyAmLWeEslNmx0gkdfqHD86bj+VepN4JNmqxtG9E 0M/duRP98daCL3a6ZiI1awa8ijNKZ7tpPN/zr0Sw1sfd2GXNGNfqgGtuk9b7NtJnFpn2 +FdPSW+5SDWfvKNVWRoLtruJodnvR8+mhJ5yY81CuOc6bdKE4UT2neohNmGXwPmR/Kc9 O5gg== X-Gm-Message-State: AOJu0YzQWX5xUVZTXjUqO5TExJaVe8BpcFSj6QUb3quHeX8KsE+/r+CZ X1zhyJTvU5yAdIPSRZbRbQxreACQKsXuZ/4bX5j1+WvL1GutS0WCzCt6zxMyOAy124xCeAXGmGA umS+zVJ2Br+U1uPsK4SQ8bSf8m4bD/oypoUpDnMCTHmdV X-Gm-Gg: ASbGncub26Ncid96aAvzzAGbXf9IdunRd2NySA05AuDZX0M/kOzd7Pcg+rEsKAFIilk eWiYiBHzLoIoWk+esKyWD0mv1S0v1REH0WKosd5iggVs20dk8PRHs7b4hNsBE/DuYfJ8Qkwab/h V9V4ogeDo2oGn0ZiUptg7R1UYc7mWYf+O+2GxqGz5fbCsOkwdkuRssRfWaX4IswgV9KmZdvOREx 3SVJ6QIF9f5Hq/Lc3QDjeugufC2kA1meNGj0dgZTxYNblw8iqhyJdHb0hlEQaqU5v0ch2N0+vHI tMEWnAVSP4qqXTjTgsdt/Vn9OwBGOBVdVmUTedtJ5NuSOqUfcpfXxmGouwMxeVN73+jspU0G X-Google-Smtp-Source: AGHT+IEfwRSehJjx1bkKqbsRmw+r6Vl1WGeAZPi1LnjU8ebcRoda0CQ7M1zU6ga1SsY0yr+wU3nFaOOieYEu X-Received: by 2002:a05:6e02:184c:b0:424:7de2:61ca with SMTP id e9e14a558f8ab-4259562e40fmr36096555ab.20.1758796350844; Thu, 25 Sep 2025 03:32:30 -0700 (PDT) Received: from postal.iol.unh.edu (postal.iol.unh.edu. [132.177.123.84]) by smtp-relay.gmail.com with ESMTPS id e9e14a558f8ab-425bc0b592asm1035605ab.13.2025.09.25.03.32.30 (version=TLS1_2 cipher=ECDHE-ECDSA-AES128-GCM-SHA256 bits=128/128); Thu, 25 Sep 2025 03:32:30 -0700 (PDT) X-Relaying-Domain: iol.unh.edu Date: Thu, 25 Sep 2025 03:32:30 -0700 (PDT) Message-ID: <68d51a3e.050a0220.231ec4.6701SMTPIN_ADDED_MISSING@mx.google.com> Received: from [172.21.0.2] (unknown [172.18.0.240]) by postal.iol.unh.edu (Postfix) with ESMTP id 62C5E6051830; Thu, 25 Sep 2025 06:32:30 -0400 (EDT) Subject: |SUCCESS| pw156942-156943 [PATCH] [v2,2/2] net/idpf: enable AVX2 for From: dpdklab@iol.unh.edu To: Test Report Cc: dpdk-test-reports@iol.unh.edu, Bruce Richardson In-Reply-To: <20250925092020.1640175-3-shaiq.wani@intel.com> References: <20250925092020.1640175-3-shaiq.wani@intel.com> Content-Type: text/plain X-BeenThere: test-report@dpdk.org X-Mailman-Version: 2.1.29 Precedence: list List-Id: automatic DPDK test reports List-Unsubscribe: , List-Archive: List-Post: List-Help: List-Subscribe: , Errors-To: test-report-bounces@dpdk.org Test-Label: iol-compile-amd64-testing Test-Status: SUCCESS http://dpdk.org/patch/156943 _Testing PASS_ Submitter: Shaiq Wani Date: Thursday, September 25 2025 09:20:20 DPDK git baseline: Repo:dpdk-next-net-intel Branch: master CommitID:1807857fccc30dbf5a7d93c88bb7cd05d81a3d0d 156942-156943 --> testing pass Upstream job id: Generic-DPDK-Compile-Meson#428492 Test environment and result as below: +-------------------------------+--------------------+-------------------+------------------+-------------------------+-------------------+----------------------+ | Environment | dpdk_meson_compile | dpdk_compile_spdk | dpdk_compile_ovs | dpdk_llvm_clang_compile | dpdk_msvc_compile | dpdk_mingw64_compile | +===============================+====================+===================+==================+=========================+===================+======================+ | CentOS Stream 9 | PASS | PASS | SKIPPED | SKIPPED | SKIPPED | SKIPPED | +-------------------------------+--------------------+-------------------+------------------+-------------------------+-------------------+----------------------+ | CentOS Stream 10 | PASS | SKIPPED | SKIPPED | SKIPPED | SKIPPED | SKIPPED | +-------------------------------+--------------------+-------------------+------------------+-------------------------+-------------------+----------------------+ | Debian GNU/Linux 12 | PASS | PASS | SKIPPED | SKIPPED | SKIPPED | SKIPPED | +-------------------------------+--------------------+-------------------+------------------+-------------------------+-------------------+----------------------+ | Fedora Linux 42 | PASS | PASS | PASS | SKIPPED | SKIPPED | SKIPPED | +-------------------------------+--------------------+-------------------+------------------+-------------------------+-------------------+----------------------+ | Ubuntu 20.04 | PASS | SKIPPED | SKIPPED | SKIPPED | SKIPPED | SKIPPED | +-------------------------------+--------------------+-------------------+------------------+-------------------------+-------------------+----------------------+ | openSUSE Leap 15.6 | PASS | SKIPPED | SKIPPED | SKIPPED | SKIPPED | SKIPPED | +-------------------------------+--------------------+-------------------+------------------+-------------------------+-------------------+----------------------+ | Red Hat Enterprise Linux 8.10 | PASS | SKIPPED | SKIPPED | SKIPPED | SKIPPED | SKIPPED | +-------------------------------+--------------------+-------------------+------------------+-------------------------+-------------------+----------------------+ | Red Hat Enterprise Linux 9.5 | PASS | SKIPPED | SKIPPED | SKIPPED | SKIPPED | SKIPPED | +-------------------------------+--------------------+-------------------+------------------+-------------------------+-------------------+----------------------+ | FreeBSD 14.2 | PASS | SKIPPED | SKIPPED | SKIPPED | SKIPPED | SKIPPED | +-------------------------------+--------------------+-------------------+------------------+-------------------------+-------------------+----------------------+ | Ubuntu 22.04 | PASS | PASS | SKIPPED | SKIPPED | SKIPPED | SKIPPED | +-------------------------------+--------------------+-------------------+------------------+-------------------------+-------------------+----------------------+ | Ubuntu 24.04 | PASS | PASS | PASS | SKIPPED | SKIPPED | SKIPPED | +-------------------------------+--------------------+-------------------+------------------+-------------------------+-------------------+----------------------+ | Alpine Linux 3.22.0 | PASS | SKIPPED | SKIPPED | SKIPPED | SKIPPED | SKIPPED | +-------------------------------+--------------------+-------------------+------------------+-------------------------+-------------------+----------------------+ | Windows Server 2022 | SKIPPED | SKIPPED | SKIPPED | PASS | PASS | PASS | +-------------------------------+--------------------+-------------------+------------------+-------------------------+-------------------+----------------------+ CentOS Stream 9 Kernel: 5.15 Compiler: gcc gcc (GCC) 11.5.0 20240719 (Red Hat 11.5.0-11) CentOS Stream 10 Kernel: 5.15 Compiler: gcc gcc (GCC) 14.2.1 20250110 (Red Hat 14.2.1-8) Debian GNU/Linux 12 Kernel: 5.15 Compiler: gcc gcc (Debian 12.2.0-14+deb12u1) 12.2.0 Fedora Linux 42 Kernel: 5.15 Compiler: clang gcc (GCC) 15.2.1 20250808 (Red Hat 15.2.1-1) Ubuntu 20.04 Kernel: 4.19 Compiler: gcc gcc (Ubuntu 9.4.0-1ubuntu1~20.04.2) 9.4.0 openSUSE Leap 15.6 Kernel: 5.15 Compiler: gcc gcc (SUSE Linux) 7.5.0 Red Hat Enterprise Linux 8.10 Kernel: 5.15 Compiler: gcc gcc (GCC) 8.5.0 20210514 (Red Hat 8.5.0-22) Red Hat Enterprise Linux 9.5 Kernel: 5.15 Compiler: gcc gcc (GCC) 11.5.0 20240719 (Red Hat 11.5.0-2) FreeBSD 14.2 Kernel: 14.2-RELEASE Compiler: clang 18.1.6 Ubuntu 22.04 Kernel: 5.15 Compiler: gcc gcc (Ubuntu 11.4.0-1ubuntu1~22.04) 11.4.0 Ubuntu 24.04 Kernel: 5.15 Compiler: gcc gcc (Ubuntu 13.3.0-6ubuntu2~24.04) 13.3.0 Alpine Linux 3.22.0 Kernel: 5.15 Compiler: gcc gcc (Alpine 14.2.0) 14.2.0 Windows Server 2022 Kernel: 10.0.20348.2031 Compiler: clang 15.0.7, gcc 14.1.0 (MinGW), and MSVC VS 19.39.33521 To view detailed results, visit: https://lab.dpdk.org/results/dashboard/patchsets/34146/ UNH-IOL DPDK Community Lab To manage your email subscriptions, visit: https://lab.dpdk.org/results/dashboard/preferences/subscriptions/