From mboxrd@z Thu Jan 1 00:00:00 1970 Return-Path: Received: from mails.dpdk.org (mails.dpdk.org [217.70.189.124]) by inbox.dpdk.org (Postfix) with ESMTP id 2C62E46F6F for ; Thu, 25 Sep 2025 13:31:17 +0200 (CEST) Received: from mails.dpdk.org (localhost [127.0.0.1]) by mails.dpdk.org (Postfix) with ESMTP id 146FC402AB; Thu, 25 Sep 2025 13:31:17 +0200 (CEST) Received: from mail-pg1-f225.google.com (mail-pg1-f225.google.com [209.85.215.225]) by mails.dpdk.org (Postfix) with ESMTP id E249D402AB for ; Thu, 25 Sep 2025 13:31:15 +0200 (CEST) Received: by mail-pg1-f225.google.com with SMTP id 41be03b00d2f7-b4755f37c3eso799503a12.3 for ; Thu, 25 Sep 2025 04:31:15 -0700 (PDT) DKIM-Signature: v=1; a=rsa-sha256; c=relaxed/relaxed; d=iol.unh.edu; s=unh-iol; t=1758799875; x=1759404675; darn=dpdk.org; h=cc:to:from:subject:message-id:date:from:to:cc:subject:date :message-id:reply-to; bh=/cIcgnyoH69g3dAeh1hq0THo3OUn7sJ5OGWKhb8qROw=; b=f9HeNpSn3Uys2aU8chpKPH+YdflfM9qYcROFQyhuSaeJKuNyoTmF9etwHP/PJNI3NJ GIPf5uwNaPePnTjAdZYUe5XJIJy/diXYwCsZ2tc8yQpKtZrKv3yIwdBzdASme3Po7iO5 jiHm9Eg4o2XnP09uZCBAzrYPidfuWYzAVpJn4= X-Google-DKIM-Signature: v=1; a=rsa-sha256; c=relaxed/relaxed; d=1e100.net; s=20230601; t=1758799875; x=1759404675; h=cc:to:from:subject:message-id:date:x-gm-message-state:from:to:cc :subject:date:message-id:reply-to; bh=/cIcgnyoH69g3dAeh1hq0THo3OUn7sJ5OGWKhb8qROw=; b=REcKDmHOFwYkRxk9JCG0wmmec/Jgfk0qjZsmA5eTqjYRwIDCx4rRTdSNrkUtw0sm2v tV4yVqIStSoRLCYPdkLbHs32QiwdW804spDbzEaH7CdWxLQwdqsrH9YwjH8bEzFsDlkg Wnd8Kbe3AaaRB9N3adCStlUus//S9owstUZ0nQfhS7FpEmixzE1rHrwFdVMOtYTqFUpl y3hsRQFIbY55xSSwvuGz73Wd3ydXxs0mxASFrLzwiRB0fY/5ryij/E37bKWrHArbecC8 xwBypjlacl88ypELYQ8M5PdTfiej7lL5L2wYCRutb0qUMzYq3oYml9zmGuKDVl77Mksq wEYw== X-Gm-Message-State: AOJu0YytfX73fqzEUENiJV8ge516WZQOvJyIxFBi0AVCIbrYmdZgCgCh 01ZPWLOkorLcwBdEcGWrEls1GXmlprZ+jumOKJgJ21xoB37o/cXmtOHLWGGYZmW31VGUp9Xd4JQ K1dhRmPj0WHHuRKOfVaN4JhBBTomINvsEKLdqto5frflYYVaM5rj6FtzTKxst X-Gm-Gg: ASbGncvqCGC/1oJHE8H+xMgpjDCEDI4wzkhx01ESGGXvOYemU1SgMgFyVLnIALO5AX9 qX78T3i0wG1jGKTQ8HqtHoic86GD4vlR82i0s45wJrlSy34NI6cY/sE9wJoyAmKUi+IApXaRM8c Pqted9bsMYQ+ZXKYHiZ3chtlUdnIjPx7bvA0xI9KtlolcCSzGz14EDdgb6ZW2pMYQmN55nMyea/ J+odpWCvomYKiT1xh6vNJxYJL5c1WhE5ajZcuyrMYsahL9s/p1vEx7lN8/UjTJumOaOzJ1Hnr7+ NypwEaXgg5KXTMhEbOKlLmpMf0CDnokJ2ZJuZY2kFcv+MwUzow== X-Google-Smtp-Source: AGHT+IFQZEUAOW+XtmISDBwY/Sv6zLdeQLVFbp2MKpS8DFC5Ga5FHha48FRP3y9ZcOk+FbBGPQhBWEQ+oMzN X-Received: by 2002:a17:902:f647:b0:269:a8a8:4029 with SMTP id d9443c01a7336-27ed49df2c1mr42763955ad.5.1758799874881; Thu, 25 Sep 2025 04:31:14 -0700 (PDT) Received: from postal.iol.unh.edu (postal.iol.unh.edu. [2606:4100:3880:1234::84]) by smtp-relay.gmail.com with ESMTPS id d9443c01a7336-27ed67e66easm1424535ad.45.2025.09.25.04.31.14 (version=TLS1_2 cipher=ECDHE-ECDSA-AES128-GCM-SHA256 bits=128/128); Thu, 25 Sep 2025 04:31:14 -0700 (PDT) X-Relaying-Domain: iol.unh.edu Date: Thu, 25 Sep 2025 04:31:14 -0700 (PDT) Message-ID: <68d52802.170a0220.28a7e4.9770SMTPIN_ADDED_MISSING@mx.google.com> Received: from [172.21.0.2] (unknown [172.18.0.240]) by postal.iol.unh.edu (Postfix) with ESMTP id 0AAD86051830; Thu, 25 Sep 2025 07:31:14 -0400 (EDT) Subject: |SUCCESS| [GIT MASTER] 1807857fccc30dbf5a7d93c88bb7cd05d81a3d0d From: dpdklab@iol.unh.edu To: Test Report Cc: dpdk-test-reports@iol.unh.edu, Bruce Richardson Content-Type: text/plain X-BeenThere: test-report@dpdk.org X-Mailman-Version: 2.1.29 Precedence: list List-Id: automatic DPDK test reports List-Unsubscribe: , List-Archive: List-Post: List-Help: List-Subscribe: , Errors-To: test-report-bounces@dpdk.org _Testing PASS_ Branch: dpdk-next-net-intel 1807857fccc30dbf5a7d93c88bb7cd05d81a3d0d --> testing pass Upstream job id: Generic-VM-Unit-Test-DPDK#31375 Test environment and result as below: +-------------------------------+----------------+ | Environment | dpdk_unit_test | +===============================+================+ | CentOS Stream 10 | PASS | +-------------------------------+----------------+ | CentOS Stream 9 | PASS | +-------------------------------+----------------+ | Debian GNU/Linux 12 | PASS | +-------------------------------+----------------+ | Fedora Linux 41 | PASS | +-------------------------------+----------------+ | Fedora Linux 40 | PASS | +-------------------------------+----------------+ | Fedora Linux 42 | PASS | +-------------------------------+----------------+ | Red Hat Enterprise Linux 8.10 | PASS | +-------------------------------+----------------+ | Windows Server 2022 | PASS | +-------------------------------+----------------+ | Red Hat Enterprise Linux 9.5 | PASS | +-------------------------------+----------------+ | Ubuntu 20.04 | PASS | +-------------------------------+----------------+ | Ubuntu 24.04 | PASS | +-------------------------------+----------------+ | Ubuntu 22.04 | PASS | +-------------------------------+----------------+ CentOS Stream 10 Kernel: 5.15 Compiler: gcc gcc (GCC) 14.2.1 20250110 (Red Hat 14.2.1-8) CentOS Stream 9 Kernel: 5.15 Compiler: gcc gcc (GCC) 11.5.0 20240719 (Red Hat 11.5.0-11) Debian GNU/Linux 12 Kernel: 5.15 Compiler: gcc gcc (Debian 12.2.0-14+deb12u1) 12.2.0 Fedora Linux 41 Kernel: 5.15 Compiler: gcc gcc (GCC) 14.3.1 20250523 (Red Hat 14.3.1-1) Fedora Linux 40 Kernel: 5.15 Compiler: gcc gcc (GCC) 14.2.1 20240912 (Red Hat 14.2.1-3) Fedora Linux 42 Kernel: 5.15 Compiler: gcc gcc (GCC) 15.2.1 20250808 (Red Hat 15.2.1-1) Red Hat Enterprise Linux 8.10 Kernel: 5.15 Compiler: gcc gcc (GCC) 8.5.0 20210514 (Red Hat 8.5.0-22) Windows Server 2022 Kernel: 10.0.20348.2031 Compiler: clang 15.0.7, gcc 14.1.0 (MinGW), and MSVC VS 19.39.33521 Red Hat Enterprise Linux 9.5 Kernel: 5.15 Compiler: gcc gcc (GCC) 11.5.0 20240719 (Red Hat 11.5.0-2) Ubuntu 20.04 Kernel: 5.15 Compiler: gcc gcc (Ubuntu 9.4.0-1ubuntu1~20.04.2) 9.4.0 Ubuntu 24.04 Kernel: 5.15 Compiler: gcc gcc (Ubuntu 13.3.0-6ubuntu2~24.04) 13.3.0 Ubuntu 22.04 Kernel: 5.15 Compiler: gcc gcc (Ubuntu 11.4.0-1ubuntu1~22.04) 11.4.0 To view detailed results, visit: https://lab.dpdk.org/results/dashboard/tarballs/35000/ UNH-IOL DPDK Community Lab To manage your email subscriptions, visit: https://lab.dpdk.org/results/dashboard/preferences/subscriptions/