From mboxrd@z Thu Jan 1 00:00:00 1970 Return-Path: Received: from mails.dpdk.org (mails.dpdk.org [217.70.189.124]) by inbox.dpdk.org (Postfix) with ESMTP id 2D4F846F6F for ; Thu, 25 Sep 2025 13:50:30 +0200 (CEST) Received: from mails.dpdk.org (localhost [127.0.0.1]) by mails.dpdk.org (Postfix) with ESMTP id 0A518402AB; Thu, 25 Sep 2025 13:50:30 +0200 (CEST) Received: from mail-qv1-f100.google.com (mail-qv1-f100.google.com [209.85.219.100]) by mails.dpdk.org (Postfix) with ESMTP id 7F1EF402AB for ; Thu, 25 Sep 2025 13:50:28 +0200 (CEST) Received: by mail-qv1-f100.google.com with SMTP id 6a1803df08f44-7970e8d1cfeso8870386d6.1 for ; Thu, 25 Sep 2025 04:50:28 -0700 (PDT) DKIM-Signature: v=1; a=rsa-sha256; c=relaxed/relaxed; d=iol.unh.edu; s=unh-iol; t=1758801028; x=1759405828; darn=dpdk.org; h=cc:to:from:subject:message-id:date:from:to:cc:subject:date :message-id:reply-to; bh=B+henltk0mmQKExkl6h052a7tGLy1mTkNi5n3oZ8PLs=; b=auHcb73KWHbHWjaw6M3iyqXOg7/cZqsNUSiSqRGU39BFuvPJQ98Uf1jeDJsZgwTMji 4mL8ad35t38YVvzAwmSBfsxGLiCK88eq0lzgrQlpG5PivUt5jk2AgokxzPwktYNuTdpv 5epYfY2m/cx9LVdhHN8AfmG0jfmYspo4KnLT4= X-Google-DKIM-Signature: v=1; a=rsa-sha256; c=relaxed/relaxed; d=1e100.net; s=20230601; t=1758801028; x=1759405828; h=cc:to:from:subject:message-id:date:x-gm-message-state:from:to:cc :subject:date:message-id:reply-to; bh=B+henltk0mmQKExkl6h052a7tGLy1mTkNi5n3oZ8PLs=; b=e5yDn+ji0EfOjZ8gVvmZfbJeXVPVMPzaa/ZOoR56GHqw4qeatMmfJIQApod9vpGT0Q a1CF2i0F7Qnl2R8EHYlJ7N14WdW3itBGxBuMkFgbYrJL7gUr27FFYGFBchSGPYllXrtz vqZ3jdYU+J1+tXcWnIV01chtVpby6o8t6DD9Pdg3iTtvkSz/hWHSLnfyY4KaKqESo6Ej VyxIx3ubi4I8AJLwIA61Bz64O80BFiBZfCADQda3eIWhHVsART5rvapVSns/LAMcAyDj gHGmCIzmUiCPV3KkbAOuRYCp4/R7x5fZ6xCZ5nRtfK0HRFdItqTOWRhGdACHaDPMC/Dy m//g== X-Gm-Message-State: AOJu0YzLaSy0stnY5xk/4lmb6nYJEWbfYfzu+AYA/qikSEEHXF9aCl1a 3u9ePpACjTMlJCknadQfPL8k4/DNzdhBSboDBqb2YhhT6vglDyGLDx3tFdwYl68fdvdzb5qItoa /ltFh0QQbNqLjdeVUwMo/bEzaLZ9fZvY5Rjt994xfZEhH X-Gm-Gg: ASbGncs3d8SNnPZH99fLe+6+ejbP3cmT/0p0uYVpoB/USxkTHpKJsxwLZsGreO1F9he 4uhlSHKAotGRo6tHq1qEFljupKdYaye22SxwBJ/c4d5YFfRhDkqZWRXtnpMg682Tg8h9WOdPgKS 1Kd8xR1qRlcVz6+BuLZOslra5fKKXqkxYGYiX5ct4FU9Ge4IsaWdyn0vANL/i3EcY4PLfCf3k9D LgvNdfGwpSAMf99VpEe8XA3jFllwfqiMxzmiKHWu+gDNpcXnDyvBnDUZVoDmPSK8CocRlohkiAT FidYMZHRPR3FLRGUCNJvBIfP3ZCfRN2IAyuKrzWXHzfImnWYmFk+yEvbk7FqK9V0GHixGL4i X-Google-Smtp-Source: AGHT+IG07fuweXeqUTUQdtfBp0FOQcrPOB4bPs4UUX8Hurq7umVl1XEWHoYZDMtOLJaeBeHCRrbHeS4+rTwL X-Received: by 2002:a05:6214:1c88:b0:797:2740:18ce with SMTP id 6a1803df08f44-7fc3aa704ddmr41503686d6.42.1758801027781; Thu, 25 Sep 2025 04:50:27 -0700 (PDT) Received: from postal.iol.unh.edu (postal.iol.unh.edu. [132.177.123.84]) by smtp-relay.gmail.com with ESMTPS id 6a1803df08f44-8013e5da227sm1159326d6.19.2025.09.25.04.50.27 (version=TLS1_2 cipher=ECDHE-ECDSA-AES128-GCM-SHA256 bits=128/128); Thu, 25 Sep 2025 04:50:27 -0700 (PDT) X-Relaying-Domain: iol.unh.edu Date: Thu, 25 Sep 2025 04:50:27 -0700 (PDT) Message-ID: <68d52c83.050a0220.4b151.74b6SMTPIN_ADDED_MISSING@mx.google.com> Received: from [172.21.0.2] (unknown [172.18.0.240]) by postal.iol.unh.edu (Postfix) with ESMTP id 80CDD6051830; Thu, 25 Sep 2025 07:50:27 -0400 (EDT) Subject: |SUCCESS| [GIT MASTER] 1807857fccc30dbf5a7d93c88bb7cd05d81a3d0d From: dpdklab@iol.unh.edu To: Test Report Cc: dpdk-test-reports@iol.unh.edu, Bruce Richardson Content-Type: text/plain X-BeenThere: test-report@dpdk.org X-Mailman-Version: 2.1.29 Precedence: list List-Id: automatic DPDK test reports List-Unsubscribe: , List-Archive: List-Post: List-Help: List-Subscribe: , Errors-To: test-report-bounces@dpdk.org _Testing PASS_ Branch: dpdk-next-net-intel 1807857fccc30dbf5a7d93c88bb7cd05d81a3d0d --> testing pass Upstream job id: Generic-DPDK-Compile-Meson#428523 Test environment and result as below: +-------------------------------+--------------------+-------------------+------------------+-------------------------+-------------------+----------------------+ | Environment | dpdk_meson_compile | dpdk_compile_spdk | dpdk_compile_ovs | dpdk_llvm_clang_compile | dpdk_msvc_compile | dpdk_mingw64_compile | +===============================+====================+===================+==================+=========================+===================+======================+ | CentOS Stream 10 | PASS | SKIPPED | SKIPPED | SKIPPED | SKIPPED | SKIPPED | +-------------------------------+--------------------+-------------------+------------------+-------------------------+-------------------+----------------------+ | CentOS Stream 9 | PASS | PASS | SKIPPED | SKIPPED | SKIPPED | SKIPPED | +-------------------------------+--------------------+-------------------+------------------+-------------------------+-------------------+----------------------+ | Debian GNU/Linux 12 | PASS | PASS | SKIPPED | SKIPPED | SKIPPED | SKIPPED | +-------------------------------+--------------------+-------------------+------------------+-------------------------+-------------------+----------------------+ | Fedora Linux 42 | PASS | PASS | PASS | SKIPPED | SKIPPED | SKIPPED | +-------------------------------+--------------------+-------------------+------------------+-------------------------+-------------------+----------------------+ | Ubuntu 20.04 | PASS | SKIPPED | SKIPPED | SKIPPED | SKIPPED | SKIPPED | +-------------------------------+--------------------+-------------------+------------------+-------------------------+-------------------+----------------------+ | FreeBSD 14.2 | PASS | SKIPPED | SKIPPED | SKIPPED | SKIPPED | SKIPPED | +-------------------------------+--------------------+-------------------+------------------+-------------------------+-------------------+----------------------+ | openSUSE Leap 15.6 | PASS | SKIPPED | SKIPPED | SKIPPED | SKIPPED | SKIPPED | +-------------------------------+--------------------+-------------------+------------------+-------------------------+-------------------+----------------------+ | Red Hat Enterprise Linux 8.10 | PASS | SKIPPED | SKIPPED | SKIPPED | SKIPPED | SKIPPED | +-------------------------------+--------------------+-------------------+------------------+-------------------------+-------------------+----------------------+ | Red Hat Enterprise Linux 9.5 | PASS | SKIPPED | SKIPPED | SKIPPED | SKIPPED | SKIPPED | +-------------------------------+--------------------+-------------------+------------------+-------------------------+-------------------+----------------------+ | Ubuntu 22.04 | PASS | PASS | SKIPPED | SKIPPED | SKIPPED | SKIPPED | +-------------------------------+--------------------+-------------------+------------------+-------------------------+-------------------+----------------------+ | Ubuntu 24.04 | PASS | PASS | PASS | SKIPPED | SKIPPED | SKIPPED | +-------------------------------+--------------------+-------------------+------------------+-------------------------+-------------------+----------------------+ | Alpine Linux 3.22.0 | PASS | SKIPPED | SKIPPED | SKIPPED | SKIPPED | SKIPPED | +-------------------------------+--------------------+-------------------+------------------+-------------------------+-------------------+----------------------+ | Windows Server 2022 | SKIPPED | SKIPPED | SKIPPED | PASS | PASS | PASS | +-------------------------------+--------------------+-------------------+------------------+-------------------------+-------------------+----------------------+ CentOS Stream 10 Kernel: 5.15 Compiler: gcc gcc (GCC) 14.2.1 20250110 (Red Hat 14.2.1-8) CentOS Stream 9 Kernel: 5.15 Compiler: gcc gcc (GCC) 11.5.0 20240719 (Red Hat 11.5.0-11) Debian GNU/Linux 12 Kernel: 5.15 Compiler: gcc gcc (Debian 12.2.0-14+deb12u1) 12.2.0 Fedora Linux 42 Kernel: 5.15 Compiler: clang gcc (GCC) 15.2.1 20250808 (Red Hat 15.2.1-1) Ubuntu 20.04 Kernel: 4.19 Compiler: gcc gcc (Ubuntu 9.4.0-1ubuntu1~20.04.2) 9.4.0 FreeBSD 14.2 Kernel: 14.2-RELEASE Compiler: clang 18.1.6 openSUSE Leap 15.6 Kernel: 5.15 Compiler: gcc gcc (SUSE Linux) 7.5.0 Red Hat Enterprise Linux 8.10 Kernel: 5.15 Compiler: gcc gcc (GCC) 8.5.0 20210514 (Red Hat 8.5.0-22) Red Hat Enterprise Linux 9.5 Kernel: 5.15 Compiler: gcc gcc (GCC) 11.5.0 20240719 (Red Hat 11.5.0-2) Ubuntu 22.04 Kernel: 5.15 Compiler: gcc gcc (Ubuntu 11.4.0-1ubuntu1~22.04) 11.4.0 Ubuntu 24.04 Kernel: 5.15 Compiler: gcc gcc (Ubuntu 13.3.0-6ubuntu2~24.04) 13.3.0 Alpine Linux 3.22.0 Kernel: 5.15 Compiler: gcc gcc (Alpine 14.2.0) 14.2.0 Windows Server 2022 Kernel: 10.0.20348.2031 Compiler: clang 15.0.7, gcc 14.1.0 (MinGW), and MSVC VS 19.39.33521 To view detailed results, visit: https://lab.dpdk.org/results/dashboard/tarballs/35000/ UNH-IOL DPDK Community Lab To manage your email subscriptions, visit: https://lab.dpdk.org/results/dashboard/preferences/subscriptions/