From mboxrd@z Thu Jan 1 00:00:00 1970 Return-Path: Received: from mails.dpdk.org (mails.dpdk.org [217.70.189.124]) by inbox.dpdk.org (Postfix) with ESMTP id 99CE446F6F for ; Thu, 25 Sep 2025 13:55:24 +0200 (CEST) Received: from mails.dpdk.org (localhost [127.0.0.1]) by mails.dpdk.org (Postfix) with ESMTP id 75B99402AB; Thu, 25 Sep 2025 13:55:24 +0200 (CEST) Received: from mail-pf1-f226.google.com (mail-pf1-f226.google.com [209.85.210.226]) by mails.dpdk.org (Postfix) with ESMTP id 3AB57402AB for ; Thu, 25 Sep 2025 13:55:23 +0200 (CEST) Received: by mail-pf1-f226.google.com with SMTP id d2e1a72fcca58-77f3405c38aso943424b3a.0 for ; Thu, 25 Sep 2025 04:55:23 -0700 (PDT) DKIM-Signature: v=1; a=rsa-sha256; c=relaxed/relaxed; d=iol.unh.edu; s=unh-iol; t=1758801322; x=1759406122; darn=dpdk.org; h=references:in-reply-to:cc:to:from:subject:message-id:date:from:to :cc:subject:date:message-id:reply-to; bh=2S7VtLYGUvvolxVKHvOomUO6lK8R9rCreDAFlx5Tf5c=; b=IWmwH5Xy0ws3xr+txwVbrQH06FMyOX0cKHojCkAFDNq9FNRpJafi7uYWQxy+iEz2e4 uKJzk6Z5R5ep0Jhlpp4AKqhpnWVhQuZX0t6yGHXglI/ykCw8SBAiQQWSLySGKOjt2a8q NAcHnVKI8EkNxAu13dPyBzjYfcyygUoEmbinU= X-Google-DKIM-Signature: v=1; a=rsa-sha256; c=relaxed/relaxed; d=1e100.net; s=20230601; t=1758801322; x=1759406122; h=references:in-reply-to:cc:to:from:subject:message-id:date :x-gm-message-state:from:to:cc:subject:date:message-id:reply-to; bh=2S7VtLYGUvvolxVKHvOomUO6lK8R9rCreDAFlx5Tf5c=; b=VWnUqZbVCHLhV0A34iq6RIjQSBp9rvxsCjPEbpR/F/JlfhLULEOXrzKEfpsXAMBxJ8 UtdtH2gFlSZWON6evQFPG7Mjb5hWPVD+NCcmotKlski7TKSLlSpZRstY4m+fIAfGCUzs nIoTuLvcbQeW+ltJJA2crcLj1FIy2yJ+zzyxmbNOz69UKQwT+y/UJ+ftrFgQlLvqnmNv d79wvL99qPPGETpkRM1T4Opd/yvUMDU32VRB972sfP/kaeK8PsPrasoC6EB4uzhCzxK3 BrjDs34ZfVLgoBHay0k1E3Q8edtEW8jl5oOhsDDOtSD8dkzhVy2cnU9HM6ecsTeNYNlH yGjQ== X-Gm-Message-State: AOJu0Ywl6iDSti9hD28iqGb2FRL3BPE+ffUmQu7XJcmk+jHjutDnI/+V p/OakVwPaBVG9kUAaVwhqrHi7k9nxiQH9q8g+5ZYtaGy+2f23kyYu7OrrYsghPPNC8snQOKd3f9 IAMwNiDcVJuhn9UFVIGRZLpkh2JbFf/uv8AU5pR4HbuEi X-Gm-Gg: ASbGncs/ftCTEtK5NTCtk9rLMUJlJJ+i4fW5ocgnawXGPdfVu9HY2ySyvtftZyrj+aj 7k1Q1f7kG55m5wN+FEg9RW4KpwpIY6EHJNuu1sPbkeorrmLFb2JlsfXqCs575rLrLYk0aLLZy70 KnK5x++q6aSALJbs8wToIXcnrFfAYpctQ8q3TCOQpecPqxif7lVKMu+I8nfB5+DfSr+Zr/4IyRo QjZdO7aO/+KrHIEMcLIuulL8vh6tLifh8GJPDOzhd+ClnFAqkTtGAsIuZMV893VJ2v6/Qkc+N58 ZGxfd6SPvktRgQrfLk9Fok5d2KWO3XY8XNr0ZrL4Opryq4uPV88VuHHjb8zQUkkG0VGdl8/C X-Google-Smtp-Source: AGHT+IGaRH5017o6Uq4VXZ9S5Fbh7Fa/WG6QvklqKkxFNyu+WssTbohHfeV+Zfm7zIljOYD9gaQ67TzSAQRU X-Received: by 2002:a05:6a20:a11c:b0:250:c76d:1ccf with SMTP id adf61e73a8af0-2e7c5089a29mr4361500637.1.1758801322235; Thu, 25 Sep 2025 04:55:22 -0700 (PDT) Received: from postal.iol.unh.edu (postal.iol.unh.edu. [132.177.123.84]) by smtp-relay.gmail.com with ESMTPS id 41be03b00d2f7-b57c55b91b2sm79926a12.14.2025.09.25.04.55.22 (version=TLS1_2 cipher=ECDHE-ECDSA-AES128-GCM-SHA256 bits=128/128); Thu, 25 Sep 2025 04:55:22 -0700 (PDT) X-Relaying-Domain: iol.unh.edu Date: Thu, 25 Sep 2025 04:55:22 -0700 (PDT) Message-ID: <68d52daa.630a0220.a3154.517aSMTPIN_ADDED_MISSING@mx.google.com> Received: from [172.21.0.3] (unknown [172.18.0.240]) by postal.iol.unh.edu (Postfix) with ESMTP id 6CAF260003F7; Thu, 25 Sep 2025 07:55:21 -0400 (EDT) Subject: |SUCCESS| pw156944 [PATCH] [v1] cryptodev: introduce constant-time m From: dpdklab@iol.unh.edu To: Test Report Cc: dpdk-test-reports@iol.unh.edu, Akhil Goyal In-Reply-To: <20250925102223.145471-1-kai.ji@intel.com> References: <20250925102223.145471-1-kai.ji@intel.com> Content-Type: text/plain X-BeenThere: test-report@dpdk.org X-Mailman-Version: 2.1.29 Precedence: list List-Id: automatic DPDK test reports List-Unsubscribe: , List-Archive: List-Post: List-Help: List-Subscribe: , Errors-To: test-report-bounces@dpdk.org Test-Label: iol-compile-amd64-testing Test-Status: SUCCESS http://dpdk.org/patch/156944 _Testing PASS_ Submitter: Kai Ji Date: Thursday, September 25 2025 10:22:23 DPDK git baseline: Repo:dpdk-next-crypto Branch: master CommitID:4159ea62922ce41566c7bab44655ad78bee85458 156944 --> testing pass Upstream job id: Windows-Compile-DPDK-Native#31208 Test environment and result as below: +-------------------------------+--------------------+-------------------+------------------+-------------------+-------------------------+----------------------+ | Environment | dpdk_meson_compile | dpdk_compile_spdk | dpdk_compile_ovs | dpdk_msvc_compile | dpdk_llvm_clang_compile | dpdk_mingw64_compile | +===============================+====================+===================+==================+===================+=========================+======================+ | CentOS Stream 9 | PASS | PASS | SKIPPED | SKIPPED | SKIPPED | SKIPPED | +-------------------------------+--------------------+-------------------+------------------+-------------------+-------------------------+----------------------+ | CentOS Stream 10 | PASS | SKIPPED | SKIPPED | SKIPPED | SKIPPED | SKIPPED | +-------------------------------+--------------------+-------------------+------------------+-------------------+-------------------------+----------------------+ | Debian GNU/Linux 12 | PASS | PASS | SKIPPED | SKIPPED | SKIPPED | SKIPPED | +-------------------------------+--------------------+-------------------+------------------+-------------------+-------------------------+----------------------+ | Fedora Linux 42 | PASS | PASS | PASS | SKIPPED | SKIPPED | SKIPPED | +-------------------------------+--------------------+-------------------+------------------+-------------------+-------------------------+----------------------+ | Ubuntu 20.04 | PASS | SKIPPED | SKIPPED | SKIPPED | SKIPPED | SKIPPED | +-------------------------------+--------------------+-------------------+------------------+-------------------+-------------------------+----------------------+ | openSUSE Leap 15.6 | PASS | SKIPPED | SKIPPED | SKIPPED | SKIPPED | SKIPPED | +-------------------------------+--------------------+-------------------+------------------+-------------------+-------------------------+----------------------+ | Red Hat Enterprise Linux 9.5 | PASS | SKIPPED | SKIPPED | SKIPPED | SKIPPED | SKIPPED | +-------------------------------+--------------------+-------------------+------------------+-------------------+-------------------------+----------------------+ | Ubuntu 22.04 | PASS | PASS | SKIPPED | SKIPPED | SKIPPED | SKIPPED | +-------------------------------+--------------------+-------------------+------------------+-------------------+-------------------------+----------------------+ | Ubuntu 24.04 | PASS | PASS | PASS | SKIPPED | SKIPPED | SKIPPED | +-------------------------------+--------------------+-------------------+------------------+-------------------+-------------------------+----------------------+ | Red Hat Enterprise Linux 8.10 | PASS | SKIPPED | SKIPPED | SKIPPED | SKIPPED | SKIPPED | +-------------------------------+--------------------+-------------------+------------------+-------------------+-------------------------+----------------------+ | Alpine Linux 3.22.0 | PASS | SKIPPED | SKIPPED | SKIPPED | SKIPPED | SKIPPED | +-------------------------------+--------------------+-------------------+------------------+-------------------+-------------------------+----------------------+ | FreeBSD 14.2 | PASS | SKIPPED | SKIPPED | SKIPPED | SKIPPED | SKIPPED | +-------------------------------+--------------------+-------------------+------------------+-------------------+-------------------------+----------------------+ | Windows Server 2022 | SKIPPED | SKIPPED | SKIPPED | PASS | PASS | PASS | +-------------------------------+--------------------+-------------------+------------------+-------------------+-------------------------+----------------------+ CentOS Stream 9 Kernel: 5.15 Compiler: gcc gcc (GCC) 11.5.0 20240719 (Red Hat 11.5.0-11) CentOS Stream 10 Kernel: 5.15 Compiler: gcc gcc (GCC) 14.2.1 20250110 (Red Hat 14.2.1-8) Debian GNU/Linux 12 Kernel: 5.15 Compiler: gcc gcc (Debian 12.2.0-14+deb12u1) 12.2.0 Fedora Linux 42 Kernel: 5.15 Compiler: clang gcc (GCC) 15.2.1 20250808 (Red Hat 15.2.1-1) Ubuntu 20.04 Kernel: 4.19 Compiler: gcc gcc (Ubuntu 9.4.0-1ubuntu1~20.04.2) 9.4.0 openSUSE Leap 15.6 Kernel: 5.15 Compiler: gcc gcc (SUSE Linux) 7.5.0 Red Hat Enterprise Linux 9.5 Kernel: 5.15 Compiler: gcc gcc (GCC) 11.5.0 20240719 (Red Hat 11.5.0-2) Ubuntu 22.04 Kernel: 5.15 Compiler: gcc gcc (Ubuntu 11.4.0-1ubuntu1~22.04) 11.4.0 Ubuntu 24.04 Kernel: 5.15 Compiler: gcc gcc (Ubuntu 13.3.0-6ubuntu2~24.04) 13.3.0 Red Hat Enterprise Linux 8.10 Kernel: 5.15 Compiler: gcc gcc (GCC) 8.5.0 20210514 (Red Hat 8.5.0-22) Alpine Linux 3.22.0 Kernel: 5.15 Compiler: gcc gcc (Alpine 14.2.0) 14.2.0 FreeBSD 14.2 Kernel: 14.2-RELEASE Compiler: clang 18.1.6 Windows Server 2022 Kernel: 10.0.20348.2031 Compiler: clang 15.0.7, gcc 14.1.0 (MinGW), and MSVC VS 19.39.33521 To view detailed results, visit: https://lab.dpdk.org/results/dashboard/patchsets/34147/ UNH-IOL DPDK Community Lab To manage your email subscriptions, visit: https://lab.dpdk.org/results/dashboard/preferences/subscriptions/