From mboxrd@z Thu Jan 1 00:00:00 1970 Return-Path: Received: from mails.dpdk.org (mails.dpdk.org [217.70.189.124]) by inbox.dpdk.org (Postfix) with ESMTP id 9528846F6F for ; Thu, 25 Sep 2025 13:55:49 +0200 (CEST) Received: from mails.dpdk.org (localhost [127.0.0.1]) by mails.dpdk.org (Postfix) with ESMTP id 8E970402AB; Thu, 25 Sep 2025 13:55:49 +0200 (CEST) Received: from mail-pj1-f99.google.com (mail-pj1-f99.google.com [209.85.216.99]) by mails.dpdk.org (Postfix) with ESMTP id 9E73A402AB for ; Thu, 25 Sep 2025 13:55:47 +0200 (CEST) Received: by mail-pj1-f99.google.com with SMTP id 98e67ed59e1d1-33067909400so623207a91.2 for ; Thu, 25 Sep 2025 04:55:47 -0700 (PDT) DKIM-Signature: v=1; a=rsa-sha256; c=relaxed/relaxed; d=iol.unh.edu; s=unh-iol; t=1758801347; x=1759406147; darn=dpdk.org; h=references:in-reply-to:cc:to:from:subject:message-id:date:from:to :cc:subject:date:message-id:reply-to; bh=1Rvwctu1CTuVXljEV7XsWrUn4Ydzn/GYAMgCIle9zCI=; b=hcgA+iCFKfPnBVKVQtvTsMtNpujPO699EdFbPwL1iFffe1zmG9ztoL62U+Z84MMfR9 TJH8iuWAIGQTT0c+RHjWf7XSUZKX3m2omaTh3OZ5D/XZwwGc8f2/3sSgGdRHbbULE50K tK0Fs4Ik+SSP0GOQ9o/gqXlRwvCnP7UpDX6Zc= X-Google-DKIM-Signature: v=1; a=rsa-sha256; c=relaxed/relaxed; d=1e100.net; s=20230601; t=1758801347; x=1759406147; h=references:in-reply-to:cc:to:from:subject:message-id:date :x-gm-message-state:from:to:cc:subject:date:message-id:reply-to; bh=1Rvwctu1CTuVXljEV7XsWrUn4Ydzn/GYAMgCIle9zCI=; b=bABdlZhmkhRQe5Kl9pVVeY6/0mmwj5AWV3qnrUZ+8bixVa/b9yUZ2StlC6Fr5ddY2G OvP6ulTgiFsXlndImvAWP14qmpdA2ZXYTp2lnhfvNX73aqFvXpoEFgV6r0zw/TKhxRGu BNB6vOYox9lkSC8/sTlH32r0BYGIcKXsZUOnDiT6k+yi4nw0JOa/nEwJsURy5Nn0GP+W OrtZCuyiKacnmJcxJYSCv+xnQ0rP4oguuf43R5QqXFZDkQlHvGAlGBtWfQmlUT/kayCw mr5OokOUisNvS1YJgRAThPV0y5RUSYKGyqlYx6oztaYno9oG2Wx+4B74Xqtu5a4gJ4tH hAWQ== X-Gm-Message-State: AOJu0YxYsytZ1+OOqPFJ+IVcZ9am4waxcL7q0emEiD8T3fjOHTkYb96R xzqnOkplUr3+t5+tGxj4Xmxh8iWbMF2eexsJxXmitRGwZHwGm6rbrSL+lzicZ8JwgsRSb8li1n7 Vbn8K+hHShphIH5hh5I3TXszRylANRNGVDAMWR/9laSToj4ha4eRTiGEkIK/Y X-Gm-Gg: ASbGncse7nZWaXkwZnVqDeKXkx9ky9DIyEmtuCTKJfJAra9/ZVX6uAcsyPod6iPE/L8 hV9eoBgno5bz7TBO38B8KhCR/ym9sVzOgObl4OQX/amWQg3XlbHkmJtRkFQdGsDnhrS4Hvy9yGi ok2/1puHSnU9MG7w62FTr1KD7bZSZFJ+U/ZL40Sas5ijDi6tCsGfNNnIQjcxdyOJwjbtCoofugD ZkRJmLAUQq133RPpGS+AC3cPSkFbHAbK9yeOHNBM1Chm+mmGbt5l8AMQkrU31mUfAMkh2obfJGr HS65dR06O0yBVwie97LBhuq3X1Ld+1/JqS66KiWzzR86+F5E8A== X-Google-Smtp-Source: AGHT+IHEJoG6d8e6+r5tJQuEwD5SPHQxcbdGXvW/sGWwvGFk9UeKau5l1nFHHXIuLSNmE5Sc27ws2meTU2YP X-Received: by 2002:a17:90b:1802:b0:32e:f1c:e778 with SMTP id 98e67ed59e1d1-3342a2370famr3439925a91.3.1758801346773; Thu, 25 Sep 2025 04:55:46 -0700 (PDT) Received: from postal.iol.unh.edu (postal.iol.unh.edu. [2606:4100:3880:1234::84]) by smtp-relay.gmail.com with ESMTPS id 98e67ed59e1d1-334736ccc86sm82651a91.7.2025.09.25.04.55.46 (version=TLS1_2 cipher=ECDHE-ECDSA-AES128-GCM-SHA256 bits=128/128); Thu, 25 Sep 2025 04:55:46 -0700 (PDT) X-Relaying-Domain: iol.unh.edu Date: Thu, 25 Sep 2025 04:55:46 -0700 (PDT) Message-ID: <68d52dc2.170a0220.113978.54a5SMTPIN_ADDED_MISSING@mx.google.com> Received: from [172.21.0.3] (unknown [172.18.0.240]) by postal.iol.unh.edu (Postfix) with ESMTP id 986546051830; Thu, 25 Sep 2025 07:55:45 -0400 (EDT) Subject: |SUCCESS| pw156944 [PATCH] [v1] cryptodev: introduce constant-time m From: dpdklab@iol.unh.edu To: Test Report Cc: dpdk-test-reports@iol.unh.edu, Akhil Goyal In-Reply-To: <20250925102223.145471-1-kai.ji@intel.com> References: <20250925102223.145471-1-kai.ji@intel.com> Content-Type: text/plain X-BeenThere: test-report@dpdk.org X-Mailman-Version: 2.1.29 Precedence: list List-Id: automatic DPDK test reports List-Unsubscribe: , List-Archive: List-Post: List-Help: List-Subscribe: , Errors-To: test-report-bounces@dpdk.org Test-Label: iol-compile-amd64-testing Test-Status: SUCCESS http://dpdk.org/patch/156944 _Testing PASS_ Submitter: Kai Ji Date: Thursday, September 25 2025 10:22:23 DPDK git baseline: Repo:dpdk-next-crypto Branch: master CommitID:4159ea62922ce41566c7bab44655ad78bee85458 156944 --> testing pass Upstream job id: Generic-DPDK-Compile-Meson#428543 Test environment and result as below: +-------------------------------+--------------------+-------------------+------------------+-------------------+-------------------------+----------------------+ | Environment | dpdk_meson_compile | dpdk_compile_spdk | dpdk_compile_ovs | dpdk_msvc_compile | dpdk_llvm_clang_compile | dpdk_mingw64_compile | +===============================+====================+===================+==================+===================+=========================+======================+ | CentOS Stream 9 | PASS | PASS | SKIPPED | SKIPPED | SKIPPED | SKIPPED | +-------------------------------+--------------------+-------------------+------------------+-------------------+-------------------------+----------------------+ | CentOS Stream 10 | PASS | SKIPPED | SKIPPED | SKIPPED | SKIPPED | SKIPPED | +-------------------------------+--------------------+-------------------+------------------+-------------------+-------------------------+----------------------+ | Debian GNU/Linux 12 | PASS | PASS | SKIPPED | SKIPPED | SKIPPED | SKIPPED | +-------------------------------+--------------------+-------------------+------------------+-------------------+-------------------------+----------------------+ | Fedora Linux 42 | PASS | PASS | PASS | SKIPPED | SKIPPED | SKIPPED | +-------------------------------+--------------------+-------------------+------------------+-------------------+-------------------------+----------------------+ | Ubuntu 20.04 | PASS | SKIPPED | SKIPPED | SKIPPED | SKIPPED | SKIPPED | +-------------------------------+--------------------+-------------------+------------------+-------------------+-------------------------+----------------------+ | openSUSE Leap 15.6 | PASS | SKIPPED | SKIPPED | SKIPPED | SKIPPED | SKIPPED | +-------------------------------+--------------------+-------------------+------------------+-------------------+-------------------------+----------------------+ | Red Hat Enterprise Linux 9.5 | PASS | SKIPPED | SKIPPED | SKIPPED | SKIPPED | SKIPPED | +-------------------------------+--------------------+-------------------+------------------+-------------------+-------------------------+----------------------+ | Ubuntu 22.04 | PASS | PASS | SKIPPED | SKIPPED | SKIPPED | SKIPPED | +-------------------------------+--------------------+-------------------+------------------+-------------------+-------------------------+----------------------+ | Ubuntu 24.04 | PASS | PASS | PASS | SKIPPED | SKIPPED | SKIPPED | +-------------------------------+--------------------+-------------------+------------------+-------------------+-------------------------+----------------------+ | Red Hat Enterprise Linux 8.10 | PASS | SKIPPED | SKIPPED | SKIPPED | SKIPPED | SKIPPED | +-------------------------------+--------------------+-------------------+------------------+-------------------+-------------------------+----------------------+ | Alpine Linux 3.22.0 | PASS | SKIPPED | SKIPPED | SKIPPED | SKIPPED | SKIPPED | +-------------------------------+--------------------+-------------------+------------------+-------------------+-------------------------+----------------------+ | FreeBSD 14.2 | PASS | SKIPPED | SKIPPED | SKIPPED | SKIPPED | SKIPPED | +-------------------------------+--------------------+-------------------+------------------+-------------------+-------------------------+----------------------+ | Windows Server 2022 | SKIPPED | SKIPPED | SKIPPED | PASS | PASS | PASS | +-------------------------------+--------------------+-------------------+------------------+-------------------+-------------------------+----------------------+ CentOS Stream 9 Kernel: 5.15 Compiler: gcc gcc (GCC) 11.5.0 20240719 (Red Hat 11.5.0-11) CentOS Stream 10 Kernel: 5.15 Compiler: gcc gcc (GCC) 14.2.1 20250110 (Red Hat 14.2.1-8) Debian GNU/Linux 12 Kernel: 5.15 Compiler: gcc gcc (Debian 12.2.0-14+deb12u1) 12.2.0 Fedora Linux 42 Kernel: 5.15 Compiler: clang gcc (GCC) 15.2.1 20250808 (Red Hat 15.2.1-1) Ubuntu 20.04 Kernel: 4.19 Compiler: gcc gcc (Ubuntu 9.4.0-1ubuntu1~20.04.2) 9.4.0 openSUSE Leap 15.6 Kernel: 5.15 Compiler: gcc gcc (SUSE Linux) 7.5.0 Red Hat Enterprise Linux 9.5 Kernel: 5.15 Compiler: gcc gcc (GCC) 11.5.0 20240719 (Red Hat 11.5.0-2) Ubuntu 22.04 Kernel: 5.15 Compiler: gcc gcc (Ubuntu 11.4.0-1ubuntu1~22.04) 11.4.0 Ubuntu 24.04 Kernel: 5.15 Compiler: gcc gcc (Ubuntu 13.3.0-6ubuntu2~24.04) 13.3.0 Red Hat Enterprise Linux 8.10 Kernel: 5.15 Compiler: gcc gcc (GCC) 8.5.0 20210514 (Red Hat 8.5.0-22) Alpine Linux 3.22.0 Kernel: 5.15 Compiler: gcc gcc (Alpine 14.2.0) 14.2.0 FreeBSD 14.2 Kernel: 14.2-RELEASE Compiler: clang 18.1.6 Windows Server 2022 Kernel: 10.0.20348.2031 Compiler: clang 15.0.7, gcc 14.1.0 (MinGW), and MSVC VS 19.39.33521 To view detailed results, visit: https://lab.dpdk.org/results/dashboard/patchsets/34147/ UNH-IOL DPDK Community Lab To manage your email subscriptions, visit: https://lab.dpdk.org/results/dashboard/preferences/subscriptions/