From mboxrd@z Thu Jan 1 00:00:00 1970 Return-Path: Received: from mails.dpdk.org (mails.dpdk.org [217.70.189.124]) by inbox.dpdk.org (Postfix) with ESMTP id ECA9246F6F for ; Thu, 25 Sep 2025 13:58:44 +0200 (CEST) Received: from mails.dpdk.org (localhost [127.0.0.1]) by mails.dpdk.org (Postfix) with ESMTP id E70AC402AB; Thu, 25 Sep 2025 13:58:44 +0200 (CEST) Received: from mail-yw1-f227.google.com (mail-yw1-f227.google.com [209.85.128.227]) by mails.dpdk.org (Postfix) with ESMTP id DBBBE4042F for ; Thu, 25 Sep 2025 13:58:42 +0200 (CEST) Received: by mail-yw1-f227.google.com with SMTP id 00721157ae682-71d6051aeafso7380177b3.2 for ; Thu, 25 Sep 2025 04:58:42 -0700 (PDT) DKIM-Signature: v=1; a=rsa-sha256; c=relaxed/relaxed; d=iol.unh.edu; s=unh-iol; t=1758801522; x=1759406322; darn=dpdk.org; h=references:in-reply-to:cc:to:from:subject:message-id:date:from:to :cc:subject:date:message-id:reply-to; bh=SXBJJd2sAriC6Qm/9CRrYBwGJJdeqA7PQqg3r8d0too=; b=RDhZMvD9spE1iEIgKoa+Fs7SjJheOgkNAODLRBKe5nrj4fGG3YoLLCEYI6FMZjNXvx +HweV977Vl4UOgru6VXwScG4sa8nG8qs0S9GWpelIvssxz54vhGnWtnEtli49nqyzJVG WgFYOO2/Bh9bT636hA9+UPH6pLKkS7K64ucAQ= X-Google-DKIM-Signature: v=1; a=rsa-sha256; c=relaxed/relaxed; d=1e100.net; s=20230601; t=1758801522; x=1759406322; h=references:in-reply-to:cc:to:from:subject:message-id:date :x-gm-message-state:from:to:cc:subject:date:message-id:reply-to; bh=SXBJJd2sAriC6Qm/9CRrYBwGJJdeqA7PQqg3r8d0too=; b=P4AtbS1Cc9/41G0gKRXwCTFaaFcnmzwoOYlBC5mu5KJ02QUwwvOvxvhbb6XjcbK3Jt YN5aJ9tAu2Zc+gG+GgqndNCOTKqXysDSwBRhoSuyE0nOQsOmQBKHFflBePX7egH69Ha7 /erAhgQw3UKPhRgThPw7odMPhi/1p4uGufeqdjF6VLvoFQHIUQ+ufxAaHW2r71gKyCgm pATFiN46d4+83omn1bRLUwrRQlHcYiclsTs8H+SGKdgsBy6ZZERjSdwDCdt98XeP4C4S +L0enfwyx+hWlzbSPbZsjpoUIKLLWNn5k6+cbmWmIogYikEirLlmXCLgN4Lfq4HRGrsE rlxw== X-Gm-Message-State: AOJu0YyBn8sLDRByFpc0EwCqvj6wHQkY800dbxQpo95FnJc3Nhhi/nJg H/iE2KTIHUrlFQDkr0QlbEThqKsu/LgJYJv/U4X0wXE8Xa3Gm27Ms1lJFUAU8+BEPVADQ6rnhbF bpPjLOvTqVr7kMxbJl3kIAC+96nsgktayUi6mMaI2p3KX X-Gm-Gg: ASbGncs6v1vywHi1H8DJMt9THD1ziwFsk2JsF4RzvEDRxgyHHDC9yrEsflWZfs15JpA PtJxtkmF+nhZzRmzf1fNSbBSji8+QfYh2DRZ9NB+n8YHWXvMT0XI4neqheO5GdrQJQchP7+ArXE zl3z2qd0Ix5Cq5OSU4RK+Rvpd8Duc8hMBMq0BsJdLMg3pXUT7KTxtnWolWwuTenyMH+blsQsGdb wPeZ81I4z68Ojdb2kp1kRhuFBIr/dhV57ghDH2aoPFhtQXoH0CrW6iKKh/XakLg/NzGiTdSG2rt H0CtXiZD1X0fxGEe9Nv/o4TQNyol4QPcEYByz/JEVaLdrO+eDM2Z2mrW/gCQTFL4YockrQdc X-Google-Smtp-Source: AGHT+IEKh7T8IcZTWliIITiqpHMnC5iXdt9RSZGRumVdWLa43pxr9fxWWNpoKtKm4O55G4buLEQYRiDyblDl X-Received: by 2002:a0d:e3c6:0:b0:738:18b9:ffc9 with SMTP id 00721157ae682-763fb38d162mr22263427b3.20.1758801522044; Thu, 25 Sep 2025 04:58:42 -0700 (PDT) Received: from postal.iol.unh.edu (postal.iol.unh.edu. [132.177.123.84]) by smtp-relay.gmail.com with ESMTPS id 00721157ae682-765d9c26235sm722077b3.32.2025.09.25.04.58.41 (version=TLS1_2 cipher=ECDHE-ECDSA-AES128-GCM-SHA256 bits=128/128); Thu, 25 Sep 2025 04:58:42 -0700 (PDT) X-Relaying-Domain: iol.unh.edu Date: Thu, 25 Sep 2025 04:58:42 -0700 (PDT) Message-ID: <68d52e72.810a0220.1a6f83.5423SMTPIN_ADDED_MISSING@mx.google.com> Received: from [172.21.0.3] (unknown [172.18.0.240]) by postal.iol.unh.edu (Postfix) with ESMTP id 70C826051830; Thu, 25 Sep 2025 07:58:41 -0400 (EDT) Subject: |SUCCESS| pw156926-156941 [PATCH] [v11,17/17] net/nbl: add nbl devic From: dpdklab@iol.unh.edu To: Test Report Cc: dpdk-test-reports@iol.unh.edu, Stephen Hemminger In-Reply-To: <20250925065854.2907820-18-dimon.zhao@nebula-matrix.com> References: <20250925065854.2907820-18-dimon.zhao@nebula-matrix.com> Content-Type: text/plain X-BeenThere: test-report@dpdk.org X-Mailman-Version: 2.1.29 Precedence: list List-Id: automatic DPDK test reports List-Unsubscribe: , List-Archive: List-Post: List-Help: List-Subscribe: , Errors-To: test-report-bounces@dpdk.org Test-Label: iol-compile-arm64-testing Test-Status: SUCCESS http://dpdk.org/patch/156941 _Testing PASS_ Submitter: Dimon Zhao Date: Thursday, September 25 2025 06:58:54 DPDK git baseline: Repo:dpdk-next-net Branch: master CommitID:2786b466bcf44f122e10c45da3a9615ffde5ac8b 156926-156941 --> testing pass Upstream job id: Generic-DPDK-Compile-Meson#428473 Test environment and result as below: +------------------------------+--------------------+ | Environment | dpdk_meson_compile | +==============================+====================+ | Red Hat Enterprise Linux 9.5 | PASS | +------------------------------+--------------------+ | Ubuntu 20.04 | PASS | +------------------------------+--------------------+ | Debian GNU/Linux 12 | PASS | +------------------------------+--------------------+ | Fedora Linux 42 | PASS | +------------------------------+--------------------+ | CentOS Stream 9 | PASS | +------------------------------+--------------------+ | Ubuntu 24.04 | PASS | +------------------------------+--------------------+ | Ubuntu 22.04 | PASS | +------------------------------+--------------------+ | CentOS Stream 10 | PASS | +------------------------------+--------------------+ Red Hat Enterprise Linux 9.5 Kernel: 5.4 Compiler: gcc gcc (GCC) 11.5.0 20240719 (Red Hat 11.5.0-2) Ubuntu 20.04 Kernel: 5.15 Compiler: aarch64-linux-gnu-gcc gcc (Ubuntu 9.4.0-1ubuntu1~20.04.2) 9.4.0 Debian GNU/Linux 12 Kernel: 5.4 Compiler: gcc gcc (Debian 12.2.0-14+deb12u1) 12.2.0 Fedora Linux 42 Kernel: 5.4 Compiler: gcc gcc (GCC) 15.2.1 20250808 (Red Hat 15.2.1-1) CentOS Stream 9 Kernel: 5.4 Compiler: gcc gcc (GCC) 11.5.0 20240719 (Red Hat 11.5.0-11) Ubuntu 24.04 Kernel: 5.4 Compiler: gcc gcc (Ubuntu 13.3.0-6ubuntu2~24.04) 13.3.0 Ubuntu 22.04 Kernel: 5.4 Compiler: gcc gcc (Ubuntu 11.4.0-1ubuntu1~22.04) 11.4.0 CentOS Stream 10 Kernel: 5.4 Compiler: gcc gcc (GCC) 14.2.1 20250110 (Red Hat 14.2.1-8) To view detailed results, visit: https://lab.dpdk.org/results/dashboard/patchsets/34145/ UNH-IOL DPDK Community Lab To manage your email subscriptions, visit: https://lab.dpdk.org/results/dashboard/preferences/subscriptions/