From mboxrd@z Thu Jan 1 00:00:00 1970 Return-Path: Received: from mails.dpdk.org (mails.dpdk.org [217.70.189.124]) by inbox.dpdk.org (Postfix) with ESMTP id AEF2746F71 for ; Thu, 25 Sep 2025 14:06:16 +0200 (CEST) Received: from mails.dpdk.org (localhost [127.0.0.1]) by mails.dpdk.org (Postfix) with ESMTP id 8AA2F402AB; Thu, 25 Sep 2025 14:06:16 +0200 (CEST) Received: from mail-qt1-f227.google.com (mail-qt1-f227.google.com [209.85.160.227]) by mails.dpdk.org (Postfix) with ESMTP id 0FF0C402AB for ; Thu, 25 Sep 2025 14:06:15 +0200 (CEST) Received: by mail-qt1-f227.google.com with SMTP id d75a77b69052e-4da7a3d0402so8940301cf.0 for ; Thu, 25 Sep 2025 05:06:15 -0700 (PDT) DKIM-Signature: v=1; a=rsa-sha256; c=relaxed/relaxed; d=iol.unh.edu; s=unh-iol; t=1758801974; x=1759406774; darn=dpdk.org; h=references:in-reply-to:cc:to:from:subject:message-id:date:from:to :cc:subject:date:message-id:reply-to; bh=EVIw1Yfdg/31Dkvi0u5XfuFVL7ljnpBIcT8fP5XnAPc=; b=aLRNGJc5Q5hNQbC0QAT/6vvDJklKHQYw3nUetl7jQ5fXNbNAF2pbmwq3syB3YiwX/a LSoZ5FjPBIxxuQPBS1krj9n/y7bpaHX51xXbloVg8iFnXCiSc3qRqxhzQ6ahzHYR2SgC 1+DW3ILpvDE9Z/dIedN6IuU+ay9NZ7SbBkO50= X-Google-DKIM-Signature: v=1; a=rsa-sha256; c=relaxed/relaxed; d=1e100.net; s=20230601; t=1758801974; x=1759406774; h=references:in-reply-to:cc:to:from:subject:message-id:date :x-gm-message-state:from:to:cc:subject:date:message-id:reply-to; bh=EVIw1Yfdg/31Dkvi0u5XfuFVL7ljnpBIcT8fP5XnAPc=; b=RSNoS/HnBxQUqspcxAMJ+LsJAXXsWMcT29S3yZ38HUWeLSnPyxdBh1qtEw6jKykich 37ZQf5AFIsOfSXWv2J9+ep6m6jPnmMXlrZsz/Lk8Ga5NkejYKSxVoPrMvflmduqWrWdz Qp3m/DVauRCwEMoHDQrLNtyxXO0Z3k8eNE/FYdp4GC7/kg1yBCpLc65SZ/MM8k3OC14t rMCm1cjOX0oaplc23neF5FWPZnhHLmLhL+BjrfGdIYiUrN7ZdpQDQ4+MZkeU6PN6q1DX KKSUAvxsn3P5ewEtTWsKFF5l4AvC8Jex/QiOmKApx5zK8cHDSbptlPf5wdOwFgbSmXU+ QXtA== X-Gm-Message-State: AOJu0Yw90nnkSbDiQ/36KowSMd1aFKfeXxERCI+tkVrC+REdnzPGCXVC R4vaodGQw0nsPgPXCLPIFAAeEgKxjmAlSZW2hbsZ8bsjPcLkrYW5G7k/UgSw4amKvT9kKylh7rk 6qhTo8V9E1l1dJ6O1sLAUXlATF//ViSncKaAJzvpwWl+0 X-Gm-Gg: ASbGnct/aEs8gHX2tp/OTbOIHqFImyiPTziHBsKjoqIB0ir20h1bkCrFKHdwgrXArCv zahN2Wo0dF0JQeR2p04nJuvJzq2IhOnd9XMultj8TTrDfpmq/V5bvyRy8pCXtHKEPgqm4ACkLOl iH0d8GmPvaFoj3TZATRP0ADQ0m+Xq3GVDwVu/e5gpSQLXMVCMdwYmffP/OuJXD2+Qw7qEVg1biR gB4NuCXFMwlhSFEP3ybRwI3CoYah/4I0B11EBFA2gq5d/JWnxH5Yd+3YO8io8Q5MrRF2M2v+Hsr iT+1RS4xbkntSxifogHIuqy7dqBZZt+1SVk62V4Jw+NST8MhD/5XeAUAwJDQPQkb3k5WhPFC X-Google-Smtp-Source: AGHT+IFgSLgs3X/06t6NerILcmd3tI47bhsy6cHqXNu4Qz0wWNLWDlcKKvGmKfQ5RotJ9YcL1/HmXO3efllD X-Received: by 2002:a05:622a:5c9b:b0:4d6:c73f:de88 with SMTP id d75a77b69052e-4daca2eef5fmr37159851cf.3.1758801974304; Thu, 25 Sep 2025 05:06:14 -0700 (PDT) Received: from postal.iol.unh.edu (postal.iol.unh.edu. [132.177.123.84]) by smtp-relay.gmail.com with ESMTPS id d75a77b69052e-4db0ee49556sm510281cf.9.2025.09.25.05.06.14 (version=TLS1_2 cipher=ECDHE-ECDSA-AES128-GCM-SHA256 bits=128/128); Thu, 25 Sep 2025 05:06:14 -0700 (PDT) X-Relaying-Domain: iol.unh.edu Date: Thu, 25 Sep 2025 05:06:14 -0700 (PDT) Message-ID: <68d53036.050a0220.35daba.34ccSMTPIN_ADDED_MISSING@mx.google.com> Received: from [172.21.0.2] (unknown [172.18.0.240]) by postal.iol.unh.edu (Postfix) with ESMTP id D410D6051830; Thu, 25 Sep 2025 08:06:13 -0400 (EDT) Subject: |SUCCESS| pw156944 [PATCH] [v1] cryptodev: introduce constant-time m From: dpdklab@iol.unh.edu To: Test Report Cc: dpdk-test-reports@iol.unh.edu, Akhil Goyal In-Reply-To: <20250925102223.145471-1-kai.ji@intel.com> References: <20250925102223.145471-1-kai.ji@intel.com> Content-Type: text/plain X-BeenThere: test-report@dpdk.org X-Mailman-Version: 2.1.29 Precedence: list List-Id: automatic DPDK test reports List-Unsubscribe: , List-Archive: List-Post: List-Help: List-Subscribe: , Errors-To: test-report-bounces@dpdk.org Test-Label: iol-unit-amd64-testing Test-Status: SUCCESS http://dpdk.org/patch/156944 _Testing PASS_ Submitter: Kai Ji Date: Thursday, September 25 2025 10:22:23 DPDK git baseline: Repo:dpdk-next-crypto Branch: master CommitID:4159ea62922ce41566c7bab44655ad78bee85458 156944 --> testing pass Upstream job id: Generic-Unit-Test-DPDK#374970 Test environment and result as below: +-------------------------------+----------------+ | Environment | dpdk_unit_test | +===============================+================+ | CentOS Stream 9 | PASS | +-------------------------------+----------------+ | Fedora Linux 40 | PASS | +-------------------------------+----------------+ | Debian GNU/Linux 12 | PASS | +-------------------------------+----------------+ | CentOS Stream 10 | PASS | +-------------------------------+----------------+ | Fedora Linux 41 | PASS | +-------------------------------+----------------+ | Fedora Linux 42 | PASS | +-------------------------------+----------------+ | Red Hat Enterprise Linux 9.5 | PASS | +-------------------------------+----------------+ | Red Hat Enterprise Linux 8.10 | PASS | +-------------------------------+----------------+ | Ubuntu 22.04 | PASS | +-------------------------------+----------------+ | Ubuntu 20.04 | PASS | +-------------------------------+----------------+ | Ubuntu 24.04 | PASS | +-------------------------------+----------------+ | Windows Server 2022 | PASS | +-------------------------------+----------------+ CentOS Stream 9 Kernel: 5.15 Compiler: gcc gcc (GCC) 11.5.0 20240719 (Red Hat 11.5.0-11) Fedora Linux 40 Kernel: 5.15 Compiler: gcc gcc (GCC) 14.2.1 20240912 (Red Hat 14.2.1-3) Debian GNU/Linux 12 Kernel: 5.15 Compiler: gcc gcc (Debian 12.2.0-14+deb12u1) 12.2.0 CentOS Stream 10 Kernel: 5.15 Compiler: gcc gcc (GCC) 14.2.1 20250110 (Red Hat 14.2.1-8) Fedora Linux 41 Kernel: 5.15 Compiler: gcc gcc (GCC) 14.3.1 20250523 (Red Hat 14.3.1-1) Fedora Linux 42 Kernel: 5.15 Compiler: gcc gcc (GCC) 15.2.1 20250808 (Red Hat 15.2.1-1) Red Hat Enterprise Linux 9.5 Kernel: 5.15 Compiler: gcc gcc (GCC) 11.5.0 20240719 (Red Hat 11.5.0-2) Red Hat Enterprise Linux 8.10 Kernel: 5.15 Compiler: gcc gcc (GCC) 8.5.0 20210514 (Red Hat 8.5.0-22) Ubuntu 22.04 Kernel: 5.15 Compiler: gcc gcc (Ubuntu 11.4.0-1ubuntu1~22.04) 11.4.0 Ubuntu 20.04 Kernel: 5.15 Compiler: gcc gcc (Ubuntu 9.4.0-1ubuntu1~20.04.2) 9.4.0 Ubuntu 24.04 Kernel: 5.15 Compiler: gcc gcc (Ubuntu 13.3.0-6ubuntu2~24.04) 13.3.0 Windows Server 2022 Kernel: 10.0.20348.2031 Compiler: clang 15.0.7, gcc 14.1.0 (MinGW), and MSVC VS 19.39.33521 To view detailed results, visit: https://lab.dpdk.org/results/dashboard/patchsets/34147/ UNH-IOL DPDK Community Lab To manage your email subscriptions, visit: https://lab.dpdk.org/results/dashboard/preferences/subscriptions/