From mboxrd@z Thu Jan 1 00:00:00 1970 Return-Path: Received: from mails.dpdk.org (mails.dpdk.org [217.70.189.124]) by inbox.dpdk.org (Postfix) with ESMTP id 4344946F71 for ; Thu, 25 Sep 2025 15:11:23 +0200 (CEST) Received: from mails.dpdk.org (localhost [127.0.0.1]) by mails.dpdk.org (Postfix) with ESMTP id 3E8CF40651; Thu, 25 Sep 2025 15:11:23 +0200 (CEST) Received: from mail-yw1-f228.google.com (mail-yw1-f228.google.com [209.85.128.228]) by mails.dpdk.org (Postfix) with ESMTP id 83F1940651 for ; Thu, 25 Sep 2025 15:11:22 +0200 (CEST) Received: by mail-yw1-f228.google.com with SMTP id 00721157ae682-71d60157747so8456797b3.0 for ; Thu, 25 Sep 2025 06:11:22 -0700 (PDT) DKIM-Signature: v=1; a=rsa-sha256; c=relaxed/relaxed; d=iol.unh.edu; s=unh-iol; t=1758805882; x=1759410682; darn=dpdk.org; h=references:in-reply-to:cc:to:from:subject:message-id:date:from:to :cc:subject:date:message-id:reply-to; bh=g85Y9ARjaxqcrc5VO5PeG0WQ73ME2oraDI+hqHIWP9I=; b=RDJ24hPTzM1N/QlRoazhmou07y3+Yvgz82ErgCwDjQLGbL//vTnnEWDpgMmyuesFf2 2VwKucs6T3Zobn/ThCVIz0sjjMyWSBakKk/koHfTIgLNZoA/hZfxAbjZzB7ElUOYbdtQ ACSLN15yHJlxBx0QgRnglKuHN+l8lZbi8g+yk= X-Google-DKIM-Signature: v=1; a=rsa-sha256; c=relaxed/relaxed; d=1e100.net; s=20230601; t=1758805882; x=1759410682; h=references:in-reply-to:cc:to:from:subject:message-id:date :x-gm-message-state:from:to:cc:subject:date:message-id:reply-to; bh=g85Y9ARjaxqcrc5VO5PeG0WQ73ME2oraDI+hqHIWP9I=; b=MxU7KmYfbK7gf0l2GCiGwHFGaTeZcgOXvLGxtu+mKZmcxo81lldK3zmNFL9z+hMzxN 06yFLJx05QczSiwLPRiZTNoNAdZzFKaxc78JNnDqehVGgwSoo2t2oEH7QJjrkYOTHGsJ xcrTvHiqw9eDag+j6jj88erAKtr+52X9dr/KoMvTPfcLCclA9aJomqMGLEugT+/aZc/G XSZvvdg5zQnBbxd9UQ1Hbd4Sq2L6dK4WcVnSaPZ9LzLVYcY36O+tkfTuxwzaykgZFdb6 ZdgzsoSWwzJmczYGbM6TCHONsjco3p5DNbZhqBZAL30FdSH4CaMtyBk7kHW5FyYhcnTk qPIQ== X-Gm-Message-State: AOJu0Yy31YDfrIlIKSYMzsCEwBFYK7wChlNhluKbfai8R8qcL1U4Iuxw cHCwzDhLoXzXg39RGbKrLteSgCK3BEQrlpmgXNkuPkIExGfZ9GOX4eieXARDb8oeP10BA0QQPEn k8+PFKHmW08BASH1PftOOHfRqeoIxMqIDanL3r853W869 X-Gm-Gg: ASbGnctGB+xrGI/or1ypOxAU6RFx4oQRAA9sVu5AIPiyuyvo9Y6Yr8CPKvkOUnCET/8 H6mLI8MeUlCfljw0QWjNgqPBobHda9nSAR5+5v+EoNUo0d7MP93gkbTPT18dK79fKVN71X6GRGq OaTIV8rcttRzQEmoWESKci73sdTRHpCCo1/l/lBOIcmbBVzzva09v1r09oYNQMQ1+6MosTb7SRr skO6O3UlXnkyOsvLAjAS7+I9uWiYp63DmOhZGT1ePpbxZ6DEjn4l3vAlHwWBNPIgenYcFOxtPF2 ZoAJpHiYrTeTNlr7EHzFevynUfYxUfoSqCDjuOtX+r5ncYvuF716Tu6zaQXLqoIZCYGgiZjC X-Google-Smtp-Source: AGHT+IG+jlBeThv0CYVgn69g2U3DQYj7Rh/9TJ49nH7WJaU4pKno0+0QnX0LE+HJS/5bBhtfPppuMIHnQLcz X-Received: by 2002:a0d:dc03:0:b0:745:17a6:83c8 with SMTP id 00721157ae682-76403ebee32mr21732697b3.44.1758805881564; Thu, 25 Sep 2025 06:11:21 -0700 (PDT) Received: from postal.iol.unh.edu (postal.iol.unh.edu. [132.177.123.84]) by smtp-relay.gmail.com with ESMTPS id 00721157ae682-765d86cbb46sm826767b3.27.2025.09.25.06.11.21 (version=TLS1_2 cipher=ECDHE-ECDSA-AES128-GCM-SHA256 bits=128/128); Thu, 25 Sep 2025 06:11:21 -0700 (PDT) X-Relaying-Domain: iol.unh.edu Date: Thu, 25 Sep 2025 06:11:21 -0700 (PDT) Message-ID: <68d53f79.050a0220.e253d.5faaSMTPIN_ADDED_MISSING@mx.google.com> Received: from [172.21.0.2] (unknown [172.18.0.240]) by postal.iol.unh.edu (Postfix) with ESMTP id 1E3346051830; Thu, 25 Sep 2025 09:11:21 -0400 (EDT) Subject: |SUCCESS| pw156945 [PATCH] event/cnxk: update queue weight mapping f From: dpdklab@iol.unh.edu To: Test Report Cc: dpdk-test-reports@iol.unh.edu, Jerin Jacob In-Reply-To: <20250925120912.1137360-1-sthotton@marvell.com> References: <20250925120912.1137360-1-sthotton@marvell.com> Content-Type: text/plain X-BeenThere: test-report@dpdk.org X-Mailman-Version: 2.1.29 Precedence: list List-Id: automatic DPDK test reports List-Unsubscribe: , List-Archive: List-Post: List-Help: List-Subscribe: , Errors-To: test-report-bounces@dpdk.org Test-Label: iol-unit-amd64-testing Test-Status: SUCCESS http://dpdk.org/patch/156945 _Testing PASS_ Submitter: Shijith Thotton Date: Thursday, September 25 2025 12:09:12 DPDK git baseline: Repo:dpdk-next-eventdev Branch: master CommitID:9e36adf88c49b437c4c5ffa46158e53d96bef82c 156945 --> testing pass Upstream job id: Generic-Unit-Test-DPDK#375000 Test environment and result as below: +-------------------------------+----------------+ | Environment | dpdk_unit_test | +===============================+================+ | CentOS Stream 9 | PASS | +-------------------------------+----------------+ | CentOS Stream 10 | PASS | +-------------------------------+----------------+ | Debian GNU/Linux 12 | PASS | +-------------------------------+----------------+ | Fedora Linux 40 | PASS | +-------------------------------+----------------+ | Fedora Linux 41 | PASS | +-------------------------------+----------------+ | Windows Server 2022 | PASS | +-------------------------------+----------------+ | Red Hat Enterprise Linux 9.5 | PASS | +-------------------------------+----------------+ | Fedora Linux 42 | PASS | +-------------------------------+----------------+ | Ubuntu 22.04 | PASS | +-------------------------------+----------------+ | Ubuntu 20.04 | PASS | +-------------------------------+----------------+ | Red Hat Enterprise Linux 8.10 | PASS | +-------------------------------+----------------+ | Ubuntu 24.04 | PASS | +-------------------------------+----------------+ CentOS Stream 9 Kernel: 5.15 Compiler: gcc gcc (GCC) 11.5.0 20240719 (Red Hat 11.5.0-11) CentOS Stream 10 Kernel: 5.15 Compiler: gcc gcc (GCC) 14.2.1 20250110 (Red Hat 14.2.1-8) Debian GNU/Linux 12 Kernel: 5.15 Compiler: gcc gcc (Debian 12.2.0-14+deb12u1) 12.2.0 Fedora Linux 40 Kernel: 5.15 Compiler: gcc gcc (GCC) 14.2.1 20240912 (Red Hat 14.2.1-3) Fedora Linux 41 Kernel: 5.15 Compiler: gcc gcc (GCC) 14.3.1 20250523 (Red Hat 14.3.1-1) Windows Server 2022 Kernel: 10.0.20348.2031 Compiler: clang 15.0.7, gcc 14.1.0 (MinGW), and MSVC VS 19.39.33521 Red Hat Enterprise Linux 9.5 Kernel: 5.15 Compiler: gcc gcc (GCC) 11.5.0 20240719 (Red Hat 11.5.0-2) Fedora Linux 42 Kernel: 5.15 Compiler: gcc gcc (GCC) 15.2.1 20250808 (Red Hat 15.2.1-1) Ubuntu 22.04 Kernel: 5.15 Compiler: gcc gcc (Ubuntu 11.4.0-1ubuntu1~22.04) 11.4.0 Ubuntu 20.04 Kernel: 5.15 Compiler: gcc gcc (Ubuntu 9.4.0-1ubuntu1~20.04.2) 9.4.0 Red Hat Enterprise Linux 8.10 Kernel: 5.15 Compiler: gcc gcc (GCC) 8.5.0 20210514 (Red Hat 8.5.0-22) Ubuntu 24.04 Kernel: 5.15 Compiler: gcc gcc (Ubuntu 13.3.0-6ubuntu2~24.04) 13.3.0 To view detailed results, visit: https://lab.dpdk.org/results/dashboard/patchsets/34148/ UNH-IOL DPDK Community Lab To manage your email subscriptions, visit: https://lab.dpdk.org/results/dashboard/preferences/subscriptions/