From mboxrd@z Thu Jan 1 00:00:00 1970 Return-Path: Received: from mails.dpdk.org (mails.dpdk.org [217.70.189.124]) by inbox.dpdk.org (Postfix) with ESMTP id 5A24446F71 for ; Thu, 25 Sep 2025 15:11:44 +0200 (CEST) Received: from mails.dpdk.org (localhost [127.0.0.1]) by mails.dpdk.org (Postfix) with ESMTP id 546E140651; Thu, 25 Sep 2025 15:11:44 +0200 (CEST) Received: from mail-il1-f225.google.com (mail-il1-f225.google.com [209.85.166.225]) by mails.dpdk.org (Postfix) with ESMTP id 4FCB240651 for ; Thu, 25 Sep 2025 15:11:43 +0200 (CEST) Received: by mail-il1-f225.google.com with SMTP id e9e14a558f8ab-4248062c973so7872005ab.3 for ; Thu, 25 Sep 2025 06:11:43 -0700 (PDT) DKIM-Signature: v=1; a=rsa-sha256; c=relaxed/relaxed; d=iol.unh.edu; s=unh-iol; t=1758805902; x=1759410702; darn=dpdk.org; h=references:in-reply-to:cc:to:from:subject:message-id:date:from:to :cc:subject:date:message-id:reply-to; bh=vXb70HC7JEwCPSpLTgVIamO+ChkPXHkSw05fAIEDybA=; b=JQV25eQZCYo3gUJqbTXDmFAVxPeU/IDnJUAx8YL9tJCpVfYTclHhHomdHcsrPckKeT zYlt9kfILDso7ZBBnioBNxCnPac5GheditSnzAC/rAI5AdYJGOHUPjXyoSU8cHadATKH 1LzSXqFtVxKBkmXlWr6mC2i746ns/f7z3eZN0= X-Google-DKIM-Signature: v=1; a=rsa-sha256; c=relaxed/relaxed; d=1e100.net; s=20230601; t=1758805902; x=1759410702; h=references:in-reply-to:cc:to:from:subject:message-id:date :x-gm-message-state:from:to:cc:subject:date:message-id:reply-to; bh=vXb70HC7JEwCPSpLTgVIamO+ChkPXHkSw05fAIEDybA=; b=sGGThTwkyrb/CFKDiVmhZB3PDR3cP5mpGkKzlu5ZCzNW7OuM7EL58U6UruvFUkmdvg gR5CO8XM5QzLIpSwPQpiOIZuYvXL05NI9tM6jkfdAlZRJTOOsdKMRNam1vyOxOeKsH3W 1E4XtrnqE/YUwfObWEVTr/b3VAq64esTOu9zZPhtcUy7/FjQE0U/QWPhb/ugqfFkdsvm eQz5ZTWU6ktPG4WHcdjxcxFQlQp/YsBn+4KwDOgrhkalnv3GeYQb3dEQS8n7qDNJJB/R KpCobACrUbgqpsPxmjlfK6wCFuUUxN93b5EvAciEVJLJdD40NAeaE90JVOnQ9nf2euhR 2deA== X-Gm-Message-State: AOJu0YylcM3V3rCb9sLvtFIP+WQpyxz6hqFbOBwi4goYG0QATkNBDjGf VQTO7Ek4M2zzsDJss3e2S/81ratCpL4aNRRlUKYoiiVeRsUdyDIdRmSfEy/5lw163Pk+pypu3sS HFhEVKukoiIgD6YepnjarbHn7Digppgg+J/+HQYVAmjd01qGhA7AUSZ6dqLt9 X-Gm-Gg: ASbGncvjbgi6671+lFb7qnEZDv+FXfwchJI6TPMSu1Ig08NDugrfAgzrHm978LUnGrd UG9NWQM4U8+PQsc/+InPwxWgSN5aVkLs9Geb9qP3fzGwaqJU1x4Q9Rsh0htBarspCBGnwpLaALM McwiSjArZVxa9bWEjEzAKixGLctIikFjJKTmDNTeDegLbGU2F+e/zhF/ky552UlCeRA3HFYPcWs EPg7k/GfqWpcxccyzZGJfZazaT1dzT3NoApyPqBszD2q8+H0hOjhj9j4vzvbZ+aOexEzqFQekPH ka5Sb58wVhdSdeNPBusUp8q4hb1JhtJJ/Sg2mOSGtvy+jHVv0A== X-Google-Smtp-Source: AGHT+IGCsbX16KcJZLL76w3aV6+3dedJimGkv/H+ZeX2UqgeAl3JkmtjOdRYppY/fOe89iysfJQEjR2TiRrp X-Received: by 2002:a05:6e02:218f:b0:424:1c9a:cadf with SMTP id e9e14a558f8ab-425955ed4d8mr54094025ab.3.1758805901506; Thu, 25 Sep 2025 06:11:41 -0700 (PDT) Received: from postal.iol.unh.edu (postal.iol.unh.edu. [2606:4100:3880:1234::84]) by smtp-relay.gmail.com with ESMTPS id 8926c6da1cb9f-56a65653cdbsm115698173.21.2025.09.25.06.11.41 (version=TLS1_2 cipher=ECDHE-ECDSA-AES128-GCM-SHA256 bits=128/128); Thu, 25 Sep 2025 06:11:41 -0700 (PDT) X-Relaying-Domain: iol.unh.edu Date: Thu, 25 Sep 2025 06:11:41 -0700 (PDT) Message-ID: <68d53f8d.050a0220.32a667.7194SMTPIN_ADDED_MISSING@mx.google.com> Received: from [172.21.0.2] (unknown [172.18.0.240]) by postal.iol.unh.edu (Postfix) with ESMTP id 388A86051830; Thu, 25 Sep 2025 09:11:41 -0400 (EDT) Subject: |SUCCESS| pw156923 [PATCH] net/zxdh: remove unnecessary null free ch From: dpdklab@iol.unh.edu To: Test Report Cc: dpdk-test-reports@iol.unh.edu, Stephen Hemminger In-Reply-To: <20250924202252.472101-1-stephen@networkplumber.org> References: <20250924202252.472101-1-stephen@networkplumber.org> Content-Type: text/plain X-BeenThere: test-report@dpdk.org X-Mailman-Version: 2.1.29 Precedence: list List-Id: automatic DPDK test reports List-Unsubscribe: , List-Archive: List-Post: List-Help: List-Subscribe: , Errors-To: test-report-bounces@dpdk.org Test-Label: iol-unit-arm64-testing Test-Status: SUCCESS http://dpdk.org/patch/156923 _Testing PASS_ Submitter: Stephen Hemminger Date: Wednesday, September 24 2025 20:22:52 DPDK git baseline: Repo:dpdk-next-net Branch: master CommitID:2786b466bcf44f122e10c45da3a9615ffde5ac8b 156923 --> testing pass Upstream job id: Generic-Unit-Test-DPDK#374710 Test environment and result as below: +------------------------------+----------------+--------------+---------------------------+------------------------------+ | Environment | dpdk_unit_test | lpm_autotest | cryptodev_sw_zuc_autotest | cryptodev_sw_snow3g_autotest | +==============================+================+==============+===========================+==============================+ | CentOS Stream 9 | PASS | SKIPPED | SKIPPED | SKIPPED | +------------------------------+----------------+--------------+---------------------------+------------------------------+ | CentOS Stream 10 | PASS | SKIPPED | SKIPPED | SKIPPED | +------------------------------+----------------+--------------+---------------------------+------------------------------+ | Fedora Linux 40 | PASS | SKIPPED | SKIPPED | SKIPPED | +------------------------------+----------------+--------------+---------------------------+------------------------------+ | Fedora Linux 41 | PASS | SKIPPED | SKIPPED | SKIPPED | +------------------------------+----------------+--------------+---------------------------+------------------------------+ | Debian GNU/Linux 12 | PASS | SKIPPED | SKIPPED | SKIPPED | +------------------------------+----------------+--------------+---------------------------+------------------------------+ | Fedora Linux 42 | PASS | SKIPPED | SKIPPED | SKIPPED | +------------------------------+----------------+--------------+---------------------------+------------------------------+ | Ubuntu 20.04 | PASS | PASS | SKIPPED | SKIPPED | +------------------------------+----------------+--------------+---------------------------+------------------------------+ | Red Hat Enterprise Linux 9.5 | PASS | SKIPPED | SKIPPED | SKIPPED | +------------------------------+----------------+--------------+---------------------------+------------------------------+ | Ubuntu 22.04 | PASS | SKIPPED | SKIPPED | SKIPPED | +------------------------------+----------------+--------------+---------------------------+------------------------------+ | Ubuntu 24.04 | PASS | SKIPPED | SKIPPED | SKIPPED | +------------------------------+----------------+--------------+---------------------------+------------------------------+ | Debian 12 (arm) | SKIPPED | SKIPPED | PASS | PASS | +------------------------------+----------------+--------------+---------------------------+------------------------------+ CentOS Stream 9 Kernel: 5.4 Compiler: gcc gcc (GCC) 11.5.0 20240719 (Red Hat 11.5.0-11) CentOS Stream 10 Kernel: 5.4 Compiler: gcc gcc (GCC) 14.2.1 20250110 (Red Hat 14.2.1-8) Fedora Linux 40 Kernel: 5.4 Compiler: gcc gcc (GCC) 14.2.1 20240912 (Red Hat 14.2.1-3) Fedora Linux 41 Kernel: 5.4 Compiler: gcc gcc (GCC) 14.3.1 20250523 (Red Hat 14.3.1-1) Debian GNU/Linux 12 Kernel: 5.4 Compiler: gcc gcc (Debian 12.2.0-14+deb12u1) 12.2.0 Fedora Linux 42 Kernel: 5.4 Compiler: clang gcc (GCC) 15.2.1 20250808 (Red Hat 15.2.1-1) Ubuntu 20.04 Kernel: 5.4 Compiler: gcc gcc (Ubuntu 9.4.0-1ubuntu1~20.04.2) 9.4.0 Red Hat Enterprise Linux 9.5 Kernel: 5.4 Compiler: gcc gcc (GCC) 11.5.0 20240719 (Red Hat 11.5.0-2) Ubuntu 22.04 Kernel: 5.4 Compiler: gcc gcc (Ubuntu 11.4.0-1ubuntu1~22.04) 11.4.0 Ubuntu 24.04 Kernel: 5.4 Compiler: gcc gcc (Ubuntu 13.3.0-6ubuntu2~24.04) 13.3.0 Debian 12 (arm) Kernel: Depends on container host Compiler: gcc (Debian 12.2.0-14) 12.2.0 To view detailed results, visit: https://lab.dpdk.org/results/dashboard/patchsets/34143/ UNH-IOL DPDK Community Lab To manage your email subscriptions, visit: https://lab.dpdk.org/results/dashboard/preferences/subscriptions/