From mboxrd@z Thu Jan 1 00:00:00 1970 Return-Path: Received: from mails.dpdk.org (mails.dpdk.org [217.70.189.124]) by inbox.dpdk.org (Postfix) with ESMTP id 87CE046F71 for ; Thu, 25 Sep 2025 15:42:21 +0200 (CEST) Received: from mails.dpdk.org (localhost [127.0.0.1]) by mails.dpdk.org (Postfix) with ESMTP id 7B2E740665; Thu, 25 Sep 2025 15:42:21 +0200 (CEST) Received: from mail-oa1-f100.google.com (mail-oa1-f100.google.com [209.85.160.100]) by mails.dpdk.org (Postfix) with ESMTP id 3DDEE40665 for ; Thu, 25 Sep 2025 15:42:20 +0200 (CEST) Received: by mail-oa1-f100.google.com with SMTP id 586e51a60fabf-30cce534a91so416948fac.0 for ; Thu, 25 Sep 2025 06:42:20 -0700 (PDT) DKIM-Signature: v=1; a=rsa-sha256; c=relaxed/relaxed; d=iol.unh.edu; s=unh-iol; t=1758807739; x=1759412539; darn=dpdk.org; h=references:in-reply-to:cc:to:from:subject:message-id:date:from:to :cc:subject:date:message-id:reply-to; bh=GWKe/da10G3oILjPHKhgHgct/8SJtgkXo/qMRioaEOw=; b=PHF7Ld/r/RKrT3R6XNAu2Bs1XuJ70a52EgPmrDpI45KUVdsbIKnVBX3Y/gH2r7xH+7 ko8B2JHsm8kuOkbnl4uChApF1OvRFigYcj1kf/62CKpDHBC4N8QqWdHplr0OafsvzgxL D/7SGlhUQ3cptATlfxwK55XIFsPZVbZr0wEr4= X-Google-DKIM-Signature: v=1; a=rsa-sha256; c=relaxed/relaxed; d=1e100.net; s=20230601; t=1758807739; x=1759412539; h=references:in-reply-to:cc:to:from:subject:message-id:date :x-gm-message-state:from:to:cc:subject:date:message-id:reply-to; bh=GWKe/da10G3oILjPHKhgHgct/8SJtgkXo/qMRioaEOw=; b=EgS9lnRiHd5hcsV3M9+9AJwZiOzcAcf4UW4bje+oF8MhOnLn3JIlDPwZO6jrx4EBCm GJgcj+DhbgKI4Kn19GsTmRBMuapHoKDL4gPr0olBAgxnM99yBy2K+vz1Dta05u+uUaBG rYz9mchPn9i5/hAEsH66uwhYeHB0/syyr1HVVLyfbOmUgQ9lkGTufEVmmnxIudtGdvJr QqEN5EjdZSy/R3YCubu31E9CXTw/VBK7wgqRYzxleMVsWYEMeX0qDBlGpb6CntpFKHcb Gg8gr6+X26rVs0zBYsx2XlmlamF4RPt/ImOLh2k2EiajjBhTlDcSlvOnsLSm3U8YMrEL XV3g== X-Gm-Message-State: AOJu0YwNFtz7R/9UOtaN7EUlA8+rQAcHQMshZVot2rExeLKhQiUTDc2V bLw8YoMiCVAuRXXv0YfetcNjsF6N5Q0EAOxFn8zpt3P5Ff7yyhXztaLt6k6Eyo+6idCs0QJ0GdF jTMnVOk6Y3vQnsE/07sx5OneuBcXVkkcBpK+PafXVpOK6 X-Gm-Gg: ASbGncsvdCeI8Br9tknwWmwQlOsoGRTSqgEReUIQ54Hp+hW8z6L2bONSJk3/JzNimuS wDTCNJ2/uWZ+lcAR7xfLe3wELSo5r/ji74BBu5DCU2NiGpWugtKo+cKOz3YoriF8HEfN9bG27gB uxSsftxeRX8emm1XmOKYsA6zWHemGa0RwVmselfnWSdmV1PyXm1QdLlFidq3NIgurcbbDGL45Zq Q1FzVhOCbPJNF+DGIYRpkal25szxJvxr7fdJnP6ga+hOdmmB0vrc7mdg5HdTaahXmHTZwV28Lgx cQHCzGuBa2dxJVE42vJz05FusqLbagf252FgBDkbeOj+bi8UzCRApa+VtUvSslXpilnK8dNf X-Google-Smtp-Source: AGHT+IH2Z7arxABvyE85qOcFCWCiuVsn4Xl1KQuP18oeOb4EFtfzL/VN8JQL2q9dszQAIZXkT1CyVblG6wFA X-Received: by 2002:a05:6870:418c:b0:315:6935:9f68 with SMTP id 586e51a60fabf-35e8fffc10emr1535640fac.0.1758807739324; Thu, 25 Sep 2025 06:42:19 -0700 (PDT) Received: from postal.iol.unh.edu (postal.iol.unh.edu. [132.177.123.84]) by smtp-relay.gmail.com with ESMTPS id 586e51a60fabf-363b49ab330sm133821fac.15.2025.09.25.06.42.19 (version=TLS1_2 cipher=ECDHE-ECDSA-AES128-GCM-SHA256 bits=128/128); Thu, 25 Sep 2025 06:42:19 -0700 (PDT) X-Relaying-Domain: iol.unh.edu Date: Thu, 25 Sep 2025 06:42:19 -0700 (PDT) Message-ID: <68d546bb.050a0220.b0a62.88f1SMTPIN_ADDED_MISSING@mx.google.com> Received: from [172.21.0.2] (unknown [172.18.0.240]) by postal.iol.unh.edu (Postfix) with ESMTP id C42676051830; Thu, 25 Sep 2025 09:42:18 -0400 (EDT) Subject: |SUCCESS| pw156945 [PATCH] event/cnxk: update queue weight mapping f From: dpdklab@iol.unh.edu To: Test Report Cc: dpdk-test-reports@iol.unh.edu, Jerin Jacob In-Reply-To: <20250925120912.1137360-1-sthotton@marvell.com> References: <20250925120912.1137360-1-sthotton@marvell.com> Content-Type: text/plain X-BeenThere: test-report@dpdk.org X-Mailman-Version: 2.1.29 Precedence: list List-Id: automatic DPDK test reports List-Unsubscribe: , List-Archive: List-Post: List-Help: List-Subscribe: , Errors-To: test-report-bounces@dpdk.org Test-Label: iol-compile-amd64-testing Test-Status: SUCCESS http://dpdk.org/patch/156945 _Testing PASS_ Submitter: Shijith Thotton Date: Thursday, September 25 2025 12:09:12 DPDK git baseline: Repo:dpdk-next-eventdev Branch: master CommitID:9e36adf88c49b437c4c5ffa46158e53d96bef82c 156945 --> testing pass Upstream job id: Generic-DPDK-Compile-Meson#428574 Test environment and result as below: +-------------------------------+--------------------+-------------------+-------------------------+------------------+-------------------+----------------------+ | Environment | dpdk_meson_compile | dpdk_compile_spdk | dpdk_llvm_clang_compile | dpdk_compile_ovs | dpdk_msvc_compile | dpdk_mingw64_compile | +===============================+====================+===================+=========================+==================+===================+======================+ | CentOS Stream 9 | PASS | PASS | SKIPPED | SKIPPED | SKIPPED | SKIPPED | +-------------------------------+--------------------+-------------------+-------------------------+------------------+-------------------+----------------------+ | CentOS Stream 10 | PASS | SKIPPED | SKIPPED | SKIPPED | SKIPPED | SKIPPED | +-------------------------------+--------------------+-------------------+-------------------------+------------------+-------------------+----------------------+ | Debian GNU/Linux 12 | PASS | PASS | SKIPPED | SKIPPED | SKIPPED | SKIPPED | +-------------------------------+--------------------+-------------------+-------------------------+------------------+-------------------+----------------------+ | Ubuntu 20.04 | PASS | SKIPPED | SKIPPED | SKIPPED | SKIPPED | SKIPPED | +-------------------------------+--------------------+-------------------+-------------------------+------------------+-------------------+----------------------+ | Fedora Linux 42 | PASS | PASS | SKIPPED | PASS | SKIPPED | SKIPPED | +-------------------------------+--------------------+-------------------+-------------------------+------------------+-------------------+----------------------+ | openSUSE Leap 15.6 | PASS | SKIPPED | SKIPPED | SKIPPED | SKIPPED | SKIPPED | +-------------------------------+--------------------+-------------------+-------------------------+------------------+-------------------+----------------------+ | FreeBSD 14.2 | PASS | SKIPPED | SKIPPED | SKIPPED | SKIPPED | SKIPPED | +-------------------------------+--------------------+-------------------+-------------------------+------------------+-------------------+----------------------+ | Red Hat Enterprise Linux 8.10 | PASS | SKIPPED | SKIPPED | SKIPPED | SKIPPED | SKIPPED | +-------------------------------+--------------------+-------------------+-------------------------+------------------+-------------------+----------------------+ | Red Hat Enterprise Linux 9.5 | PASS | SKIPPED | SKIPPED | SKIPPED | SKIPPED | SKIPPED | +-------------------------------+--------------------+-------------------+-------------------------+------------------+-------------------+----------------------+ | Ubuntu 22.04 | PASS | PASS | SKIPPED | SKIPPED | SKIPPED | SKIPPED | +-------------------------------+--------------------+-------------------+-------------------------+------------------+-------------------+----------------------+ | Ubuntu 24.04 | PASS | PASS | SKIPPED | PASS | SKIPPED | SKIPPED | +-------------------------------+--------------------+-------------------+-------------------------+------------------+-------------------+----------------------+ | Alpine Linux 3.22.0 | PASS | SKIPPED | SKIPPED | SKIPPED | SKIPPED | SKIPPED | +-------------------------------+--------------------+-------------------+-------------------------+------------------+-------------------+----------------------+ | Windows Server 2022 | SKIPPED | SKIPPED | PASS | SKIPPED | PASS | PASS | +-------------------------------+--------------------+-------------------+-------------------------+------------------+-------------------+----------------------+ CentOS Stream 9 Kernel: 5.15 Compiler: gcc gcc (GCC) 11.5.0 20240719 (Red Hat 11.5.0-11) CentOS Stream 10 Kernel: 5.15 Compiler: gcc gcc (GCC) 14.2.1 20250110 (Red Hat 14.2.1-8) Debian GNU/Linux 12 Kernel: 5.15 Compiler: gcc gcc (Debian 12.2.0-14+deb12u1) 12.2.0 Ubuntu 20.04 Kernel: 4.19 Compiler: gcc gcc (Ubuntu 9.4.0-1ubuntu1~20.04.2) 9.4.0 Fedora Linux 42 Kernel: 5.15 Compiler: clang gcc (GCC) 15.2.1 20250808 (Red Hat 15.2.1-1) openSUSE Leap 15.6 Kernel: 5.15 Compiler: gcc gcc (SUSE Linux) 7.5.0 FreeBSD 14.2 Kernel: 14.2-RELEASE Compiler: clang 18.1.6 Red Hat Enterprise Linux 8.10 Kernel: 5.15 Compiler: gcc gcc (GCC) 8.5.0 20210514 (Red Hat 8.5.0-22) Red Hat Enterprise Linux 9.5 Kernel: 5.15 Compiler: gcc gcc (GCC) 11.5.0 20240719 (Red Hat 11.5.0-2) Ubuntu 22.04 Kernel: 5.15 Compiler: gcc gcc (Ubuntu 11.4.0-1ubuntu1~22.04) 11.4.0 Ubuntu 24.04 Kernel: 5.15 Compiler: gcc gcc (Ubuntu 13.3.0-6ubuntu2~24.04) 13.3.0 Alpine Linux 3.22.0 Kernel: 5.15 Compiler: gcc gcc (Alpine 14.2.0) 14.2.0 Windows Server 2022 Kernel: 10.0.20348.2031 Compiler: clang 15.0.7, gcc 14.1.0 (MinGW), and MSVC VS 19.39.33521 To view detailed results, visit: https://lab.dpdk.org/results/dashboard/patchsets/34148/ UNH-IOL DPDK Community Lab To manage your email subscriptions, visit: https://lab.dpdk.org/results/dashboard/preferences/subscriptions/