From mboxrd@z Thu Jan 1 00:00:00 1970 Return-Path: Received: from mails.dpdk.org (mails.dpdk.org [217.70.189.124]) by inbox.dpdk.org (Postfix) with ESMTP id D3AF146F71 for ; Thu, 25 Sep 2025 15:53:35 +0200 (CEST) Received: from mails.dpdk.org (localhost [127.0.0.1]) by mails.dpdk.org (Postfix) with ESMTP id A4EEB40657; Thu, 25 Sep 2025 15:53:35 +0200 (CEST) Received: from mail-yw1-f226.google.com (mail-yw1-f226.google.com [209.85.128.226]) by mails.dpdk.org (Postfix) with ESMTP id 145DD40657 for ; Thu, 25 Sep 2025 15:53:34 +0200 (CEST) Received: by mail-yw1-f226.google.com with SMTP id 00721157ae682-71d605c6501so8229477b3.3 for ; Thu, 25 Sep 2025 06:53:34 -0700 (PDT) DKIM-Signature: v=1; a=rsa-sha256; c=relaxed/relaxed; d=iol.unh.edu; s=unh-iol; t=1758808413; x=1759413213; darn=dpdk.org; h=references:in-reply-to:cc:to:from:subject:message-id:date:from:to :cc:subject:date:message-id:reply-to; bh=+hIWmTqRvVCuO6G9mnoOMxG5Kbo1qCw7Mnc/khAdllY=; b=JNs87snjvuDZCeZm3eIWroFKCHUqifnVimtvOaX8bgYW6sZGFshlh4AY2zT8R3fdlO bwHLEoI6ktJJPjUEmhM7hbZ44LiSiujoARFOIkCyDt8IAOwcaVOTt8R1n6IFvTRsfwHf tP41kQMkC2KJvu83ABpVrkE9K4sbhtjUsxI9k= X-Google-DKIM-Signature: v=1; a=rsa-sha256; c=relaxed/relaxed; d=1e100.net; s=20230601; t=1758808413; x=1759413213; h=references:in-reply-to:cc:to:from:subject:message-id:date :x-gm-message-state:from:to:cc:subject:date:message-id:reply-to; bh=+hIWmTqRvVCuO6G9mnoOMxG5Kbo1qCw7Mnc/khAdllY=; b=AeAYC9WGfPG/xShWLlIfwVajs2LWytKTGPxP7GB5F0DfUA9Hi9Sina548OfkxvNqFf 2tV+sEFzhYu8TZ/E8VhtofMDUrrNGH4xZXS63O/6cxPf67rYO9ACnKTuYKUJB/Y+LXPc yl9BqPZkssTNfWALR5wqG+c5I1IF4czkvRDm46dI1jdLrS+PoaawiQ1b6c55eoLIBaNl Lwxu9uwRQdBsPyzsTVg/DzSwyQpSQOSOucfgofjEryIJULzBp/mn1j7OjBtvE1qKKXIm 6WjJ7VhGaKFnAK+pwwI2s8Gw2x9oeTZQd1UJc0eauRyB/F3x9oIbSO68Jc1pjE3mrRgU SkMQ== X-Gm-Message-State: AOJu0YwG64qbgGFta3b5K+aaoLZUYXS+Od9w9le73cQCCho8szc+i63S +ml2otyPZLn2sxKQtLd+3TlgTb95YmClHYRpL/7T8+reT6cvLMi8kqBOb1cLY2v47Dji8YppSQ2 jumG4NJMiukN02i1VBBU/xtw2QXVod8xnssjNyofygkJG X-Gm-Gg: ASbGncscZizgujzeYzPP8CzCOxMDFnaGdFMc6VYuhb+U0xYD/TqkcPvjD2Ub+WX2gxo 9s9Tc+62PvckjcKQjcDDYXH9zO9n0uUmYW5rcslSEvl4Sk4CmPCwS9w+543D9eL7XLtp+8SnEGz aovm5RwcUbb0h5RNgOFm/bA2RK27E7KTN//OqVbPKn74/w4bX1VrQ7x8Vc2AY7xl5/IvVlnfX6P Rd02xGdsFBXsJYiVE1udQ8QiOGk4rqXYmLEUMnglhtOEo1njkH4Ayyiar/G6kd4qrdJ7ThCQuwI /U2nio3QVZZEnQKWhmPG447PPCkPmoEM6ZT8bXUdk1tfSagry8Wh25pZEkJxFQSnrZCXCtrB X-Google-Smtp-Source: AGHT+IHvH0Wiun4Rsd2ttrafZWQHvOK7UXNPSDOGm62k0miHRR4ZYW0JNzcvm9cDzhLW3gWCueKdsN3J7ejd X-Received: by 2002:a05:690c:c14:b0:730:c83b:e9d2 with SMTP id 00721157ae682-76403802c48mr27436887b3.43.1758808413309; Thu, 25 Sep 2025 06:53:33 -0700 (PDT) Received: from postal.iol.unh.edu (postal.iol.unh.edu. [132.177.123.84]) by smtp-relay.gmail.com with ESMTPS id 00721157ae682-765d86cbb26sm861027b3.21.2025.09.25.06.53.33 (version=TLS1_2 cipher=ECDHE-ECDSA-AES128-GCM-SHA256 bits=128/128); Thu, 25 Sep 2025 06:53:33 -0700 (PDT) X-Relaying-Domain: iol.unh.edu Date: Thu, 25 Sep 2025 06:53:33 -0700 (PDT) Message-ID: <68d5495d.050a0220.26723.5a53SMTPIN_ADDED_MISSING@mx.google.com> Received: from [172.21.0.3] (unknown [172.18.0.240]) by postal.iol.unh.edu (Postfix) with ESMTP id ED3606050A61; Thu, 25 Sep 2025 09:53:32 -0400 (EDT) Subject: |SUCCESS| pw156946-156952 [PATCH] [v4,7/7] power: separate public an From: dpdklab@iol.unh.edu To: Test Report Cc: dpdk-test-reports@iol.unh.edu In-Reply-To: <20250925123150.3063298-8-david.marchand@redhat.com> References: <20250925123150.3063298-8-david.marchand@redhat.com> Content-Type: text/plain X-BeenThere: test-report@dpdk.org X-Mailman-Version: 2.1.29 Precedence: list List-Id: automatic DPDK test reports List-Unsubscribe: , List-Archive: List-Post: List-Help: List-Subscribe: , Errors-To: test-report-bounces@dpdk.org Test-Label: iol-compile-amd64-testing Test-Status: SUCCESS http://dpdk.org/patch/156952 _Testing PASS_ Submitter: David Marchand Date: Thursday, September 25 2025 12:31:49 DPDK git baseline: Repo:dpdk Branch: master CommitID:441861b4a30e6b6b6aca07367dd487657b1f50e8 156946-156952 --> testing pass Upstream job id: Generic-DPDK-Compile-Meson#428596 Test environment and result as below: +-------------------------------+--------------------+------------------+-------------------+-------------------+-------------------------+----------------------+ | Environment | dpdk_meson_compile | dpdk_compile_ovs | dpdk_compile_spdk | dpdk_msvc_compile | dpdk_llvm_clang_compile | dpdk_mingw64_compile | +===============================+====================+==================+===================+===================+=========================+======================+ | CentOS Stream 9 | PASS | SKIPPED | PASS | SKIPPED | SKIPPED | SKIPPED | +-------------------------------+--------------------+------------------+-------------------+-------------------+-------------------------+----------------------+ | CentOS Stream 10 | PASS | SKIPPED | SKIPPED | SKIPPED | SKIPPED | SKIPPED | +-------------------------------+--------------------+------------------+-------------------+-------------------+-------------------------+----------------------+ | Fedora Linux 42 | PASS | PASS | PASS | SKIPPED | SKIPPED | SKIPPED | +-------------------------------+--------------------+------------------+-------------------+-------------------+-------------------------+----------------------+ | Debian GNU/Linux 12 | PASS | SKIPPED | PASS | SKIPPED | SKIPPED | SKIPPED | +-------------------------------+--------------------+------------------+-------------------+-------------------+-------------------------+----------------------+ | openSUSE Leap 15.6 | PASS | SKIPPED | SKIPPED | SKIPPED | SKIPPED | SKIPPED | +-------------------------------+--------------------+------------------+-------------------+-------------------+-------------------------+----------------------+ | Red Hat Enterprise Linux 8.10 | PASS | SKIPPED | SKIPPED | SKIPPED | SKIPPED | SKIPPED | +-------------------------------+--------------------+------------------+-------------------+-------------------+-------------------------+----------------------+ | Red Hat Enterprise Linux 9.5 | PASS | SKIPPED | SKIPPED | SKIPPED | SKIPPED | SKIPPED | +-------------------------------+--------------------+------------------+-------------------+-------------------+-------------------------+----------------------+ | Ubuntu 20.04 | PASS | SKIPPED | SKIPPED | SKIPPED | SKIPPED | SKIPPED | +-------------------------------+--------------------+------------------+-------------------+-------------------+-------------------------+----------------------+ | FreeBSD 14.2 | PASS | SKIPPED | SKIPPED | SKIPPED | SKIPPED | SKIPPED | +-------------------------------+--------------------+------------------+-------------------+-------------------+-------------------------+----------------------+ | Ubuntu 22.04 | PASS | SKIPPED | PASS | SKIPPED | SKIPPED | SKIPPED | +-------------------------------+--------------------+------------------+-------------------+-------------------+-------------------------+----------------------+ | Ubuntu 24.04 | PASS | PASS | PASS | SKIPPED | SKIPPED | SKIPPED | +-------------------------------+--------------------+------------------+-------------------+-------------------+-------------------------+----------------------+ | Alpine Linux 3.22.0 | PASS | SKIPPED | SKIPPED | SKIPPED | SKIPPED | SKIPPED | +-------------------------------+--------------------+------------------+-------------------+-------------------+-------------------------+----------------------+ | Windows Server 2022 | SKIPPED | SKIPPED | SKIPPED | PASS | PASS | PASS | +-------------------------------+--------------------+------------------+-------------------+-------------------+-------------------------+----------------------+ CentOS Stream 9 Kernel: 5.15 Compiler: gcc gcc (GCC) 11.5.0 20240719 (Red Hat 11.5.0-11) CentOS Stream 10 Kernel: 5.15 Compiler: gcc gcc (GCC) 14.2.1 20250110 (Red Hat 14.2.1-8) Fedora Linux 42 Kernel: 5.15 Compiler: gcc gcc (GCC) 15.2.1 20250808 (Red Hat 15.2.1-1) Debian GNU/Linux 12 Kernel: 5.15 Compiler: gcc gcc (Debian 12.2.0-14+deb12u1) 12.2.0 openSUSE Leap 15.6 Kernel: 5.15 Compiler: gcc gcc (SUSE Linux) 7.5.0 Red Hat Enterprise Linux 8.10 Kernel: 5.15 Compiler: gcc gcc (GCC) 8.5.0 20210514 (Red Hat 8.5.0-22) Red Hat Enterprise Linux 9.5 Kernel: 5.15 Compiler: gcc gcc (GCC) 11.5.0 20240719 (Red Hat 11.5.0-2) Ubuntu 20.04 Kernel: 4.19 Compiler: gcc gcc (Ubuntu 9.4.0-1ubuntu1~20.04.2) 9.4.0 FreeBSD 14.2 Kernel: 14.2-RELEASE Compiler: clang 18.1.6 Ubuntu 22.04 Kernel: 5.15 Compiler: gcc gcc (Ubuntu 11.4.0-1ubuntu1~22.04) 11.4.0 Ubuntu 24.04 Kernel: 5.15 Compiler: gcc gcc (Ubuntu 13.3.0-6ubuntu2~24.04) 13.3.0 Alpine Linux 3.22.0 Kernel: 5.15 Compiler: gcc gcc (Alpine 14.2.0) 14.2.0 Windows Server 2022 Kernel: 10.0.20348.2031 Compiler: clang 15.0.7, gcc 14.1.0 (MinGW), and MSVC VS 19.39.33521 To view detailed results, visit: https://lab.dpdk.org/results/dashboard/patchsets/34149/ UNH-IOL DPDK Community Lab To manage your email subscriptions, visit: https://lab.dpdk.org/results/dashboard/preferences/subscriptions/