From mboxrd@z Thu Jan 1 00:00:00 1970 Return-Path: Received: from mails.dpdk.org (mails.dpdk.org [217.70.189.124]) by inbox.dpdk.org (Postfix) with ESMTP id 603A446F71 for ; Thu, 25 Sep 2025 15:58:55 +0200 (CEST) Received: from mails.dpdk.org (localhost [127.0.0.1]) by mails.dpdk.org (Postfix) with ESMTP id 5C50740657; Thu, 25 Sep 2025 15:58:55 +0200 (CEST) Received: from mail-qt1-f226.google.com (mail-qt1-f226.google.com [209.85.160.226]) by mails.dpdk.org (Postfix) with ESMTP id A164140657 for ; Thu, 25 Sep 2025 15:58:53 +0200 (CEST) Received: by mail-qt1-f226.google.com with SMTP id d75a77b69052e-4b7a8ceaad3so9201711cf.2 for ; Thu, 25 Sep 2025 06:58:53 -0700 (PDT) DKIM-Signature: v=1; a=rsa-sha256; c=relaxed/relaxed; d=iol.unh.edu; s=unh-iol; t=1758808733; x=1759413533; darn=dpdk.org; h=references:in-reply-to:cc:to:from:subject:message-id:date:from:to :cc:subject:date:message-id:reply-to; bh=9zBS4/K4bjc6kaGYLp0vRBBoDB19NvIWhjn4MpF7fhU=; b=Fg9KuZqtaW/WyvrLvz5Y8tjeICZpr3dOMnmns9A5eYZC2CmAvKQeCUtcmj8Gd8/1YV bKhU1IXX4H/Fh2pYcUdhEm2FrwUtXLZDxW3ekXA5G5SUttnalBU/59S0WBtdW2gCIYwt hRUU4hRFb8DBTpE5KqqGI2VxbFT1YJNj4bMfI= X-Google-DKIM-Signature: v=1; a=rsa-sha256; c=relaxed/relaxed; d=1e100.net; s=20230601; t=1758808733; x=1759413533; h=references:in-reply-to:cc:to:from:subject:message-id:date :x-gm-message-state:from:to:cc:subject:date:message-id:reply-to; bh=9zBS4/K4bjc6kaGYLp0vRBBoDB19NvIWhjn4MpF7fhU=; b=KzPZ4O0j8USeXFY7ATWmvrzEj67DM7vzEowzi9TZkAUKLlCpc5AiaLcGai/HG2rLsZ 0mJkoYT2qrOObilsDbKHhCF7aPBhuIkC7XTcJiiynIJ/86ZsPVgHswC8SYJeu0CwRX7/ 4sDC1ZPfbcfsjUbNnICF74LwSvOknIowGL5c0ie7Z37YiwjC5A53MVDC2GYeWQaOeIQI I1Ypv4EgMqMdOHZJc4XdcyrBVhkYnxniSYB/p24JZrT249n6SkCyxrGHIbAskBcqpCGA mMGWD7aRwwJogR9KWQuOFjRqdyPAGmVRePK7n5fYSzFYA2ZrmXz3NWcFDpAcIXjyqgbr oweA== X-Gm-Message-State: AOJu0YzXLL0otW2UWQ2HexXWcIWEo1PApUab44YnekvMQgvncxhn0Exw 4dVQ275LvXyzpdTPq1acdfzGxvQSuYVgMP5akw3m4iqZ3yfojYeIQLfTs3V0LcIrlMAVWJ8Zj7g 44xnZo70WkAL2y1dWPHh2EzniZpWxNNMeUTo1PHqTaNTD X-Gm-Gg: ASbGncu/mNTwAPHS6ZwacQCbofpjz0O3aLN9nZX0dp7WD+KXH2UTppsyaZkTnZfT3Ys WwZ5yAIFxaeuoVic+wpITzvudbXu8rU5ranaS98H3ij24ZnrNH7hOWj9JN6hE7P4rzw2FoabIqL DrxQjJVMeVdKdSuzbqVrb7yLfNdx3hVTemXos76bY/GN6zuREMlYHtVnKl5Q6cXqTv9KgSAEXf2 Dpk1JGJ+aKEyoYhbRIO/0zBKO7833NYoFuUkdaD8f3tl7N5Adtz+yB1kMwDmGfTgCjCpy4aJAA8 iUniOS81HFxN8hBpSuEW0CffnKPMNSe6GrShjDjKVBG6uvDpaoPgQsCB0WNg4eYzY3hAYSJB X-Google-Smtp-Source: AGHT+IFkrQaabTwXcsdKHasl/lhSRdD4H1lNgsr7pT5EsjhWgie+pqEq95mz5HsDMfQjUOVCEld+ERI9w5mh X-Received: by 2002:a05:622a:5a92:b0:4ba:c079:b0d8 with SMTP id d75a77b69052e-4da47a1a3c2mr48202261cf.17.1758808732739; Thu, 25 Sep 2025 06:58:52 -0700 (PDT) Received: from postal.iol.unh.edu (postal.iol.unh.edu. [132.177.123.84]) by smtp-relay.gmail.com with ESMTPS id d75a77b69052e-4db03da6910sm524921cf.0.2025.09.25.06.58.52 (version=TLS1_2 cipher=ECDHE-ECDSA-AES128-GCM-SHA256 bits=128/128); Thu, 25 Sep 2025 06:58:52 -0700 (PDT) X-Relaying-Domain: iol.unh.edu Date: Thu, 25 Sep 2025 06:58:52 -0700 (PDT) Message-ID: <68d54a9c.050a0220.b8dae.3439SMTPIN_ADDED_MISSING@mx.google.com> Received: from [172.21.0.2] (unknown [172.18.0.240]) by postal.iol.unh.edu (Postfix) with ESMTP id 7100F6051830; Thu, 25 Sep 2025 09:58:52 -0400 (EDT) Subject: |SUCCESS| pw156946-156952 [PATCH] [v4,7/7] power: separate public an From: dpdklab@iol.unh.edu To: Test Report Cc: dpdk-test-reports@iol.unh.edu In-Reply-To: <20250925123150.3063298-8-david.marchand@redhat.com> References: <20250925123150.3063298-8-david.marchand@redhat.com> Content-Type: text/plain X-BeenThere: test-report@dpdk.org X-Mailman-Version: 2.1.29 Precedence: list List-Id: automatic DPDK test reports List-Unsubscribe: , List-Archive: List-Post: List-Help: List-Subscribe: , Errors-To: test-report-bounces@dpdk.org Test-Label: iol-unit-amd64-testing Test-Status: SUCCESS http://dpdk.org/patch/156952 _Testing PASS_ Submitter: David Marchand Date: Thursday, September 25 2025 12:31:49 DPDK git baseline: Repo:dpdk Branch: master CommitID:441861b4a30e6b6b6aca07367dd487657b1f50e8 156946-156952 --> testing pass Upstream job id: Generic-Unit-Test-DPDK#375035 Test environment and result as below: +-------------------------------+----------------+ | Environment | dpdk_unit_test | +===============================+================+ | CentOS Stream 9 | PASS | +-------------------------------+----------------+ | CentOS Stream 10 | PASS | +-------------------------------+----------------+ | Fedora Linux 41 | PASS | +-------------------------------+----------------+ | Debian GNU/Linux 12 | PASS | +-------------------------------+----------------+ | Fedora Linux 40 | PASS | +-------------------------------+----------------+ | Fedora Linux 42 | PASS | +-------------------------------+----------------+ | Red Hat Enterprise Linux 9.5 | PASS | +-------------------------------+----------------+ | Red Hat Enterprise Linux 8.10 | PASS | +-------------------------------+----------------+ | Ubuntu 20.04 | PASS | +-------------------------------+----------------+ | Ubuntu 22.04 | PASS | +-------------------------------+----------------+ | Ubuntu 24.04 | PASS | +-------------------------------+----------------+ | Windows Server 2022 | PASS | +-------------------------------+----------------+ CentOS Stream 9 Kernel: 5.15 Compiler: gcc gcc (GCC) 11.5.0 20240719 (Red Hat 11.5.0-11) CentOS Stream 10 Kernel: 5.15 Compiler: gcc gcc (GCC) 14.2.1 20250110 (Red Hat 14.2.1-8) Fedora Linux 41 Kernel: 5.15 Compiler: clang gcc (GCC) 14.3.1 20250523 (Red Hat 14.3.1-1) Debian GNU/Linux 12 Kernel: 5.15 Compiler: gcc gcc (Debian 12.2.0-14+deb12u1) 12.2.0 Fedora Linux 40 Kernel: 5.15 Compiler: gcc gcc (GCC) 14.2.1 20240912 (Red Hat 14.2.1-3) Fedora Linux 42 Kernel: 5.15 Compiler: gcc gcc (GCC) 15.2.1 20250808 (Red Hat 15.2.1-1) Red Hat Enterprise Linux 9.5 Kernel: 5.15 Compiler: gcc gcc (GCC) 11.5.0 20240719 (Red Hat 11.5.0-2) Red Hat Enterprise Linux 8.10 Kernel: 5.15 Compiler: gcc gcc (GCC) 8.5.0 20210514 (Red Hat 8.5.0-22) Ubuntu 20.04 Kernel: 5.15 Compiler: gcc gcc (Ubuntu 9.4.0-1ubuntu1~20.04.2) 9.4.0 Ubuntu 22.04 Kernel: 5.15 Compiler: gcc gcc (Ubuntu 11.4.0-1ubuntu1~22.04) 11.4.0 Ubuntu 24.04 Kernel: 5.15 Compiler: gcc gcc (Ubuntu 13.3.0-6ubuntu2~24.04) 13.3.0 Windows Server 2022 Kernel: 10.0.20348.2031 Compiler: clang 15.0.7, gcc 14.1.0 (MinGW), and MSVC VS 19.39.33521 To view detailed results, visit: https://lab.dpdk.org/results/dashboard/patchsets/34149/ UNH-IOL DPDK Community Lab To manage your email subscriptions, visit: https://lab.dpdk.org/results/dashboard/preferences/subscriptions/