From mboxrd@z Thu Jan 1 00:00:00 1970 Return-Path: Received: from mails.dpdk.org (mails.dpdk.org [217.70.189.124]) by inbox.dpdk.org (Postfix) with ESMTP id 1685B46F72 for ; Thu, 25 Sep 2025 16:48:53 +0200 (CEST) Received: from mails.dpdk.org (localhost [127.0.0.1]) by mails.dpdk.org (Postfix) with ESMTP id 1147A40657; Thu, 25 Sep 2025 16:48:53 +0200 (CEST) Received: from mail-oo1-f100.google.com (mail-oo1-f100.google.com [209.85.161.100]) by mails.dpdk.org (Postfix) with ESMTP id 0E25040657 for ; Thu, 25 Sep 2025 16:48:52 +0200 (CEST) Received: by mail-oo1-f100.google.com with SMTP id 006d021491bc7-626190c9c1eso346098eaf.0 for ; Thu, 25 Sep 2025 07:48:51 -0700 (PDT) DKIM-Signature: v=1; a=rsa-sha256; c=relaxed/relaxed; d=iol.unh.edu; s=unh-iol; t=1758811731; x=1759416531; darn=dpdk.org; h=references:in-reply-to:cc:to:from:subject:message-id:date:from:to :cc:subject:date:message-id:reply-to; bh=PKG6ArAYULKcxlKWy+C5Di0DD2XgSYEBcpy7SQf/EB8=; b=D8cHUMGWpUo7fj/6gOwCQbM5Chbk9zZ+TCapSEY3BKlKYAaqij5YsuQpVU5SMhWMJu yaclKWZ4H/Hg2V1mpjGrbRZ93AWUP1aOQd5Qa4v/3sNghOyh8iZwLiZSFZinZPu4CVz/ hRD7ly7/VBPWRkoidUjH1gdr3xtXJ0XsOf6cI= X-Google-DKIM-Signature: v=1; a=rsa-sha256; c=relaxed/relaxed; d=1e100.net; s=20230601; t=1758811731; x=1759416531; h=references:in-reply-to:cc:to:from:subject:message-id:date :x-gm-message-state:from:to:cc:subject:date:message-id:reply-to; bh=PKG6ArAYULKcxlKWy+C5Di0DD2XgSYEBcpy7SQf/EB8=; b=uDK9kANTE6jNqdba3sZ0Em/bBY6k2arKYET1b9Sd6BnGF3j4QVGSLZxqK47ZZGNirs NCzXlns05Q0MfFWSn87n0R8dc11KLQnFs99evECvScZSgWErbLutfVjFjskHFr0kYq62 9q4ZoV52RJ45ErDWb560NjoHGCBFpyujKdxnAJ7OohQMe8oubdtRxWkDeKJs7nJuPoZD ktRNnY2kS163HQaTS/e6F92B5fmPL+eyuGETlP30tVI/yDSWwWIvw8yEKANM8PF8WKt4 xnzJyfcpv1gZh/UXiAD2unrMzSrzQsGM9xgizZQKLsRvuazmInbCz5grTDCcqoqZolFc Ziww== X-Gm-Message-State: AOJu0YxtwxbRXcI9JWlIMMSF4lgNjkihBZg9GFOg4GeeR0/2G5LDd8VU l0qMhxeDGMgzA4tWL2Kh0DcPTmEy5dSXQ165j0SHnJuCnEBFGbYIASGFkLY+Cc9VywJtsN+e4p9 7YMsVp/tGZ1FOZ82Bp5Jp3bwGDVtVqVwShFgn/bKGO2fC X-Gm-Gg: ASbGncvC6YPLx78swOPx62mnrWpB8q89mniTmXAMiWvPQNNc7gYNbO2vw35+MLvhVSJ DyVz2lsIC+bSfAorE0oA/srqV6E7qV2C7zcSpk0QVaQXVnhbMlKOjAQqzIMB5ZHZ9ocqtDpxZrb mRMERvt2ma3AXeweuPE7M0eFc2WjL9br48MjhldQbyyhQDF0PvLvypAimkYEdL2EcbX1xn5IRbb 6Ejs7yVdaj4ll5KvLQiHjfxGYETcjf7BQ4lYcrfqvwmGlcHlxc7OXzMYjahTKevMbDA6cIsnjM8 YYv5gBY/bzNnle2mShNZznNzWzgS2WFY04dxZo+oxIMATV0AVu7a5zP8n1KcMvnSrMPh/NYp X-Google-Smtp-Source: AGHT+IEFLmhc4vjGuhiNUcK1BuB+Az1xuPRRRUWD1BoKCjrEJn4oTT29tmjOWI9jcTOSZ074R8+WXjJF/xse X-Received: by 2002:a05:6870:8088:b0:315:663f:4056 with SMTP id 586e51a60fabf-35ebf3edacfmr1872994fac.4.1758811731058; Thu, 25 Sep 2025 07:48:51 -0700 (PDT) Received: from postal.iol.unh.edu (postal.iol.unh.edu. [132.177.123.84]) by smtp-relay.gmail.com with ESMTPS id 586e51a60fabf-363ba329819sm148077fac.27.2025.09.25.07.48.50 (version=TLS1_2 cipher=ECDHE-ECDSA-AES128-GCM-SHA256 bits=128/128); Thu, 25 Sep 2025 07:48:51 -0700 (PDT) X-Relaying-Domain: iol.unh.edu Date: Thu, 25 Sep 2025 07:48:51 -0700 (PDT) Message-ID: <68d55653.050a0220.294215.97c6SMTPIN_ADDED_MISSING@mx.google.com> Received: from [172.21.0.2] (unknown [172.18.0.240]) by postal.iol.unh.edu (Postfix) with ESMTP id 90FF5604D420; Thu, 25 Sep 2025 10:48:50 -0400 (EDT) Subject: |SUCCESS| pw156924 [PATCH] [v1] support multiple PF process flow tab From: dpdklab@iol.unh.edu To: Test Report Cc: dpdk-test-reports@iol.unh.edu, Stephen Hemminger In-Reply-To: <20250925024526.79329-1-zhang.tianhao2@zte.com.cn> References: <20250925024526.79329-1-zhang.tianhao2@zte.com.cn> Content-Type: text/plain X-BeenThere: test-report@dpdk.org X-Mailman-Version: 2.1.29 Precedence: list List-Id: automatic DPDK test reports List-Unsubscribe: , List-Archive: List-Post: List-Help: List-Subscribe: , Errors-To: test-report-bounces@dpdk.org Test-Label: iol-unit-arm64-testing Test-Status: SUCCESS http://dpdk.org/patch/156924 _Testing PASS_ Submitter: Tianhao Zhang Date: Thursday, September 25 2025 02:45:26 DPDK git baseline: Repo:dpdk-next-net Branch: master CommitID:2786b466bcf44f122e10c45da3a9615ffde5ac8b 156924 --> testing pass Upstream job id: Generic-Unit-Test-DPDK#374733 Test environment and result as below: +------------------------------+----------------+---------------------------+------------------------------+--------------+ | Environment | dpdk_unit_test | cryptodev_sw_zuc_autotest | cryptodev_sw_snow3g_autotest | lpm_autotest | +==============================+================+===========================+==============================+==============+ | CentOS Stream 10 | PASS | SKIPPED | SKIPPED | SKIPPED | +------------------------------+----------------+---------------------------+------------------------------+--------------+ | Fedora Linux 42 | PASS | SKIPPED | SKIPPED | SKIPPED | +------------------------------+----------------+---------------------------+------------------------------+--------------+ | Fedora Linux 40 | PASS | SKIPPED | SKIPPED | SKIPPED | +------------------------------+----------------+---------------------------+------------------------------+--------------+ | Debian GNU/Linux 12 | PASS | SKIPPED | SKIPPED | SKIPPED | +------------------------------+----------------+---------------------------+------------------------------+--------------+ | Fedora Linux 41 | PASS | SKIPPED | SKIPPED | SKIPPED | +------------------------------+----------------+---------------------------+------------------------------+--------------+ | Ubuntu 22.04 | PASS | SKIPPED | SKIPPED | SKIPPED | +------------------------------+----------------+---------------------------+------------------------------+--------------+ | CentOS Stream 9 | PASS | SKIPPED | SKIPPED | SKIPPED | +------------------------------+----------------+---------------------------+------------------------------+--------------+ | Red Hat Enterprise Linux 9.5 | PASS | SKIPPED | SKIPPED | SKIPPED | +------------------------------+----------------+---------------------------+------------------------------+--------------+ | Ubuntu 20.04 | PASS | SKIPPED | SKIPPED | PASS | +------------------------------+----------------+---------------------------+------------------------------+--------------+ | Ubuntu 24.04 | PASS | SKIPPED | SKIPPED | SKIPPED | +------------------------------+----------------+---------------------------+------------------------------+--------------+ | Debian 12 (arm) | SKIPPED | PASS | PASS | SKIPPED | +------------------------------+----------------+---------------------------+------------------------------+--------------+ CentOS Stream 10 Kernel: 5.4 Compiler: gcc gcc (GCC) 14.2.1 20250110 (Red Hat 14.2.1-8) Fedora Linux 42 Kernel: 5.4 Compiler: clang gcc (GCC) 15.2.1 20250808 (Red Hat 15.2.1-1) Fedora Linux 40 Kernel: 5.4 Compiler: gcc gcc (GCC) 14.2.1 20240912 (Red Hat 14.2.1-3) Debian GNU/Linux 12 Kernel: 5.4 Compiler: gcc gcc (Debian 12.2.0-14+deb12u1) 12.2.0 Fedora Linux 41 Kernel: 5.4 Compiler: clang gcc (GCC) 14.3.1 20250523 (Red Hat 14.3.1-1) Ubuntu 22.04 Kernel: 5.15 Compiler: gcc gcc (Ubuntu 11.4.0-1ubuntu1~22.04.2) 11.4.0 CentOS Stream 9 Kernel: 5.4 Compiler: gcc gcc (GCC) 11.5.0 20240719 (Red Hat 11.5.0-11) Red Hat Enterprise Linux 9.5 Kernel: 5.4 Compiler: gcc gcc (GCC) 11.5.0 20240719 (Red Hat 11.5.0-2) Ubuntu 20.04 Kernel: 5.4 Compiler: gcc gcc (Ubuntu 9.4.0-1ubuntu1~20.04.2) 9.4.0 Ubuntu 24.04 Kernel: 5.4 Compiler: gcc gcc (Ubuntu 13.3.0-6ubuntu2~24.04) 13.3.0 Debian 12 (arm) Kernel: Depends on container host Compiler: gcc (Debian 12.2.0-14) 12.2.0 To view detailed results, visit: https://lab.dpdk.org/results/dashboard/patchsets/34144/ UNH-IOL DPDK Community Lab To manage your email subscriptions, visit: https://lab.dpdk.org/results/dashboard/preferences/subscriptions/