From mboxrd@z Thu Jan 1 00:00:00 1970 Return-Path: Received: from mails.dpdk.org (mails.dpdk.org [217.70.189.124]) by inbox.dpdk.org (Postfix) with ESMTP id 8150E46F72 for ; Thu, 25 Sep 2025 17:21:27 +0200 (CEST) Received: from mails.dpdk.org (localhost [127.0.0.1]) by mails.dpdk.org (Postfix) with ESMTP id 621F240657; Thu, 25 Sep 2025 17:21:27 +0200 (CEST) Received: from mail-yw1-f226.google.com (mail-yw1-f226.google.com [209.85.128.226]) by mails.dpdk.org (Postfix) with ESMTP id 3821A40657 for ; Thu, 25 Sep 2025 17:21:26 +0200 (CEST) Received: by mail-yw1-f226.google.com with SMTP id 00721157ae682-71d603b60cbso13424067b3.1 for ; Thu, 25 Sep 2025 08:21:26 -0700 (PDT) DKIM-Signature: v=1; a=rsa-sha256; c=relaxed/relaxed; d=iol.unh.edu; s=unh-iol; t=1758813685; x=1759418485; darn=dpdk.org; h=references:in-reply-to:cc:to:from:subject:message-id:date:from:to :cc:subject:date:message-id:reply-to; bh=TARt6jlB7h5FRBgXpufkOATsVL3iKD40gSKEzxdI5xY=; b=fa+up90aGRAWbLTlKyr0h0LlRovrtF2b7qB1AFi11kwYHarFXkpDgkXoOlTdjsgIb6 5FDKbYFT8r3mXfeGDwOaz0aJVp8Tf3iv2/S30/JkM/k/xy6n3Gypk3YotAr6DYI/sa8V 3oqygHmZPMM0VvCQukttRZRGZmIUtCdZVYrxI= X-Google-DKIM-Signature: v=1; a=rsa-sha256; c=relaxed/relaxed; d=1e100.net; s=20230601; t=1758813685; x=1759418485; h=references:in-reply-to:cc:to:from:subject:message-id:date :x-gm-message-state:from:to:cc:subject:date:message-id:reply-to; bh=TARt6jlB7h5FRBgXpufkOATsVL3iKD40gSKEzxdI5xY=; b=UzACvb7U4U1l5w1QqMCc2o3iQjoq2NKyHmR3ToTl1RqLkNSJ4q6LmX+ndSJSf5VmVu oUtGntG3kMTF26ltrXGAuVABwfSmtA03zA0hBDCAmvFIM9y4Z2z4ArRRGrPGfbK1/d1/ feo4ZJviWEjDkGnrpbJCiP3ZVCC4AHOnQLNtAUaR/9aw1D9w+lixcqMuu/iR2XSR6grn sY6zJlb6UBR93lEm5pKmgvdUtw0KdKSYkupZRjmNhCj1isP6eGgwVYVPXwMo4PcrHe/z q3/553MntKfz+3Iq6ok0zDCqkgEft2Cef9KB30i6hGlLHkZSHKY2vB1Qnl6VbRoXBwFY +0Ww== X-Gm-Message-State: AOJu0YzPwJXqApRrf4gLG1WAmU874vEtzoQIEqHOooD65wKEHUHmjcvn TTQefPvgSdNYBk7ZVBhOPeIiyHCHY0P3OmztZVT/eTEM7k8ismCeMpHNNLKWncMtrFJDuYtQ2jW Ym8VwqtCBpbvtg0PUDJYYvMwPFQ7NdJIMkvothASqRxCu X-Gm-Gg: ASbGncsKjCzA6Se8WWfOtShz0iOz+qzIRZ+IJ09M8Y7Vz/T/AYuoZ/DAjwZkONMDeDR /eor4jaTuIvNa5qQ9VE38MXTc9LXhZobW5QFAxlVrR+ipxrEE3Hi+Wht6POiGcvdWspAsaRXVoK njW8ZX98RLdsiCPt2cE9EYQFrYwHsiXkwdYKAlsgcRyhw8/7OoEuMw0FV6SWJZL5GcI/5o8mMuh Y01Dbczrxxfw18mOYM+APPDt7liDVIxSRNWNJUDd0ro/2Q225ebPsZQKFbAtRLTg56iaQEM0MT+ rQnWvPATXXJATMqBh80y/+1iUlULNwPr/O9uLP14plPgyy9bHGVSlRPjLFRI5GjRrxELehVn X-Google-Smtp-Source: AGHT+IEEmpfB5WS9UgSEc3dJCp4l6kW1PCqlZ1xRzqw39mIPG7i59t++8w/xLciWegsWqkz9Nnnaa9EUPtnz X-Received: by 2002:a05:690c:688e:b0:735:7d28:8aaf with SMTP id 00721157ae682-763fa717588mr29905167b3.9.1758813685360; Thu, 25 Sep 2025 08:21:25 -0700 (PDT) Received: from postal.iol.unh.edu (postal.iol.unh.edu. [132.177.123.84]) by smtp-relay.gmail.com with ESMTPS id 00721157ae682-765dca6c083sm905927b3.46.2025.09.25.08.21.25 (version=TLS1_2 cipher=ECDHE-ECDSA-AES128-GCM-SHA256 bits=128/128); Thu, 25 Sep 2025 08:21:25 -0700 (PDT) X-Relaying-Domain: iol.unh.edu Date: Thu, 25 Sep 2025 08:21:25 -0700 (PDT) Message-ID: <68d55df5.050a0220.294839.6e79SMTPIN_ADDED_MISSING@mx.google.com> Received: from [172.21.0.2] (unknown [172.18.0.240]) by postal.iol.unh.edu (Postfix) with ESMTP id 0EB76604D420; Thu, 25 Sep 2025 11:21:25 -0400 (EDT) Subject: |SUCCESS| pw156942-156943 [PATCH] [v2,2/2] net/idpf: enable AVX2 for From: dpdklab@iol.unh.edu To: Test Report Cc: dpdk-test-reports@iol.unh.edu, Bruce Richardson In-Reply-To: <20250925092020.1640175-3-shaiq.wani@intel.com> References: <20250925092020.1640175-3-shaiq.wani@intel.com> Content-Type: text/plain X-BeenThere: test-report@dpdk.org X-Mailman-Version: 2.1.29 Precedence: list List-Id: automatic DPDK test reports List-Unsubscribe: , List-Archive: List-Post: List-Help: List-Subscribe: , Errors-To: test-report-bounces@dpdk.org Test-Label: iol-compile-arm64-testing Test-Status: SUCCESS http://dpdk.org/patch/156943 _Testing PASS_ Submitter: Shaiq Wani Date: Thursday, September 25 2025 09:20:20 DPDK git baseline: Repo:dpdk-next-net-intel Branch: master CommitID:1807857fccc30dbf5a7d93c88bb7cd05d81a3d0d 156942-156943 --> testing pass Upstream job id: Generic-DPDK-Compile-Meson#428496 Test environment and result as below: +------------------------------+--------------------+ | Environment | dpdk_meson_compile | +==============================+====================+ | Red Hat Enterprise Linux 9.5 | PASS | +------------------------------+--------------------+ | Ubuntu 20.04 | PASS | +------------------------------+--------------------+ | Debian GNU/Linux 12 | PASS | +------------------------------+--------------------+ | Fedora Linux 42 | PASS | +------------------------------+--------------------+ | Ubuntu 24.04 | PASS | +------------------------------+--------------------+ | Ubuntu 22.04 | PASS | +------------------------------+--------------------+ | CentOS Stream 9 | PASS | +------------------------------+--------------------+ | CentOS Stream 10 | PASS | +------------------------------+--------------------+ Red Hat Enterprise Linux 9.5 Kernel: 5.4 Compiler: gcc gcc (GCC) 11.5.0 20240719 (Red Hat 11.5.0-2) Ubuntu 20.04 Kernel: 5.15 Compiler: aarch64-linux-gnu-gcc gcc (Ubuntu 9.4.0-1ubuntu1~20.04.2) 9.4.0 Debian GNU/Linux 12 Kernel: 5.4 Compiler: gcc gcc (Debian 12.2.0-14+deb12u1) 12.2.0 Fedora Linux 42 Kernel: 5.4 Compiler: gcc gcc (GCC) 15.2.1 20250808 (Red Hat 15.2.1-1) Ubuntu 24.04 Kernel: 5.4 Compiler: gcc gcc (Ubuntu 13.3.0-6ubuntu2~24.04) 13.3.0 Ubuntu 22.04 Kernel: 5.4 Compiler: gcc gcc (Ubuntu 11.4.0-1ubuntu1~22.04) 11.4.0 CentOS Stream 9 Kernel: 5.4 Compiler: gcc gcc (GCC) 11.5.0 20240719 (Red Hat 11.5.0-11) CentOS Stream 10 Kernel: 5.4 Compiler: gcc gcc (GCC) 14.2.1 20250110 (Red Hat 14.2.1-8) To view detailed results, visit: https://lab.dpdk.org/results/dashboard/patchsets/34146/ UNH-IOL DPDK Community Lab To manage your email subscriptions, visit: https://lab.dpdk.org/results/dashboard/preferences/subscriptions/