From mboxrd@z Thu Jan 1 00:00:00 1970 Return-Path: Received: from mails.dpdk.org (mails.dpdk.org [217.70.189.124]) by inbox.dpdk.org (Postfix) with ESMTP id F0B2546F72 for ; Thu, 25 Sep 2025 17:51:29 +0200 (CEST) Received: from mails.dpdk.org (localhost [127.0.0.1]) by mails.dpdk.org (Postfix) with ESMTP id D0DBB40657; Thu, 25 Sep 2025 17:51:29 +0200 (CEST) Received: from mail-yw1-f226.google.com (mail-yw1-f226.google.com [209.85.128.226]) by mails.dpdk.org (Postfix) with ESMTP id 28D0540657 for ; Thu, 25 Sep 2025 17:51:28 +0200 (CEST) Received: by mail-yw1-f226.google.com with SMTP id 00721157ae682-7501c24a731so10545647b3.3 for ; Thu, 25 Sep 2025 08:51:28 -0700 (PDT) DKIM-Signature: v=1; a=rsa-sha256; c=relaxed/relaxed; d=iol.unh.edu; s=unh-iol; t=1758815487; x=1759420287; darn=dpdk.org; h=cc:to:from:subject:message-id:date:from:to:cc:subject:date :message-id:reply-to; bh=y4znp+vsK6X9vHB3ZMqqPHNa5E9qivqVTUxbAorPenc=; b=XHc6oGIGFF3mMiWFOYE/N1M+8YUowOT9Ic1DycN31X9dEhYLrL/zo3ZdCNqSu4oVzw MTjWRlfMjWdvTOnbkQzHo/z2a5O89/rDg+ncOGYQ/B45mZCU1GgDvuIht/F/LseSBfHU F8EjYQ+pq91m033wXQaPvHnELvDpNLzSmoAwo= X-Google-DKIM-Signature: v=1; a=rsa-sha256; c=relaxed/relaxed; d=1e100.net; s=20230601; t=1758815487; x=1759420287; h=cc:to:from:subject:message-id:date:x-gm-message-state:from:to:cc :subject:date:message-id:reply-to; bh=y4znp+vsK6X9vHB3ZMqqPHNa5E9qivqVTUxbAorPenc=; b=G+8lLCA6S8K7+mPHBWWT7gKxYsPW0wgx5hEQBhWvo6waQJuGjVw1FoCxskimHpubVw tQnAvKitiZan0fgdZFKdkhCp7CZEqCV350mbgTeghiY/13VabK2jW1BAex1xgWDwlTSa xSp93xbZqQjN1Ff5dm4+az2uD4EkdQKAKiXyLrmIDwF0+acsc+oz6mUz5bwEu2JfPGo/ 2RABUSVy0jU7FVYtFx2CwXlf9LbQpkjT81F4GVaIF6wucwYIPqGwDjIqopPI+IR+qCtv KgfJ2stF6lzE2iF0YES9letGZLvV6pl/FhxKtRfd2c3ji5IXVm8QCULQ5VYC9YdeXNke kVzQ== X-Gm-Message-State: AOJu0Yx0hSLEttXcKEP2CVaWURc3AOTZ1tTXm3eKenoc89+Vu5bqD5la gu8ZXxcFDeYtkvugSc/GmWGvzXVkIfNbfMgey10lRV2zwTmaSS8U+KdbYDVdykRXUsnZwV2TszE vnm090zqzZTKGac5qhx9LKRJaOGQSjRVb1oqUvXHPmcI0J9Hz1seiFLZKPAQH X-Gm-Gg: ASbGncs9O9npn2JRYaSjqDh6ugP5lswHW09TtOkaqMcaRU/9gSB0MHjjlkmGzrE71B6 rMfA87IegsN/nW4PcP7A3osf9/siDuVrZvlc/SyjnH21PM/iRCyd4KMQSAFnv6k4fmc7khYda05 qjm2SxnrWwdisSvmgtsS3V55Ri0Zp89PNEFUhFS+DKNMb3VRsr7uDmSjYFfEc5Ntm83YZeR1Zlu Fdquead4w076KUMH8QQ8Lze/KapWLfnLlyM3ubqc95kl/Gyw0VHtkUTtUHZH+0Qhv8yN9ajm71l L0oCOUBbMYpfOnbHIr0c6Wr5W0m79RVwPOMKqc1F+fpRPo3s3w== X-Google-Smtp-Source: AGHT+IFIZLpg07y+1DjXUntWkK2rZ3K6ulUs+iQCbcXOu9At/gQGu0JTWqbUdaCTzr/ZIVVI3cOK6sSLvRMC X-Received: by 2002:a05:690c:9a07:b0:768:70a1:46c2 with SMTP id 00721157ae682-76870a16483mr14260287b3.48.1758815487465; Thu, 25 Sep 2025 08:51:27 -0700 (PDT) Received: from postal.iol.unh.edu (postal.iol.unh.edu. [2606:4100:3880:1234::84]) by smtp-relay.gmail.com with ESMTPS id 00721157ae682-769144f96a0sm473587b3.17.2025.09.25.08.51.27 (version=TLS1_2 cipher=ECDHE-ECDSA-AES128-GCM-SHA256 bits=128/128); Thu, 25 Sep 2025 08:51:27 -0700 (PDT) X-Relaying-Domain: iol.unh.edu Date: Thu, 25 Sep 2025 08:51:27 -0700 (PDT) Message-ID: <68d564ff.050a0220.7ef5b.2e37SMTPIN_ADDED_MISSING@mx.google.com> Received: from [172.21.0.3] (unknown [172.18.0.240]) by postal.iol.unh.edu (Postfix) with ESMTP id 1CE096050A61; Thu, 25 Sep 2025 11:51:27 -0400 (EDT) Subject: |SUCCESS| [GIT MASTER] 1807857fccc30dbf5a7d93c88bb7cd05d81a3d0d From: dpdklab@iol.unh.edu To: Test Report Cc: dpdk-test-reports@iol.unh.edu, Bruce Richardson Content-Type: text/plain X-BeenThere: test-report@dpdk.org X-Mailman-Version: 2.1.29 Precedence: list List-Id: automatic DPDK test reports List-Unsubscribe: , List-Archive: List-Post: List-Help: List-Subscribe: , Errors-To: test-report-bounces@dpdk.org _Testing PASS_ Branch: dpdk-next-net-intel 1807857fccc30dbf5a7d93c88bb7cd05d81a3d0d --> testing pass Upstream job id: Generic-DPDK-Compile-Meson#428519 Test environment and result as below: +------------------------------+--------------------+ | Environment | dpdk_meson_compile | +==============================+====================+ | Red Hat Enterprise Linux 9.5 | PASS | +------------------------------+--------------------+ | Debian GNU/Linux 12 | PASS | +------------------------------+--------------------+ | Ubuntu 20.04 | PASS | +------------------------------+--------------------+ | Fedora Linux 42 | PASS | +------------------------------+--------------------+ | Ubuntu 22.04 | PASS | +------------------------------+--------------------+ | Ubuntu 24.04 | PASS | +------------------------------+--------------------+ | CentOS Stream 9 | PASS | +------------------------------+--------------------+ | CentOS Stream 10 | PASS | +------------------------------+--------------------+ Red Hat Enterprise Linux 9.5 Kernel: 5.4 Compiler: gcc gcc (GCC) 11.5.0 20240719 (Red Hat 11.5.0-2) Debian GNU/Linux 12 Kernel: 5.4 Compiler: gcc gcc (Debian 12.2.0-14+deb12u1) 12.2.0 Ubuntu 20.04 Kernel: 5.15 Compiler: aarch64-linux-gnu-gcc gcc (Ubuntu 9.4.0-1ubuntu1~20.04.2) 9.4.0 Fedora Linux 42 Kernel: 5.4 Compiler: gcc gcc (GCC) 15.2.1 20250808 (Red Hat 15.2.1-1) Ubuntu 22.04 Kernel: 5.4 Compiler: gcc gcc (Ubuntu 11.4.0-1ubuntu1~22.04) 11.4.0 Ubuntu 24.04 Kernel: 5.4 Compiler: gcc gcc (Ubuntu 13.3.0-6ubuntu2~24.04) 13.3.0 CentOS Stream 9 Kernel: 5.4 Compiler: gcc gcc (GCC) 11.5.0 20240719 (Red Hat 11.5.0-11) CentOS Stream 10 Kernel: 5.4 Compiler: gcc gcc (GCC) 14.2.1 20250110 (Red Hat 14.2.1-8) To view detailed results, visit: https://lab.dpdk.org/results/dashboard/tarballs/35000/ UNH-IOL DPDK Community Lab To manage your email subscriptions, visit: https://lab.dpdk.org/results/dashboard/preferences/subscriptions/