From mboxrd@z Thu Jan 1 00:00:00 1970 Return-Path: Received: from mails.dpdk.org (mails.dpdk.org [217.70.189.124]) by inbox.dpdk.org (Postfix) with ESMTP id EFBEA46F72 for ; Thu, 25 Sep 2025 17:51:48 +0200 (CEST) Received: from mails.dpdk.org (localhost [127.0.0.1]) by mails.dpdk.org (Postfix) with ESMTP id E7CDB40657; Thu, 25 Sep 2025 17:51:48 +0200 (CEST) Received: from mail-oa1-f97.google.com (mail-oa1-f97.google.com [209.85.160.97]) by mails.dpdk.org (Postfix) with ESMTP id 21A0A40657 for ; Thu, 25 Sep 2025 17:51:48 +0200 (CEST) Received: by mail-oa1-f97.google.com with SMTP id 586e51a60fabf-35b7f8e07d5so869152fac.0 for ; Thu, 25 Sep 2025 08:51:48 -0700 (PDT) DKIM-Signature: v=1; a=rsa-sha256; c=relaxed/relaxed; d=iol.unh.edu; s=unh-iol; t=1758815507; x=1759420307; darn=dpdk.org; h=references:in-reply-to:cc:to:from:subject:message-id:date:from:to :cc:subject:date:message-id:reply-to; bh=uHh3LPyTF0xElYOoSC95V//mDrzmQqtYzDZzYnND8V0=; b=WaPCviCCtEvu0/CkeEBw5zE2w3BfteJTEBmBGAEvF5umPfHhuBmT+eHX+aFVt058ei Ow7BE63raUWbtnP8mL+P8iWKKu6EUwB5akf2xb+5WAiO6cqdqnNS5Y40gJHVQp3Cgefj b1aW4g+BylGD2WzunU/6Qr2q9qAivf0zpdRv0= X-Google-DKIM-Signature: v=1; a=rsa-sha256; c=relaxed/relaxed; d=1e100.net; s=20230601; t=1758815507; x=1759420307; h=references:in-reply-to:cc:to:from:subject:message-id:date :x-gm-message-state:from:to:cc:subject:date:message-id:reply-to; bh=uHh3LPyTF0xElYOoSC95V//mDrzmQqtYzDZzYnND8V0=; b=jlUb8/ySdEFR5rs1Xer7yqf26bRGzCXZr0iaGa4A8gacjAbMfOLxJhoTDN60Nw3MeB YCE5MuI1mG68sKGb3nBgZY5rPJ3St3boNCQ9lrvbGuheCvW4vnGrWBs2PpqiytV3ZTOK /i1lX70p6c1SOiQVy76IurlWo7aQyyxQGVgE6mBDz4wXtsH83b4J5nQzwBheflwK3ENk Mdd445iJdaXhEN+ObgKTsEYnnM4DX7X7JyRTXk1HytDgeYXjNcjJSUeiNrwZ/G7dhkkO BQMyXt8v3ga+rIOhwLEJkCKuLqu/yt32jBfh9ksTENbYlhVk8IEo4BB7McPhtOktvC20 eINw== X-Gm-Message-State: AOJu0Yz1WlU/KQrdszutd4RY87G0vA7qSQPxWMnEpIcb2DwmI/a0dg3b 0LEj9x572TvSepZ2l0s2T9DQkyqQGXdJzmzYbUULekOofM95+JBYG7mvbNIzFr1Zt8C5C9hrUOh gpZju+aN/UNMS99nEyZcUAl+hc4uQoEZHD5nuq4kdONTWuNUhFJ9YhOpDhL/2 X-Gm-Gg: ASbGnctzkCm3Qe5VLI4HeIysldAA2StiJo0AiTU1I2EVU5QcwAnJf7B9N5EzS8Zm7cp wI0gMO1YuLizvI8B42wIV7DA73dUzbxfXTfvGfE+tEchuKT8Ka917uSPjxhdmVzIkHkCiYkToNa yH9/TkusAEHMk8n8cZmLN+BchLk1hJcG6rs9VDl0nMO/Rmdr3AgtRrThFN0fxrsAtCsXwyUY7lf SUsEc9rwi0oUpGVH9t+XC7C6QRiH3/c3vbfMUS/dkzySUnWf9rSsp2MPkPuo2iaYYtVDon+M6uN t63M8fAuuqwn/t/6j3wRhxbJBQ8KK88h426FvtpZuBCnSoF05g== X-Google-Smtp-Source: AGHT+IFcsHFnTymrVxoAeFliE4j8r0pnx3zsRDJAtz6zObylzdXU4lCjt2uKHnKKLSlFLHA1SR6sC7dp+Vwo X-Received: by 2002:a05:6870:e18c:b0:343:9240:f3d4 with SMTP id 586e51a60fabf-35ec120d3cfmr1774650fac.18.1758815507162; Thu, 25 Sep 2025 08:51:47 -0700 (PDT) Received: from postal.iol.unh.edu (postal.iol.unh.edu. [2606:4100:3880:1234::84]) by smtp-relay.gmail.com with ESMTPS id 586e51a60fabf-363b9d6dcd5sm163543fac.26.2025.09.25.08.51.47 (version=TLS1_2 cipher=ECDHE-ECDSA-AES128-GCM-SHA256 bits=128/128); Thu, 25 Sep 2025 08:51:47 -0700 (PDT) X-Relaying-Domain: iol.unh.edu Date: Thu, 25 Sep 2025 08:51:47 -0700 (PDT) Message-ID: <68d56513.050a0220.22d5d4.a45fSMTPIN_ADDED_MISSING@mx.google.com> Received: from [172.21.0.2] (unknown [172.18.0.240]) by postal.iol.unh.edu (Postfix) with ESMTP id AFC806050A61; Thu, 25 Sep 2025 11:51:46 -0400 (EDT) Subject: |SUCCESS| pw156944 [PATCH] [v1] cryptodev: introduce constant-time m From: dpdklab@iol.unh.edu To: Test Report Cc: dpdk-test-reports@iol.unh.edu, Akhil Goyal In-Reply-To: <20250925102223.145471-1-kai.ji@intel.com> References: <20250925102223.145471-1-kai.ji@intel.com> Content-Type: text/plain X-BeenThere: test-report@dpdk.org X-Mailman-Version: 2.1.29 Precedence: list List-Id: automatic DPDK test reports List-Unsubscribe: , List-Archive: List-Post: List-Help: List-Subscribe: , Errors-To: test-report-bounces@dpdk.org Test-Label: iol-compile-arm64-testing Test-Status: SUCCESS http://dpdk.org/patch/156944 _Testing PASS_ Submitter: Kai Ji Date: Thursday, September 25 2025 10:22:23 DPDK git baseline: Repo:dpdk-next-crypto Branch: master CommitID:4159ea62922ce41566c7bab44655ad78bee85458 156944 --> testing pass Upstream job id: Generic-DPDK-Compile-Meson#428554 Test environment and result as below: +------------------------------+--------------------+ | Environment | dpdk_meson_compile | +==============================+====================+ | Ubuntu 20.04 | PASS | +------------------------------+--------------------+ | Red Hat Enterprise Linux 9.5 | PASS | +------------------------------+--------------------+ | Debian GNU/Linux 12 | PASS | +------------------------------+--------------------+ | Fedora Linux 42 | PASS | +------------------------------+--------------------+ | Ubuntu 22.04 | PASS | +------------------------------+--------------------+ | CentOS Stream 10 | PASS | +------------------------------+--------------------+ | CentOS Stream 9 | PASS | +------------------------------+--------------------+ | Ubuntu 24.04 | PASS | +------------------------------+--------------------+ Ubuntu 20.04 Kernel: 5.15 Compiler: aarch64-linux-gnu-gcc gcc (Ubuntu 9.4.0-1ubuntu1~20.04.2) 9.4.0 Red Hat Enterprise Linux 9.5 Kernel: 5.4 Compiler: gcc gcc (GCC) 11.5.0 20240719 (Red Hat 11.5.0-2) Debian GNU/Linux 12 Kernel: 5.4 Compiler: gcc gcc (Debian 12.2.0-14+deb12u1) 12.2.0 Fedora Linux 42 Kernel: 5.4 Compiler: gcc gcc (GCC) 15.2.1 20250808 (Red Hat 15.2.1-1) Ubuntu 22.04 Kernel: 5.4 Compiler: gcc gcc (Ubuntu 11.4.0-1ubuntu1~22.04) 11.4.0 CentOS Stream 10 Kernel: 5.4 Compiler: gcc gcc (GCC) 14.2.1 20250110 (Red Hat 14.2.1-8) CentOS Stream 9 Kernel: 5.4 Compiler: gcc gcc (GCC) 11.5.0 20240719 (Red Hat 11.5.0-11) Ubuntu 24.04 Kernel: 5.4 Compiler: gcc gcc (Ubuntu 13.3.0-6ubuntu2~24.04) 13.3.0 To view detailed results, visit: https://lab.dpdk.org/results/dashboard/patchsets/34147/ UNH-IOL DPDK Community Lab To manage your email subscriptions, visit: https://lab.dpdk.org/results/dashboard/preferences/subscriptions/