From mboxrd@z Thu Jan 1 00:00:00 1970 Return-Path: Received: from mails.dpdk.org (mails.dpdk.org [217.70.189.124]) by inbox.dpdk.org (Postfix) with ESMTP id C4BD846F72 for ; Thu, 25 Sep 2025 17:59:12 +0200 (CEST) Received: from mails.dpdk.org (localhost [127.0.0.1]) by mails.dpdk.org (Postfix) with ESMTP id 9B8924065E; Thu, 25 Sep 2025 17:59:12 +0200 (CEST) Received: from mail-il1-f227.google.com (mail-il1-f227.google.com [209.85.166.227]) by mails.dpdk.org (Postfix) with ESMTP id A715B4065E for ; Thu, 25 Sep 2025 17:59:11 +0200 (CEST) Received: by mail-il1-f227.google.com with SMTP id e9e14a558f8ab-425715aeccdso5867915ab.2 for ; Thu, 25 Sep 2025 08:59:11 -0700 (PDT) DKIM-Signature: v=1; a=rsa-sha256; c=relaxed/relaxed; d=iol.unh.edu; s=unh-iol; t=1758815951; x=1759420751; darn=dpdk.org; h=references:in-reply-to:cc:to:from:subject:message-id:date:from:to :cc:subject:date:message-id:reply-to; bh=98/8M6WJ5efPgqeTgUEN9wtqKBGPltG+gp+oSwbT6BA=; b=P7Tqc/KSiee6SOASNUjlTJFYX1oCEO98cYXfmnWYSUXcTcDRv45Y23CsfKWC3q4bZ9 w0/ffN/xJGgZqEzurF18U6H/1tfPyD91Ib3jZ3/xMuPC5oOcunKwfEYaTpoy7WJW8E2d n6ZA/vgOYryEperh24mOQivvonCfhXBfS6TIk= X-Google-DKIM-Signature: v=1; a=rsa-sha256; c=relaxed/relaxed; d=1e100.net; s=20230601; t=1758815951; x=1759420751; h=references:in-reply-to:cc:to:from:subject:message-id:date :x-gm-message-state:from:to:cc:subject:date:message-id:reply-to; bh=98/8M6WJ5efPgqeTgUEN9wtqKBGPltG+gp+oSwbT6BA=; b=xRLX+BwsqY9SkD1jhu9w0ypygMfX3a4xuQ66860mPEpLrx3Di0bG9hqbVadCNuXgx0 pE4AgKow2K5jXL7yVz/B81p3f0CQc0QYG05euWNsMl5HT/6p6D5F7F9z6xZ7SFbvFysp EYyRN2TZ5vjnU/XmfNLrCDsA/D2efO+Tk4qQy3jpU3UQ7cTgySjIgiqlX1Ve/tyPXVoE Jek6SQv/OeSlI51c5fw5xIk/MJXTjlW/M6y79XY8R7jmQcjwdNxcdKVVrCwhnZrFPWoq tS3qiHCY+/W4kZkDrOoN5gRSZPnmQgbNYMieXBwghArpkVmEkkKneuyTRZ+D9lRZwoJk oUXg== X-Gm-Message-State: AOJu0YwD6SSMUAJqfAv4l2Kk7pfIsOUcuog46C86GpkAFBHRIqmTssX4 Bq3YBNA9LZmwR998nPmGaPW3aaF9hxwKHjcbSzzWemiT4bFqc85UStYb5QS2c0N70iyzfzv7peG iCS/6wFB2W/+ur+luDQglQ5d5WvcGONyfri2u8Fw1tUAUPc1TkpnhOb1AgtLN X-Gm-Gg: ASbGncspHQMAk5RJsDoEf3k9gfVRpFXgdgj+lk3wHG1FtbZiN/GIOgr2+1c4sgDgLm9 l/extNpBeEH4B+Y8xFjWmQWVWlEE5lzJ7X/izYxObdtI1ZoLxa2p/W9OHidhPBnoBCHsGOzgGkB ZmQOGpuUm+l6XFYYVcMWG6Jvdv6IpS5+gndZdCXAWR03HqbUjXuos9O+a316GaBHOT+SR9dHbVx pwgX7Wvv/OYL2n9Iex69yn0EikOexxtOr5Lkwn131qQDmZD69+Z2wTuRzR61mOP3OlW8U3pzLy8 MKTQtBKFQ6Nn3snecPBLtbpPr9wvwJ0M7fahMqQ5cdDMGyzKNw== X-Google-Smtp-Source: AGHT+IHQp47BOXXBybmgGQ4IISze44oCqNhH3ZRxLIdTHrwI3tF0+Pnr5CpHBv6wnQtBKtyhQsJjxy3Lgkd+ X-Received: by 2002:a05:6e02:4706:b0:425:8adb:6f49 with SMTP id e9e14a558f8ab-4259562591amr44741255ab.20.1758815950800; Thu, 25 Sep 2025 08:59:10 -0700 (PDT) Received: from postal.iol.unh.edu (postal.iol.unh.edu. [2606:4100:3880:1234::84]) by smtp-relay.gmail.com with ESMTPS id 8926c6da1cb9f-56a69cfe511sm120098173.27.2025.09.25.08.59.10 (version=TLS1_2 cipher=ECDHE-ECDSA-AES128-GCM-SHA256 bits=128/128); Thu, 25 Sep 2025 08:59:10 -0700 (PDT) X-Relaying-Domain: iol.unh.edu Date: Thu, 25 Sep 2025 08:59:10 -0700 (PDT) Message-ID: <68d566ce.050a0220.289264.783bSMTPIN_ADDED_MISSING@mx.google.com> Received: from [172.21.0.2] (unknown [172.18.0.240]) by postal.iol.unh.edu (Postfix) with ESMTP id 4A86160003F7; Thu, 25 Sep 2025 11:59:10 -0400 (EDT) Subject: |SUCCESS| pw156945 [PATCH] event/cnxk: update queue weight mapping f From: dpdklab@iol.unh.edu To: Test Report Cc: dpdk-test-reports@iol.unh.edu, Jerin Jacob In-Reply-To: <20250925120912.1137360-1-sthotton@marvell.com> References: <20250925120912.1137360-1-sthotton@marvell.com> Content-Type: text/plain X-BeenThere: test-report@dpdk.org X-Mailman-Version: 2.1.29 Precedence: list List-Id: automatic DPDK test reports List-Unsubscribe: , List-Archive: List-Post: List-Help: List-Subscribe: , Errors-To: test-report-bounces@dpdk.org Test-Label: iol-compile-arm64-testing Test-Status: SUCCESS http://dpdk.org/patch/156945 _Testing PASS_ Submitter: Shijith Thotton Date: Thursday, September 25 2025 12:09:12 DPDK git baseline: Repo:dpdk-next-eventdev Branch: master CommitID:9e36adf88c49b437c4c5ffa46158e53d96bef82c 156945 --> testing pass Upstream job id: Generic-DPDK-Compile-Meson#428588 Test environment and result as below: +------------------------------+--------------------+ | Environment | dpdk_meson_compile | +==============================+====================+ | Red Hat Enterprise Linux 9.5 | PASS | +------------------------------+--------------------+ | Ubuntu 20.04 | PASS | +------------------------------+--------------------+ | Debian GNU/Linux 12 | PASS | +------------------------------+--------------------+ | Fedora Linux 42 | PASS | +------------------------------+--------------------+ | Ubuntu 22.04 | PASS | +------------------------------+--------------------+ | Ubuntu 24.04 | PASS | +------------------------------+--------------------+ | CentOS Stream 9 | PASS | +------------------------------+--------------------+ | CentOS Stream 10 | PASS | +------------------------------+--------------------+ Red Hat Enterprise Linux 9.5 Kernel: 5.4 Compiler: gcc gcc (GCC) 11.5.0 20240719 (Red Hat 11.5.0-2) Ubuntu 20.04 Kernel: 5.15 Compiler: aarch64-linux-gnu-gcc gcc (Ubuntu 9.4.0-1ubuntu1~20.04.2) 9.4.0 Debian GNU/Linux 12 Kernel: 5.4 Compiler: gcc gcc (Debian 12.2.0-14+deb12u1) 12.2.0 Fedora Linux 42 Kernel: 5.4 Compiler: gcc gcc (GCC) 15.2.1 20250808 (Red Hat 15.2.1-1) Ubuntu 22.04 Kernel: 5.4 Compiler: gcc gcc (Ubuntu 11.4.0-1ubuntu1~22.04) 11.4.0 Ubuntu 24.04 Kernel: 5.4 Compiler: gcc gcc (Ubuntu 13.3.0-6ubuntu2~24.04) 13.3.0 CentOS Stream 9 Kernel: 5.4 Compiler: gcc gcc (GCC) 11.5.0 20240719 (Red Hat 11.5.0-11) CentOS Stream 10 Kernel: 5.4 Compiler: gcc gcc (GCC) 14.2.1 20250110 (Red Hat 14.2.1-8) To view detailed results, visit: https://lab.dpdk.org/results/dashboard/patchsets/34148/ UNH-IOL DPDK Community Lab To manage your email subscriptions, visit: https://lab.dpdk.org/results/dashboard/preferences/subscriptions/