From mboxrd@z Thu Jan 1 00:00:00 1970 Return-Path: Received: from mails.dpdk.org (mails.dpdk.org [217.70.189.124]) by inbox.dpdk.org (Postfix) with ESMTP id 4C90546F75 for ; Thu, 25 Sep 2025 18:16:38 +0200 (CEST) Received: from mails.dpdk.org (localhost [127.0.0.1]) by mails.dpdk.org (Postfix) with ESMTP id 2EBBC4065E; Thu, 25 Sep 2025 18:16:38 +0200 (CEST) Received: from mail-qk1-f226.google.com (mail-qk1-f226.google.com [209.85.222.226]) by mails.dpdk.org (Postfix) with ESMTP id C257B4065E for ; Thu, 25 Sep 2025 18:16:36 +0200 (CEST) Received: by mail-qk1-f226.google.com with SMTP id af79cd13be357-84827ef386aso75500385a.0 for ; Thu, 25 Sep 2025 09:16:36 -0700 (PDT) DKIM-Signature: v=1; a=rsa-sha256; c=relaxed/relaxed; d=iol.unh.edu; s=unh-iol; t=1758816996; x=1759421796; darn=dpdk.org; h=cc:to:from:subject:message-id:date:from:to:cc:subject:date :message-id:reply-to; bh=4UEFUVz2paIgjQn5S5g5CctnyEKWHLuZjMy+Q8No3SQ=; b=gibCWpJ5H3EdRtIz04jXaH4feSH8Z2Snmp+V3zc3LWf6Uyv6ZqDVffKY+KII51HbLc hsTVa7yLBC5mMqnii0bGArIBgIpxfZXNrzDAZ+n14ZKYovqsXtac1fQmaW3ouQjWEWu/ eh88VBRm8vQGF+SxLk/8kRuCkVSZQFh15voMU= X-Google-DKIM-Signature: v=1; a=rsa-sha256; c=relaxed/relaxed; d=1e100.net; s=20230601; t=1758816996; x=1759421796; h=cc:to:from:subject:message-id:date:x-gm-message-state:from:to:cc :subject:date:message-id:reply-to; bh=4UEFUVz2paIgjQn5S5g5CctnyEKWHLuZjMy+Q8No3SQ=; b=aI6paaHQ2TSOJckAx6yzUyLggdlndKHxc8vcfvPbbYw7jqwBtW+aX8YntMNXZJ/o+d wPak/1Pu5DqAfTM0f1FOLEIMXXyl3+AgLKfyFOAHkLxII2qzFtRUCx4XsFudIHwnBBGL ubkAh8rNYiBrVoak8B4A+ydCWlI1icUmeK5niDn42fFQL0rA6uG7FZ5myG+SqC11nqQ5 fsLxN6g43YTJXWawbXvxSboANs3qheWa7AGVpdnw9EBDTIqMqwcmWyZgZoUWgpxu8t+L 7Oske39Oz+E/7eesDhWHGkfJbMg4GdkNV9i4OGTwotXCmM6d+I8Q6IjUUO/baGaqX6zM Oqgw== X-Gm-Message-State: AOJu0Yzj5dPAAk0WHh5WJxg4AISxsVAHsfCXmlpgudtw1z2rG6dlBFQX NjYiiYqFUOSLbLJQWPisyLgEYWD8rVJPY8bnYH6E32G1BANFpJsC5h4djCz5BtQC24qc9HNH5fN FGch1PkMDjukcJLculH6d8V8NDjBVndH5gGw/AxzV2E2FeiN4kYAY X-Gm-Gg: ASbGnctX2yaREFjDqkJ9f+omRMRBzbIkCsCGqJ0xB+53B4WGolHXOBmch9MLz8Jy5IM y+QzAJAeNxCnV6VOcR37tbR9sp9ZauD5Am2HBztKk4JyKuqIYH5p7Kj7txJ1kbZJsdUKgY4lcqo E9XWTXEeHSRViuq0LkNg/WT1M5Lygxabgd5zpKHGXDWvCOxyTxgTpqWF8qeidlhykmbuPZRZWBe nRkI6YQ2+5V2b5ZC8ai620A4zhmwaCq/PaG/Tg91w1etHkN9TPXJEH60kngbpdHZDosDSbHoiGU r+pXR4IFoSeT6qaxSRpJ1vpDM7c8orW7RcT5336IT3hxvEWrug== X-Google-Smtp-Source: AGHT+IHgXDDgpBNIt+QkKDeIJPZBhtgWnYkik1V1XW5ClIc2W+xDPpuBzxpSEIY7ZuC1ie6dLZraXoZg6+0Y X-Received: by 2002:a05:620a:4723:b0:810:98c5:5ed2 with SMTP id af79cd13be357-85ae65dac85mr471220985a.44.1758816995922; Thu, 25 Sep 2025 09:16:35 -0700 (PDT) Received: from postal.iol.unh.edu (postal.iol.unh.edu. [2606:4100:3880:1234::84]) by smtp-relay.gmail.com with ESMTPS id af79cd13be357-85c2eeb1813sm13738885a.7.2025.09.25.09.16.35 (version=TLS1_2 cipher=ECDHE-ECDSA-AES128-GCM-SHA256 bits=128/128); Thu, 25 Sep 2025 09:16:35 -0700 (PDT) X-Relaying-Domain: iol.unh.edu Date: Thu, 25 Sep 2025 09:16:35 -0700 (PDT) Message-ID: <68d56ae3.050a0220.28921a.8969SMTPIN_ADDED_MISSING@mx.google.com> Received: from [172.21.0.2] (unknown [172.18.0.240]) by postal.iol.unh.edu (Postfix) with ESMTP id 9AF496050A61; Thu, 25 Sep 2025 12:16:35 -0400 (EDT) Subject: |WARNING| [GIT MASTER] 62f583c49bf67dd4d6733ece14e55fe6839e66d1 From: dpdklab@iol.unh.edu To: Test Report Cc: dpdk-test-reports@iol.unh.edu, Xueming Li , Christian Ehrhardt , Kevin Traynor , Luca Boccassi Content-Type: text/plain X-BeenThere: test-report@dpdk.org X-Mailman-Version: 2.1.29 Precedence: list List-Id: automatic DPDK test reports List-Unsubscribe: , List-Archive: List-Post: List-Help: List-Subscribe: , Errors-To: test-report-bounces@dpdk.org _Testing issues_ Branch: tags/v23.11 62f583c49bf67dd4d6733ece14e55fe6839e66d1 --> testing issues Upstream job id: Generic-Unit-Test-DPDK#374778 Test environment and result as below: +------------------------------+----------------+--------------+------------------------------+---------------------------+ | Environment | dpdk_unit_test | lpm_autotest | cryptodev_sw_snow3g_autotest | cryptodev_sw_zuc_autotest | +==============================+================+==============+==============================+===========================+ | CentOS Stream 9 | PASS | SKIPPED | SKIPPED | SKIPPED | +------------------------------+----------------+--------------+------------------------------+---------------------------+ | CentOS Stream 10 | PASS | SKIPPED | SKIPPED | SKIPPED | +------------------------------+----------------+--------------+------------------------------+---------------------------+ | Debian GNU/Linux 12 | PASS | SKIPPED | SKIPPED | SKIPPED | +------------------------------+----------------+--------------+------------------------------+---------------------------+ | Fedora Linux 40 | PASS | SKIPPED | SKIPPED | SKIPPED | +------------------------------+----------------+--------------+------------------------------+---------------------------+ | Fedora Linux 41 | PASS | SKIPPED | SKIPPED | SKIPPED | +------------------------------+----------------+--------------+------------------------------+---------------------------+ | Fedora Linux 42 | PASS | SKIPPED | SKIPPED | SKIPPED | +------------------------------+----------------+--------------+------------------------------+---------------------------+ | Red Hat Enterprise Linux 9.5 | PASS | SKIPPED | SKIPPED | SKIPPED | +------------------------------+----------------+--------------+------------------------------+---------------------------+ | Ubuntu 20.04 | PASS | PASS | SKIPPED | SKIPPED | +------------------------------+----------------+--------------+------------------------------+---------------------------+ | Ubuntu 24.04 | PASS | SKIPPED | SKIPPED | SKIPPED | +------------------------------+----------------+--------------+------------------------------+---------------------------+ | Ubuntu 22.04 | PASS | SKIPPED | SKIPPED | SKIPPED | +------------------------------+----------------+--------------+------------------------------+---------------------------+ | Debian 12 (arm) | SKIPPED | SKIPPED | PASS | PASS | +------------------------------+----------------+--------------+------------------------------+---------------------------+ CentOS Stream 9 Kernel: 5.4 Compiler: gcc gcc (GCC) 11.5.0 20240719 (Red Hat 11.5.0-11) CentOS Stream 10 Kernel: 5.4 Compiler: gcc gcc (GCC) 14.2.1 20250110 (Red Hat 14.2.1-8) Debian GNU/Linux 12 Kernel: 5.4 Compiler: gcc gcc (Debian 12.2.0-14+deb12u1) 12.2.0 Fedora Linux 40 Kernel: 5.4 Compiler: gcc gcc (GCC) 14.2.1 20240912 (Red Hat 14.2.1-3) Fedora Linux 41 Kernel: 5.4 Compiler: gcc gcc (GCC) 14.3.1 20250523 (Red Hat 14.3.1-1) Fedora Linux 42 Kernel: 5.4 Compiler: gcc gcc (GCC) 15.2.1 20250808 (Red Hat 15.2.1-1) Red Hat Enterprise Linux 9.5 Kernel: 5.4 Compiler: gcc gcc (GCC) 11.5.0 20240719 (Red Hat 11.5.0-2) Ubuntu 20.04 Kernel: 5.4 Compiler: gcc gcc (Ubuntu 9.4.0-1ubuntu1~20.04.2) 9.4.0 Ubuntu 24.04 Kernel: 5.4 Compiler: gcc gcc (Ubuntu 13.3.0-6ubuntu2~24.04) 13.3.0 Ubuntu 22.04 Kernel: 5.4 Compiler: gcc gcc (Ubuntu 11.4.0-1ubuntu1~22.04) 11.4.0 Debian 12 (arm) Kernel: Depends on container host Compiler: gcc (Debian 12.2.0-14) 12.2.0 To view detailed results, visit: https://lab.dpdk.org/results/dashboard/tarballs/34996/ UNH-IOL DPDK Community Lab To manage your email subscriptions, visit: https://lab.dpdk.org/results/dashboard/preferences/subscriptions/