From mboxrd@z Thu Jan 1 00:00:00 1970 Return-Path: Received: from mails.dpdk.org (mails.dpdk.org [217.70.189.124]) by inbox.dpdk.org (Postfix) with ESMTP id 2A84D46F75 for ; Thu, 25 Sep 2025 19:45:37 +0200 (CEST) Received: from mails.dpdk.org (localhost [127.0.0.1]) by mails.dpdk.org (Postfix) with ESMTP id 1548B402C1; Thu, 25 Sep 2025 19:45:37 +0200 (CEST) Received: from mail-yw1-f226.google.com (mail-yw1-f226.google.com [209.85.128.226]) by mails.dpdk.org (Postfix) with ESMTP id ADBBC402C1 for ; Thu, 25 Sep 2025 19:45:35 +0200 (CEST) Received: by mail-yw1-f226.google.com with SMTP id 00721157ae682-71d6083cc69so17037097b3.2 for ; Thu, 25 Sep 2025 10:45:35 -0700 (PDT) DKIM-Signature: v=1; a=rsa-sha256; c=relaxed/relaxed; d=iol.unh.edu; s=unh-iol; t=1758822335; x=1759427135; darn=dpdk.org; h=references:in-reply-to:cc:to:from:subject:message-id:date:from:to :cc:subject:date:message-id:reply-to; bh=iW+lQD4/tu6vguTNmG9DcYe+JaLTBqHajJVXzXjll0c=; b=cEZu3/4cCDp65SkfNz0yN9FSjgKQKS2SXtqAiLLamqf/VTufFM+l9Ni8wVt1R9Bayh vjHElHUX/+2LdIOrCkJGVUgGT7jcxP+8pp2skOmh7+xPbzhA9z7/pegjfG3tMknUDWTU JS1R1t1Kt0vwYCKa+7qp3puefaRLihIgN04bA= X-Google-DKIM-Signature: v=1; a=rsa-sha256; c=relaxed/relaxed; d=1e100.net; s=20230601; t=1758822335; x=1759427135; h=references:in-reply-to:cc:to:from:subject:message-id:date :x-gm-message-state:from:to:cc:subject:date:message-id:reply-to; bh=iW+lQD4/tu6vguTNmG9DcYe+JaLTBqHajJVXzXjll0c=; b=LLv7o8ELSc7jkRHbsHMvCbyER+hhTCro02IFTggo6WxrgfD2jbF20z/cQo4PmWiW4J mq8CGIkTcGFGhT6f1JDsVeST+DFV/MiN7sl8b++KviO2LzlVhyOrsohnNHA+PcmyfaEv H41rl6riUijNM7HkRWAWXR/ojgljF/2OnxGzxKqgvtwOMXbEtkmlzJj3VILOU9SVQwi6 JrQpbEeZeH1xZE9DSngfg+wJUq0OxY/jR6i+htur6FJtAvEm8BsDqLAFSnV6zvUp4+R3 bYpJkaBRh5A7Ch97LfVNRicyLOg0G+wQcquLs1dFKpYd/oORUEco0fi+uTUyKhBFHgaV xR7g== X-Gm-Message-State: AOJu0YxGMeaLM959FBQGzqcIoLTR/hH/r85jpSpfJgp3rUjar8l8pmrT z+I5Z8nPAMZNwCTN9htxrgT+SDQULAz1CVJg7SQ3ZNyRubX3DIUEfW2hjeueVFUjOAh+/bmtTku y4sarz3spFC9reqyvc3fcNM4HtGEXnvnjYhMNRw3c1Q9I X-Gm-Gg: ASbGncuayep4kjq3mr/CRPJmjpk38BHQNd91A2dPQjDxK9tT/vgj58DoyzzSo+teu9o VhlqXCyQFpgsTCsz95BLeJg/tE36No3Pt27dWVHCDwAA0pn1E4VvSqB4pngfeTMoTarCXB09bNN YfflzfHUvC+K86bFRvhZ4mEsloOKPAWp+sSkQBS7tn0wxv6igTMIvkdU4PHu6zOnp5nXuvbt6ea JE4NU4jrdjC3sp3JG9f5kKEXvULdonQnzEpeyPFyyXtE51pMddM6nr2UAgulkO9XlE6wXpRRriF +UHFCbViKnxPHh0DMMHqd6ofdFlFAG4K5KNLIJYbPfIyzvnve0jo49yA/jazWF10EJ6Q1XCV X-Google-Smtp-Source: AGHT+IG2aRxM2WIwMDktqu8SVYix6lz9X4QdHUOsZJwltRDnppyfGNOCdPcHTNcNlCkCy9vUsj7OpR0B69uS X-Received: by 2002:a05:690c:4c0a:b0:744:66e0:e178 with SMTP id 00721157ae682-763fddbf53amr33850667b3.18.1758822335053; Thu, 25 Sep 2025 10:45:35 -0700 (PDT) Received: from postal.iol.unh.edu (postal.iol.unh.edu. [132.177.123.84]) by smtp-relay.gmail.com with ESMTPS id 00721157ae682-765cd8f5152sm1108107b3.1.2025.09.25.10.45.34 (version=TLS1_2 cipher=ECDHE-ECDSA-AES128-GCM-SHA256 bits=128/128); Thu, 25 Sep 2025 10:45:35 -0700 (PDT) X-Relaying-Domain: iol.unh.edu Date: Thu, 25 Sep 2025 10:45:35 -0700 (PDT) Message-ID: <68d57fbf.810a0220.3004e.6e75SMTPIN_ADDED_MISSING@mx.google.com> Received: from [172.21.0.2] (unknown [172.18.0.240]) by postal.iol.unh.edu (Postfix) with ESMTP id B4BCA604D420; Thu, 25 Sep 2025 13:45:34 -0400 (EDT) Subject: |SUCCESS| pw156946-156952 [PATCH] [v4,7/7] power: separate public an From: dpdklab@iol.unh.edu To: Test Report Cc: dpdk-test-reports@iol.unh.edu In-Reply-To: <20250925123150.3063298-8-david.marchand@redhat.com> References: <20250925123150.3063298-8-david.marchand@redhat.com> Content-Type: text/plain X-BeenThere: test-report@dpdk.org X-Mailman-Version: 2.1.29 Precedence: list List-Id: automatic DPDK test reports List-Unsubscribe: , List-Archive: List-Post: List-Help: List-Subscribe: , Errors-To: test-report-bounces@dpdk.org Test-Label: iol-compile-arm64-testing Test-Status: SUCCESS http://dpdk.org/patch/156952 _Testing PASS_ Submitter: David Marchand Date: Thursday, September 25 2025 12:31:49 DPDK git baseline: Repo:dpdk Branch: master CommitID:441861b4a30e6b6b6aca07367dd487657b1f50e8 156946-156952 --> testing pass Upstream job id: Generic-DPDK-Compile-Meson#428609 Test environment and result as below: +------------------------------+--------------------+ | Environment | dpdk_meson_compile | +==============================+====================+ | Ubuntu 20.04 | PASS | +------------------------------+--------------------+ | Fedora Linux 42 | PASS | +------------------------------+--------------------+ | Debian GNU/Linux 12 | PASS | +------------------------------+--------------------+ | Red Hat Enterprise Linux 9.5 | PASS | +------------------------------+--------------------+ | Ubuntu 22.04 | PASS | +------------------------------+--------------------+ | Ubuntu 24.04 | PASS | +------------------------------+--------------------+ | CentOS Stream 9 | PASS | +------------------------------+--------------------+ | CentOS Stream 10 | PASS | +------------------------------+--------------------+ Ubuntu 20.04 Kernel: 5.15 Compiler: aarch64-linux-gnu-gcc gcc (Ubuntu 9.4.0-1ubuntu1~20.04.2) 9.4.0 Fedora Linux 42 Kernel: 5.4 Compiler: gcc gcc (GCC) 15.2.1 20250808 (Red Hat 15.2.1-1) Debian GNU/Linux 12 Kernel: 5.4 Compiler: gcc gcc (Debian 12.2.0-14+deb12u1) 12.2.0 Red Hat Enterprise Linux 9.5 Kernel: 5.4 Compiler: gcc gcc (GCC) 11.5.0 20240719 (Red Hat 11.5.0-2) Ubuntu 22.04 Kernel: 5.4 Compiler: gcc gcc (Ubuntu 11.4.0-1ubuntu1~22.04) 11.4.0 Ubuntu 24.04 Kernel: 5.4 Compiler: gcc gcc (Ubuntu 13.3.0-6ubuntu2~24.04) 13.3.0 CentOS Stream 9 Kernel: 5.4 Compiler: gcc gcc (GCC) 11.5.0 20240719 (Red Hat 11.5.0-11) CentOS Stream 10 Kernel: 5.4 Compiler: gcc gcc (GCC) 14.2.1 20250110 (Red Hat 14.2.1-8) To view detailed results, visit: https://lab.dpdk.org/results/dashboard/patchsets/34149/ UNH-IOL DPDK Community Lab To manage your email subscriptions, visit: https://lab.dpdk.org/results/dashboard/preferences/subscriptions/