From mboxrd@z Thu Jan 1 00:00:00 1970 Return-Path: Received: from mails.dpdk.org (mails.dpdk.org [217.70.189.124]) by inbox.dpdk.org (Postfix) with ESMTP id CDAAD46F76 for ; Thu, 25 Sep 2025 20:03:19 +0200 (CEST) Received: from mails.dpdk.org (localhost [127.0.0.1]) by mails.dpdk.org (Postfix) with ESMTP id BA7474065E; Thu, 25 Sep 2025 20:03:19 +0200 (CEST) Received: from mail-yw1-f227.google.com (mail-yw1-f227.google.com [209.85.128.227]) by mails.dpdk.org (Postfix) with ESMTP id CB7004065E for ; Thu, 25 Sep 2025 20:03:18 +0200 (CEST) Received: by mail-yw1-f227.google.com with SMTP id 00721157ae682-72ce9790acdso17085417b3.0 for ; Thu, 25 Sep 2025 11:03:18 -0700 (PDT) DKIM-Signature: v=1; a=rsa-sha256; c=relaxed/relaxed; d=iol.unh.edu; s=unh-iol; t=1758823398; x=1759428198; darn=dpdk.org; h=cc:to:from:subject:message-id:date:from:to:cc:subject:date :message-id:reply-to; bh=dMBR/cPWqHEzG7UX1aLt/Om+b6/TS26c4mW7CeSjTvM=; b=ckiAmg6KRQXCi7cwb9X2w7PGKeQ1RwDxxUI75WI9qmvumms82VulKXP04adghFPtoC 81rqW8BIR5PG/YzABw/psaKqhO6Cdk9gyn71YSJ/j8cvpltBjN6yZTzXx9DJ7Na1g41c yzUZp6wT64FWUlAwawLzqfvISUru1BPWoTYEE= X-Google-DKIM-Signature: v=1; a=rsa-sha256; c=relaxed/relaxed; d=1e100.net; s=20230601; t=1758823398; x=1759428198; h=cc:to:from:subject:message-id:date:x-gm-message-state:from:to:cc :subject:date:message-id:reply-to; bh=dMBR/cPWqHEzG7UX1aLt/Om+b6/TS26c4mW7CeSjTvM=; b=jVZgvTulszKzJ5tZTtFPKAJoc1mjBeffXI5iLWpDmmNYyb/x4Z1uVDGp0MMzNi5GiP 8DHTg4UqwwslOnsGHEWiKdIXqwvoids1WfBo3oAOWZ8VNR6wX1OY4LGu610urPdLXlty NqBehNWJpmW9/zhz49xHqu+TrHNYBbpj3j52zljNLmBZRhN/WKL4ZYVrxAjwJOcXotRG 4a5xJ975+huiu+THp5neZ4KzepuTmnIYZYkTpOsjuWFR44dGK11WLqVVsQUhTSATo9U5 FcDUPiksbAc+AqlJqVnCO0sy0ftjEDNyiTo6t4bVl5kkgqKfmhG2/cUZBRHk4Ut6BJx9 HMcQ== X-Gm-Message-State: AOJu0Yz6jMxDMfb+XORwFJNfW/EMmcSRQzni9xHVMzCJQcTfafb6PyJD Kmf8qEd+/4O98g9Fq/0/KvicaVzptkAYvhRE0dOPfaR2wdVW18osdyi+LGIEIeqrTSmTLThYEFR 8ZDAzjMaHT/qC7j2qNH3MVoXUyb2RXwAtjq+rH/yxquVeypUQCoat X-Gm-Gg: ASbGncsZuESkQPd60qodjf/8mxXJi4oBYInNAWO/4156Hc54pRUSH6juSHJIhLq1Jiy bPI4pwekNWlsf95n/B/TryNpAnBeMpHMvM8DZnWiFOnPEd7WneUpLVnjzHsmYILzoHhyqBgvav3 +XkahivYhDvZV7XSXju0GzCM0bQuBpM6zFTca4cR3tq9NPTBHrXDobAWH6dsQFfZeJvzDqfonOH 00Gn5McT0s7yekyu3TFNRxM7S44gg6dni64WkHAu0Mn4a3nd7VZe6FRW1Jc6BVhDT/JbfA6kYxN wKoEM5aFgmLiWXkK+KOtM1cWsvJl0oZ5je9qipbCx2IqtDg3oQ== X-Google-Smtp-Source: AGHT+IFs2j0clMcuNIu4pKvyoC51OARoGlJ1ExFopMu92bDIbX4+WlmyG7bn0Xkg3+ah8ZyB4yUh1pSv4Tsd X-Received: by 2002:a05:690e:424f:b0:635:4ecf:bdca with SMTP id 956f58d0204a3-6361a892f25mr2632428d50.44.1758823397930; Thu, 25 Sep 2025 11:03:17 -0700 (PDT) Received: from postal.iol.unh.edu (postal.iol.unh.edu. [2606:4100:3880:1234::84]) by smtp-relay.gmail.com with ESMTPS id 3f1490d57ef6-eb38672286dsm116081276.7.2025.09.25.11.03.17 (version=TLS1_2 cipher=ECDHE-ECDSA-AES128-GCM-SHA256 bits=128/128); Thu, 25 Sep 2025 11:03:17 -0700 (PDT) X-Relaying-Domain: iol.unh.edu Date: Thu, 25 Sep 2025 11:03:17 -0700 (PDT) Message-ID: <68d583e5.050a0220.3220ef.7677SMTPIN_ADDED_MISSING@mx.google.com> Received: from [172.21.0.2] (unknown [172.18.0.240]) by postal.iol.unh.edu (Postfix) with ESMTP id 650F86050A61; Thu, 25 Sep 2025 14:03:17 -0400 (EDT) Subject: |SUCCESS| [GIT MASTER] b287e404643aeab5bb5db084c142789df187844e From: dpdklab@iol.unh.edu To: Test Report Cc: dpdk-test-reports@iol.unh.edu, Xueming Li , Christian Ehrhardt , Kevin Traynor , Luca Boccassi Content-Type: text/plain X-BeenThere: test-report@dpdk.org X-Mailman-Version: 2.1.29 Precedence: list List-Id: automatic DPDK test reports List-Unsubscribe: , List-Archive: List-Post: List-Help: List-Subscribe: , Errors-To: test-report-bounces@dpdk.org _Testing PASS_ Branch: tags/v24.11 b287e404643aeab5bb5db084c142789df187844e --> testing pass Upstream job id: Generic-Unit-Test-DPDK#374800 Test environment and result as below: +------------------------------+----------------+--------------+---------------------------+------------------------------+ | Environment | dpdk_unit_test | lpm_autotest | cryptodev_sw_zuc_autotest | cryptodev_sw_snow3g_autotest | +==============================+================+==============+===========================+==============================+ | CentOS Stream 10 | PASS | SKIPPED | SKIPPED | SKIPPED | +------------------------------+----------------+--------------+---------------------------+------------------------------+ | CentOS Stream 9 | PASS | SKIPPED | SKIPPED | SKIPPED | +------------------------------+----------------+--------------+---------------------------+------------------------------+ | Debian GNU/Linux 12 | PASS | SKIPPED | SKIPPED | SKIPPED | +------------------------------+----------------+--------------+---------------------------+------------------------------+ | Fedora Linux 40 | PASS | SKIPPED | SKIPPED | SKIPPED | +------------------------------+----------------+--------------+---------------------------+------------------------------+ | Fedora Linux 41 | PASS | SKIPPED | SKIPPED | SKIPPED | +------------------------------+----------------+--------------+---------------------------+------------------------------+ | Fedora Linux 42 | PASS | SKIPPED | SKIPPED | SKIPPED | +------------------------------+----------------+--------------+---------------------------+------------------------------+ | Ubuntu 20.04 | PASS | PASS | SKIPPED | SKIPPED | +------------------------------+----------------+--------------+---------------------------+------------------------------+ | Ubuntu 24.04 | PASS | SKIPPED | SKIPPED | SKIPPED | +------------------------------+----------------+--------------+---------------------------+------------------------------+ | Red Hat Enterprise Linux 9.5 | PASS | SKIPPED | SKIPPED | SKIPPED | +------------------------------+----------------+--------------+---------------------------+------------------------------+ | Ubuntu 22.04 | PASS | SKIPPED | SKIPPED | SKIPPED | +------------------------------+----------------+--------------+---------------------------+------------------------------+ | Debian 12 (arm) | SKIPPED | SKIPPED | PASS | PASS | +------------------------------+----------------+--------------+---------------------------+------------------------------+ CentOS Stream 10 Kernel: 5.4 Compiler: gcc gcc (GCC) 14.2.1 20250110 (Red Hat 14.2.1-8) CentOS Stream 9 Kernel: 5.4 Compiler: gcc gcc (GCC) 11.5.0 20240719 (Red Hat 11.5.0-11) Debian GNU/Linux 12 Kernel: 5.4 Compiler: gcc gcc (Debian 12.2.0-14+deb12u1) 12.2.0 Fedora Linux 40 Kernel: 5.4 Compiler: gcc gcc (GCC) 14.2.1 20240912 (Red Hat 14.2.1-3) Fedora Linux 41 Kernel: 5.4 Compiler: gcc gcc (GCC) 14.3.1 20250523 (Red Hat 14.3.1-1) Fedora Linux 42 Kernel: 5.4 Compiler: clang gcc (GCC) 15.2.1 20250808 (Red Hat 15.2.1-1) Ubuntu 20.04 Kernel: 5.4 Compiler: gcc gcc (Ubuntu 9.4.0-1ubuntu1~20.04.2) 9.4.0 Ubuntu 24.04 Kernel: 5.4 Compiler: gcc gcc (Ubuntu 13.3.0-6ubuntu2~24.04) 13.3.0 Red Hat Enterprise Linux 9.5 Kernel: 5.4 Compiler: gcc gcc (GCC) 11.5.0 20240719 (Red Hat 11.5.0-2) Ubuntu 22.04 Kernel: 5.4 Compiler: gcc gcc (Ubuntu 11.4.0-1ubuntu1~22.04) 11.4.0 Debian 12 (arm) Kernel: Depends on container host Compiler: gcc (Debian 12.2.0-14) 12.2.0 To view detailed results, visit: https://lab.dpdk.org/results/dashboard/tarballs/34995/ UNH-IOL DPDK Community Lab To manage your email subscriptions, visit: https://lab.dpdk.org/results/dashboard/preferences/subscriptions/