From mboxrd@z Thu Jan 1 00:00:00 1970 Return-Path: Received: from mails.dpdk.org (mails.dpdk.org [217.70.189.124]) by inbox.dpdk.org (Postfix) with ESMTP id EC3A546F76 for ; Thu, 25 Sep 2025 20:04:29 +0200 (CEST) Received: from mails.dpdk.org (localhost [127.0.0.1]) by mails.dpdk.org (Postfix) with ESMTP id E649E40663; Thu, 25 Sep 2025 20:04:29 +0200 (CEST) Received: from mail-il1-f225.google.com (mail-il1-f225.google.com [209.85.166.225]) by mails.dpdk.org (Postfix) with ESMTP id 58F8A40663 for ; Thu, 25 Sep 2025 20:04:29 +0200 (CEST) Received: by mail-il1-f225.google.com with SMTP id e9e14a558f8ab-4248062c973so9753055ab.3 for ; Thu, 25 Sep 2025 11:04:29 -0700 (PDT) DKIM-Signature: v=1; a=rsa-sha256; c=relaxed/relaxed; d=iol.unh.edu; s=unh-iol; t=1758823468; x=1759428268; darn=dpdk.org; h=cc:to:from:subject:message-id:date:from:to:cc:subject:date :message-id:reply-to; bh=raaYf1CIXm+N5DrASp2IFnz1gPVxY50mgoKeGrej8h8=; b=R8UXtguOfChOE1zlAcrGOMKSyWqNEK5Arh51F5guQF28oKJNINfdeIFdZtOMHPTqAh uJwC7l0IKoJpsxrCYup2diBWJt0F349AXyDve8FOBgNqivo/9fOTKYw5nz+tPsE8uJ3L ytc3q3rQf0/btBJuKDb6ZrK3T/tJis8PZkw4w= X-Google-DKIM-Signature: v=1; a=rsa-sha256; c=relaxed/relaxed; d=1e100.net; s=20230601; t=1758823468; x=1759428268; h=cc:to:from:subject:message-id:date:x-gm-message-state:from:to:cc :subject:date:message-id:reply-to; bh=raaYf1CIXm+N5DrASp2IFnz1gPVxY50mgoKeGrej8h8=; b=Ckqpt0JlJwmZJBvqH79/SaXCGp+qfM86x+9iIRp0h5EvYp80YE9WbXmbddZktd97Gx lRqB4mWq/JY/DuwQhnb9zIdnnSrvJWgCYQlEV6Ic312QcS845m3h2V6xZeYUv+HWuAvS g8vgiGi//ddFA8hM61zwOuwdWsGZlCpXa2EPndAYFS5+c7QMT0DuJVv5Tud5P+OjwBMC lwSAxDb+8rmP4PDpv2/EGWkLTqNfMZeteSvEBP8DH1ut6TRg9L9YZzHJ7khmYPutA+IN 4e/aO5L+JJzqFwN9GmSX2jae3+4srz8hUWHFVFuEozJumcxWRKRc148v7sA5gliHtuzk Lkcw== X-Gm-Message-State: AOJu0YyEeq9ffPMzygnCoaGFO2jRz8LxMk5ufdaygBN/nnpTVxOppM2+ fOoS8fe7kQWS29FHGImmu93TK0SXZXhb5WkRAh19KwyuC/r9LmWW3YOIWPXa58u0JXKW64Z9MQ/ rKK8UalGou/0DtzGXjJ4sTebmT9f8M3w+lL+5 X-Gm-Gg: ASbGncs3EP4Oj7S6E5fjtD3808RuaMU5xvdk0f5AqJ5GgMgPbyTfMaEzm47zJSGYXv0 NNkXxxKizarJ/z0w1eR08Du/v1pYgGqIhS5o96FxLKvnTAy9TWKESkl1EUpePgaeHTLS8s+HzYX na4jpd8nSVj0A2AirxkB4l+8RIJAZjhxdCtiib6O2Sqr1DwC6YOXkqRL57xXb69jaWYTjT0aeN0 vPn2uf/sMzBm59KgFr5oppme5TPlLaqzBXS9HqgNiXzV4XcOsRXabwqWsIPFOW876/NZcqC9TCO NF/0onnfkwpgr5/YRG8EcloLC1d4YEt4m9usrGs23ETk78uyNITjhIfkoLIDDoSDvzfctNfq X-Google-Smtp-Source: AGHT+IHkKUZ5S86uo7lgnszftcxaCO061B7ZYSe08becx4TmYkHukjGQZZr0/XmfWRoaIXyrwlL2iPiLwOwc X-Received: by 2002:a92:c885:0:b0:40c:c955:b67d with SMTP id e9e14a558f8ab-42595668993mr47616885ab.28.1758823468212; Thu, 25 Sep 2025 11:04:28 -0700 (PDT) Received: from postal.iol.unh.edu (postal.iol.unh.edu. [132.177.123.84]) by smtp-relay.gmail.com with ESMTPS id e9e14a558f8ab-42717780677sm58635ab.32.2025.09.25.11.04.28 (version=TLS1_2 cipher=ECDHE-ECDSA-AES128-GCM-SHA256 bits=128/128); Thu, 25 Sep 2025 11:04:28 -0700 (PDT) X-Relaying-Domain: iol.unh.edu Date: Thu, 25 Sep 2025 11:04:28 -0700 (PDT) Message-ID: <68d5842c.050a0220.d8763.04d7SMTPIN_ADDED_MISSING@mx.google.com> Received: from [172.21.0.2] (unknown [172.18.0.240]) by postal.iol.unh.edu (Postfix) with ESMTP id 9330A6050A61; Thu, 25 Sep 2025 14:04:27 -0400 (EDT) Subject: |SUCCESS| [GIT MASTER] 3b43ce3f4a54468e7ef65760c2fd7b4d6ee6d9fc From: dpdklab@iol.unh.edu To: Test Report Cc: dpdk-test-reports@iol.unh.edu, Xueming Li , Christian Ehrhardt , Kevin Traynor , Luca Boccassi Content-Type: text/plain X-BeenThere: test-report@dpdk.org X-Mailman-Version: 2.1.29 Precedence: list List-Id: automatic DPDK test reports List-Unsubscribe: , List-Archive: List-Post: List-Help: List-Subscribe: , Errors-To: test-report-bounces@dpdk.org _Testing PASS_ Branch: tags/v22.11 3b43ce3f4a54468e7ef65760c2fd7b4d6ee6d9fc --> testing pass Upstream job id: Generic-Unit-Test-DPDK#374824 Test environment and result as below: +-----------------+---------------------------+--------------+------------------------------+----------------+ | Environment | cryptodev_sw_zuc_autotest | lpm_autotest | cryptodev_sw_snow3g_autotest | dpdk_unit_test | +=================+===========================+==============+==============================+================+ | Debian 12 (arm) | PASS | SKIPPED | PASS | SKIPPED | +-----------------+---------------------------+--------------+------------------------------+----------------+ | Ubuntu 20.04 | SKIPPED | PASS | SKIPPED | SKIPPED | +-----------------+---------------------------+--------------+------------------------------+----------------+ | Ubuntu 22.04 | SKIPPED | SKIPPED | SKIPPED | PASS | +-----------------+---------------------------+--------------+------------------------------+----------------+ Debian 12 (arm) Kernel: Depends on container host Compiler: gcc (Debian 12.2.0-14) 12.2.0 Ubuntu 20.04 Kernel: 5.4 Compiler: gcc gcc (Ubuntu 9.4.0-1ubuntu1~20.04.2) 9.4.0 Ubuntu 22.04 Kernel: 5.15 Compiler: gcc gcc (Ubuntu 11.4.0-1ubuntu1~22.04.2) 11.4.0 To view detailed results, visit: https://lab.dpdk.org/results/dashboard/tarballs/34994/ UNH-IOL DPDK Community Lab To manage your email subscriptions, visit: https://lab.dpdk.org/results/dashboard/preferences/subscriptions/