From mboxrd@z Thu Jan 1 00:00:00 1970 Return-Path: Received: from mails.dpdk.org (mails.dpdk.org [217.70.189.124]) by inbox.dpdk.org (Postfix) with ESMTP id 9DF0846F76 for ; Thu, 25 Sep 2025 20:43:50 +0200 (CEST) Received: from mails.dpdk.org (localhost [127.0.0.1]) by mails.dpdk.org (Postfix) with ESMTP id 6D80B4065E; Thu, 25 Sep 2025 20:43:50 +0200 (CEST) Received: from mail-yw1-f227.google.com (mail-yw1-f227.google.com [209.85.128.227]) by mails.dpdk.org (Postfix) with ESMTP id EA0F54065E for ; Thu, 25 Sep 2025 20:43:48 +0200 (CEST) Received: by mail-yw1-f227.google.com with SMTP id 00721157ae682-71d60528734so12499117b3.2 for ; Thu, 25 Sep 2025 11:43:48 -0700 (PDT) DKIM-Signature: v=1; a=rsa-sha256; c=relaxed/relaxed; d=iol.unh.edu; s=unh-iol; t=1758825828; x=1759430628; darn=dpdk.org; h=references:in-reply-to:cc:to:from:subject:message-id:date:from:to :cc:subject:date:message-id:reply-to; bh=axJVkoqgPWpBnAfnS31jgUbs9WzYWnHUpmLBfmYT3+E=; b=hSlD/YAVzby8xJx84Hl4beJH4RpSgwtIqet6RNYN6ugDYiDD9d9XgQ8TtSPhF4QQb8 PFRROQlbo866q62U0lVVbQ+Co9Mn5GqJv7FD9S4kttjnMoDCCWtgajLbDBmx1ujmqQwc k1bqjDVnef54/w5zupAIopthusy79GfL3gvc4= X-Google-DKIM-Signature: v=1; a=rsa-sha256; c=relaxed/relaxed; d=1e100.net; s=20230601; t=1758825828; x=1759430628; h=references:in-reply-to:cc:to:from:subject:message-id:date :x-gm-message-state:from:to:cc:subject:date:message-id:reply-to; bh=axJVkoqgPWpBnAfnS31jgUbs9WzYWnHUpmLBfmYT3+E=; b=i6+H50gluA/LoJv8DN4NyeGuBKZlv2aO4GDJu4fU9e4VQkx5XSwPkMNfGWDQ2ulWfO T679mKaEC24glO9yiNifRu3jk7QDxQrcj9l9jM02P/xyVbt73jx2E6cHtVOAA/ahFAqD LaXOA48Fy/h5NPFA2VKZldMKvBsIU+1QCdrkl4tUztvNM4K9cWqDl5LSlzsgyS53UuPG FR+lfnrgO1ksthPyymy11MQhq3zuHrbZ2yuDfn25d5hMTFf/wq/VvUS+F8Yt8wVgEl8y MQuhryi7NybCVyFT84rn38MlEvQ05VF4qMtEDaU4rGuUlRWtLTdBXBXbh3gWHYoiWOdF mN2w== X-Gm-Message-State: AOJu0YzrcopsjK5NUX2Na2Eg3X9ZxyRwwzcxkejCmlpJje95G0xKtBA/ p0qFE2Ckiyzjod8/NNteS0YNSuc1CcJHL+sZTZnGoz6ioOcL6nHrcU06uczUwYlLoxfFImlgA3F dgJVbft3KYhOA8jx6VHKvYltKzLSgGnSL6d8jhOU9LcBwD57tLEDRhNo/5GKv X-Gm-Gg: ASbGnctrbVxF2fUQ+sID7aLyf+kbaYJ1IbKSHEA9f8hnRUpI1JuaKF2hqRRu5TfNrgv zUQDXLVHDU8aEHOUbA/6OurvxTNuSSLuKYS6JdzhU2lHg0POyWHSfAI2iohIRRWcraCdG1zGJGj kU2G9+QS+qo1QeRZeRhhl4MajlUF5FbqT+ehRkzuBME5ekG3tG/0102C4w5YbLxEsGK+sXMGXdX NWgsD2TYIcZWhWzTmc+QWS8pgb+fBw1bX9K1i6Tb6I2yEwefxZyTs8NcRxz9871vEpghZpJgiZU GURZbUE9Z70GYIxWw1XEoW1nNKVaOncNnIL9gv8K68VxkM5+VA== X-Google-Smtp-Source: AGHT+IEkLnwUkpGeuGJqN1ThPipTGUjybCrg2Ilsbgb+x1JwfqgHq3Bd6kDWm40F0s/rQdSJuIkqkrNtfa0s X-Received: by 2002:a05:690c:88a:b0:731:1bc7:7836 with SMTP id 00721157ae682-76403423a7cmr49385367b3.41.1758825828129; Thu, 25 Sep 2025 11:43:48 -0700 (PDT) Received: from postal.iol.unh.edu (postal.iol.unh.edu. [2606:4100:3880:1234::84]) by smtp-relay.gmail.com with ESMTPS id 956f58d0204a3-6361e7b47dfsm102367d50.1.2025.09.25.11.43.48 (version=TLS1_2 cipher=ECDHE-ECDSA-AES128-GCM-SHA256 bits=128/128); Thu, 25 Sep 2025 11:43:48 -0700 (PDT) X-Relaying-Domain: iol.unh.edu Date: Thu, 25 Sep 2025 11:43:48 -0700 (PDT) Message-ID: <68d58d64.050a0220.3da2e1.6678SMTPIN_ADDED_MISSING@mx.google.com> Received: from [172.21.0.2] (unknown [172.18.0.240]) by postal.iol.unh.edu (Postfix) with ESMTP id C46B2604D420; Thu, 25 Sep 2025 14:43:47 -0400 (EDT) Subject: |SUCCESS| pw156953 [PATCH] buildtools: prepare symbol check for Wind From: dpdklab@iol.unh.edu To: Test Report Cc: dpdk-test-reports@iol.unh.edu In-Reply-To: <20250925130438.3072610-1-david.marchand@redhat.com> References: <20250925130438.3072610-1-david.marchand@redhat.com> Content-Type: text/plain X-BeenThere: test-report@dpdk.org X-Mailman-Version: 2.1.29 Precedence: list List-Id: automatic DPDK test reports List-Unsubscribe: , List-Archive: List-Post: List-Help: List-Subscribe: , Errors-To: test-report-bounces@dpdk.org Test-Label: iol-compile-arm64-testing Test-Status: SUCCESS http://dpdk.org/patch/156953 _Testing PASS_ Submitter: David Marchand Date: Thursday, September 25 2025 13:04:38 DPDK git baseline: Repo:dpdk Branch: master CommitID:441861b4a30e6b6b6aca07367dd487657b1f50e8 156953 --> testing pass Upstream job id: Generic-DPDK-Compile-Meson#428630 Test environment and result as below: +------------------------------+--------------------+ | Environment | dpdk_meson_compile | +==============================+====================+ | Red Hat Enterprise Linux 9.5 | PASS | +------------------------------+--------------------+ | Ubuntu 20.04 | PASS | +------------------------------+--------------------+ | Debian GNU/Linux 12 | PASS | +------------------------------+--------------------+ | Fedora Linux 42 | PASS | +------------------------------+--------------------+ | Ubuntu 22.04 | PASS | +------------------------------+--------------------+ | Ubuntu 24.04 | PASS | +------------------------------+--------------------+ | CentOS Stream 9 | PASS | +------------------------------+--------------------+ | CentOS Stream 10 | PASS | +------------------------------+--------------------+ Red Hat Enterprise Linux 9.5 Kernel: 5.4 Compiler: gcc gcc (GCC) 11.5.0 20240719 (Red Hat 11.5.0-2) Ubuntu 20.04 Kernel: 5.15 Compiler: aarch64-linux-gnu-gcc gcc (Ubuntu 9.4.0-1ubuntu1~20.04.2) 9.4.0 Debian GNU/Linux 12 Kernel: 5.4 Compiler: gcc gcc (Debian 12.2.0-14+deb12u1) 12.2.0 Fedora Linux 42 Kernel: 5.4 Compiler: gcc gcc (GCC) 15.2.1 20250808 (Red Hat 15.2.1-1) Ubuntu 22.04 Kernel: 5.4 Compiler: gcc gcc (Ubuntu 11.4.0-1ubuntu1~22.04) 11.4.0 Ubuntu 24.04 Kernel: 5.4 Compiler: gcc gcc (Ubuntu 13.3.0-6ubuntu2~24.04) 13.3.0 CentOS Stream 9 Kernel: 5.4 Compiler: gcc gcc (GCC) 11.5.0 20240719 (Red Hat 11.5.0-11) CentOS Stream 10 Kernel: 5.4 Compiler: gcc gcc (GCC) 14.2.1 20250110 (Red Hat 14.2.1-8) To view detailed results, visit: https://lab.dpdk.org/results/dashboard/patchsets/34150/ UNH-IOL DPDK Community Lab To manage your email subscriptions, visit: https://lab.dpdk.org/results/dashboard/preferences/subscriptions/