From mboxrd@z Thu Jan 1 00:00:00 1970 Return-Path: Received: from mails.dpdk.org (mails.dpdk.org [217.70.189.124]) by inbox.dpdk.org (Postfix) with ESMTP id 8197346F76 for ; Thu, 25 Sep 2025 21:53:23 +0200 (CEST) Received: from mails.dpdk.org (localhost [127.0.0.1]) by mails.dpdk.org (Postfix) with ESMTP id 5A57F402E9; Thu, 25 Sep 2025 21:53:23 +0200 (CEST) Received: from mail-pl1-f225.google.com (mail-pl1-f225.google.com [209.85.214.225]) by mails.dpdk.org (Postfix) with ESMTP id 8DA89402E9 for ; Thu, 25 Sep 2025 21:53:21 +0200 (CEST) Received: by mail-pl1-f225.google.com with SMTP id d9443c01a7336-2570bf6058aso19817735ad.0 for ; Thu, 25 Sep 2025 12:53:21 -0700 (PDT) DKIM-Signature: v=1; a=rsa-sha256; c=relaxed/relaxed; d=iol.unh.edu; s=unh-iol; t=1758830000; x=1759434800; darn=dpdk.org; h=cc:to:from:subject:message-id:date:from:to:cc:subject:date :message-id:reply-to; bh=TQbhpz4Rkdal7KpzH5MHqDV+IRAFoMU5omelAuOD1pw=; b=TJhq8XGpdCG9d3AUHryCDzt/OC0SVsF+FIMjxY7uveemkQeLsQEs2HsAFpy0mMNGN/ J6PybQ4XY9ZYz4ZlpTfcOnNrpZM41tN9daE/DMoCLdddwuNYnPSVcL6VtOR+mrOgkLXH 7VFEYHICpI5mnHKnXQ2/NZzmeOLnhPmUMu3A0= X-Google-DKIM-Signature: v=1; a=rsa-sha256; c=relaxed/relaxed; d=1e100.net; s=20230601; t=1758830000; x=1759434800; h=cc:to:from:subject:message-id:date:x-gm-message-state:from:to:cc :subject:date:message-id:reply-to; bh=TQbhpz4Rkdal7KpzH5MHqDV+IRAFoMU5omelAuOD1pw=; b=lzloBXZUrNFlvin6nm7YI/4kReJLIeRn9zLWnAdQfzbUeXGbJykWdcLiWL5CeIGGN1 a1aVmb2CLhHRs/uJ5Xn9F0g9ii2rbJuYPJadZSwcOCWdyWtadgME02npn9eEBW+RG4UX Zu/ItrLQpnQbEHWxiG+OoaPtKD2IxkZMWD4euD+m1In/0R6qKqF7l2tx85Ti6+fApabi TlS2YNXLLu3yfvohdYHPib/xfNxwWD0Jd3bT2Vu/68IQMpO2QYbqI+LOWfXdlNUuseFa yHlkvSVfZVAjc4ZiASmwz+XJjWvQyfEbzcPFJVm2DS+Cw8/3gZuH7h+lGQx2Qksy2O+a n6Pg== X-Gm-Message-State: AOJu0YwxF25kI99+qBmhgHD64xNSNScZ20g+XfwEA8yTkzpvXfQxOBGf 36A49KNjMJ6O9gzTE4xH3f5/pWPPMpJSRdm1MchakmYwqvzhBSqFoFDGMeRSJvi0nMc2NBRebv6 XVtXREDwFftQtYoD2RsqI7HdPiIdLNm88KkvS8Xgksj3q3CRL0RUvJaQ4ckI1 X-Gm-Gg: ASbGncuEEwHqBLOX8tUiMTSxwbt8PwSNBnmwupNrGZjlR3Axmd5ooKalcEFDloI2cbO LUtFvWdzb8IWp+9c0JfNdzfeYeKPSnAAGoz9sqhQH+apladOVyVvmMe1XwELuGf2R3dmDxfXEAA DQlT46b9HI3Q27GRcL8hB0Vti8UhEbotbauJPSPVtDM4bwc9Mdvihtm+vtHipSuLscXwZxd1lXP XUNRnrivI8DN7A6HXIa3VUOlVZCYCIVRUMhB682gq5u06yuvueKYrJxaBUsZapwuzQKaLkdGIZM YHaBx/f1KMkwXnQxj8a1ZtVTugcqZWnFdQ+JQzhUP06IydSmQA== X-Google-Smtp-Source: AGHT+IHpnMetKDtt1JmasljTqX0SA8n35ATppoT3Gaq7syIqXTVfWUJacOdy+Hkf9okGuubCz0bKpqS0ORM9 X-Received: by 2002:a17:903:41cf:b0:25d:5b09:a201 with SMTP id d9443c01a7336-27ed49e79a8mr47638325ad.27.1758830000612; Thu, 25 Sep 2025 12:53:20 -0700 (PDT) Received: from postal.iol.unh.edu (postal.iol.unh.edu. [2606:4100:3880:1234::84]) by smtp-relay.gmail.com with ESMTPS id d9443c01a7336-27ed67e6a40sm2132635ad.44.2025.09.25.12.53.20 (version=TLS1_2 cipher=ECDHE-ECDSA-AES128-GCM-SHA256 bits=128/128); Thu, 25 Sep 2025 12:53:20 -0700 (PDT) X-Relaying-Domain: iol.unh.edu Date: Thu, 25 Sep 2025 12:53:20 -0700 (PDT) Message-ID: <68d59db0.170a0220.3c7d3c.da07SMTPIN_ADDED_MISSING@mx.google.com> Received: from [172.21.0.3] (unknown [172.18.0.240]) by postal.iol.unh.edu (Postfix) with ESMTP id CED266050A61; Thu, 25 Sep 2025 15:53:19 -0400 (EDT) Subject: |SUCCESS| [GIT MASTER] 2786b466bcf44f122e10c45da3a9615ffde5ac8b From: dpdklab@iol.unh.edu To: Test Report Cc: dpdk-test-reports@iol.unh.edu, Stephen Hemminger Content-Type: text/plain X-BeenThere: test-report@dpdk.org X-Mailman-Version: 2.1.29 Precedence: list List-Id: automatic DPDK test reports List-Unsubscribe: , List-Archive: List-Post: List-Help: List-Subscribe: , Errors-To: test-report-bounces@dpdk.org _Testing PASS_ Branch: dpdk-next-net 2786b466bcf44f122e10c45da3a9615ffde5ac8b --> testing pass Upstream job id: Generic-Unit-Test-DPDK#374851 Test environment and result as below: +------------------------------+----------------+---------------------------+--------------+------------------------------+ | Environment | dpdk_unit_test | cryptodev_sw_zuc_autotest | lpm_autotest | cryptodev_sw_snow3g_autotest | +==============================+================+===========================+==============+==============================+ | CentOS Stream 9 | PASS | SKIPPED | SKIPPED | SKIPPED | +------------------------------+----------------+---------------------------+--------------+------------------------------+ | CentOS Stream 10 | PASS | SKIPPED | SKIPPED | SKIPPED | +------------------------------+----------------+---------------------------+--------------+------------------------------+ | Fedora Linux 40 | PASS | SKIPPED | SKIPPED | SKIPPED | +------------------------------+----------------+---------------------------+--------------+------------------------------+ | Debian GNU/Linux 12 | PASS | SKIPPED | SKIPPED | SKIPPED | +------------------------------+----------------+---------------------------+--------------+------------------------------+ | Fedora Linux 41 | PASS | SKIPPED | SKIPPED | SKIPPED | +------------------------------+----------------+---------------------------+--------------+------------------------------+ | Ubuntu 22.04 | PASS | SKIPPED | SKIPPED | SKIPPED | +------------------------------+----------------+---------------------------+--------------+------------------------------+ | Fedora Linux 42 | PASS | SKIPPED | SKIPPED | SKIPPED | +------------------------------+----------------+---------------------------+--------------+------------------------------+ | Ubuntu 20.04 | PASS | SKIPPED | PASS | SKIPPED | +------------------------------+----------------+---------------------------+--------------+------------------------------+ | Red Hat Enterprise Linux 9.5 | PASS | SKIPPED | SKIPPED | SKIPPED | +------------------------------+----------------+---------------------------+--------------+------------------------------+ | Ubuntu 24.04 | PASS | SKIPPED | SKIPPED | SKIPPED | +------------------------------+----------------+---------------------------+--------------+------------------------------+ | Debian 12 (arm) | SKIPPED | PASS | SKIPPED | PASS | +------------------------------+----------------+---------------------------+--------------+------------------------------+ CentOS Stream 9 Kernel: 5.4 Compiler: gcc gcc (GCC) 11.5.0 20240719 (Red Hat 11.5.0-11) CentOS Stream 10 Kernel: 5.4 Compiler: gcc gcc (GCC) 14.2.1 20250110 (Red Hat 14.2.1-8) Fedora Linux 40 Kernel: 5.4 Compiler: gcc gcc (GCC) 14.2.1 20240912 (Red Hat 14.2.1-3) Debian GNU/Linux 12 Kernel: 5.4 Compiler: gcc gcc (Debian 12.2.0-14+deb12u1) 12.2.0 Fedora Linux 41 Kernel: 5.4 Compiler: gcc gcc (GCC) 14.3.1 20250523 (Red Hat 14.3.1-1) Ubuntu 22.04 Kernel: 5.4 Compiler: gcc gcc (Ubuntu 11.4.0-1ubuntu1~22.04) 11.4.0 Fedora Linux 42 Kernel: 5.4 Compiler: gcc gcc (GCC) 15.2.1 20250808 (Red Hat 15.2.1-1) Ubuntu 20.04 Kernel: 5.4 Compiler: gcc gcc (Ubuntu 9.4.0-1ubuntu1~20.04.2) 9.4.0 Red Hat Enterprise Linux 9.5 Kernel: 5.4 Compiler: gcc gcc (GCC) 11.5.0 20240719 (Red Hat 11.5.0-2) Ubuntu 24.04 Kernel: 5.4 Compiler: gcc gcc (Ubuntu 13.3.0-6ubuntu2~24.04) 13.3.0 Debian 12 (arm) Kernel: Depends on container host Compiler: gcc (Debian 12.2.0-14) 12.2.0 To view detailed results, visit: https://lab.dpdk.org/results/dashboard/tarballs/34997/ UNH-IOL DPDK Community Lab To manage your email subscriptions, visit: https://lab.dpdk.org/results/dashboard/preferences/subscriptions/