From mboxrd@z Thu Jan 1 00:00:00 1970 Return-Path: Received: from mails.dpdk.org (mails.dpdk.org [217.70.189.124]) by inbox.dpdk.org (Postfix) with ESMTP id 09A3846F76 for ; Thu, 25 Sep 2025 23:22:23 +0200 (CEST) Received: from mails.dpdk.org (localhost [127.0.0.1]) by mails.dpdk.org (Postfix) with ESMTP id D826D4028F; Thu, 25 Sep 2025 23:22:22 +0200 (CEST) Received: from mail-qt1-f226.google.com (mail-qt1-f226.google.com [209.85.160.226]) by mails.dpdk.org (Postfix) with ESMTP id 4F8D24028F for ; Thu, 25 Sep 2025 23:22:22 +0200 (CEST) Received: by mail-qt1-f226.google.com with SMTP id d75a77b69052e-4c7de9cc647so14891731cf.2 for ; Thu, 25 Sep 2025 14:22:22 -0700 (PDT) DKIM-Signature: v=1; a=rsa-sha256; c=relaxed/relaxed; d=iol.unh.edu; s=unh-iol; t=1758835341; x=1759440141; darn=dpdk.org; h=references:in-reply-to:cc:to:from:subject:message-id:date:from:to :cc:subject:date:message-id:reply-to; bh=Q032GRiCinsI+MzBp1Cltg8Uc92uBWhjDwz2onO77UE=; b=T/7zpY1ZkE2uygD7QbZPzUWhWoaQ6ZkjJpizRcCRG0hK8k+THkW4z5JAqGJBz4+Vl7 moULmOJOcmZJxxjq41UQPfDqufHCLnjmEAHEgeec8suhq8+8PG+Pg2s4s0EYd23Lm+PQ qqOJkFVgKe0B9nDXZ2xykCqC0LkbZRZTXUInE= X-Google-DKIM-Signature: v=1; a=rsa-sha256; c=relaxed/relaxed; d=1e100.net; s=20230601; t=1758835341; x=1759440141; h=references:in-reply-to:cc:to:from:subject:message-id:date :x-gm-message-state:from:to:cc:subject:date:message-id:reply-to; bh=Q032GRiCinsI+MzBp1Cltg8Uc92uBWhjDwz2onO77UE=; b=f6K+BWMCy2PTJyPXdquWFqKxgyNTHje/9Rm6pj8tDMYZq+5EdJzc4R3QQLMRPKC9IE XmrvP25DbIoHOjGz1RPYUG2HgEnotXWkqjtHXcdHe3FSHpjui49OLgt5zYSkmF/2CyIf zKE22Ncham7UVK3MQAalFrPVsgNlE8M278OQXZfUwwtVk2G3fiBQu6uSQeU97U9YXUKx 2+wb5QhpgF9RwFBA0Fw4f4MvN+C/6Mk54wrg13KL2mN2yPZFgLTefqKxGNPkoJGz+Mj/ 8hzxaXEWiiIrgJ1shIdG4ehYtsdDbRonMJY7QEL1KHAgS/tjPh6TOTEAJP0m/58wWw7p eZ2A== X-Gm-Message-State: AOJu0Yz3qlEV6taDItLMRBtE7osmW5SjsvBieX1laFblsE1YEZxRV5S+ 5zq2qyibjyHassQDVd+pevVLQ2Qyfu3CiruQ//tm3AXU3prmP1jLnVpgHpxBrENLtBGNHPd5LVd UrTEt+fqQOQ4/TObPD73IOz+bT3RJ2f9uMFRHZBatsHMrMDrXY8oC47LDA1mE X-Gm-Gg: ASbGnctWusVA/RALWmJ3yOwlXohmQZ2IIGd1aWGK6BpyNiE/W/Adlz/CGthuq3JZBBT Wvdv9/NZdZn+Riej9b3Gbh6aCYhhRNqXeSDlx3f80g8pQSIhmso8KTzNiLuluQv5RdfkdRvKiRz G+NJFq9how/u94To5i8i1rfzaQVlgKlOtlONbJWKszC7AuCAP832HNKpHkmg1vFWpWu3aQrZE/9 gbyma+oC8uDnJNLbfAnknSMpXVqxRTwVV6TgK+29QqXVGmgRBxDSE0tmQ0XNEJtejzxy7utTAv6 u7GRUVw/FUUYCLSzumVdK1Imz6dlWhEae8tc+i+h1RmJnbT7ew== X-Google-Smtp-Source: AGHT+IGY+8z0AG03CDd9ZjV8jIBAY8Ewc9gm6Ysa0r861uIix96DzOFKkjaZ9jdFB283CYuzkBzxR+nP5QMl X-Received: by 2002:a05:6214:21e6:b0:77c:9e3d:672 with SMTP id 6a1803df08f44-7fc29a8ddf5mr72292836d6.5.1758835341561; Thu, 25 Sep 2025 14:22:21 -0700 (PDT) Received: from postal.iol.unh.edu (postal.iol.unh.edu. [2606:4100:3880:1234::84]) by smtp-relay.gmail.com with ESMTPS id 6a1803df08f44-8013949f22dsm1863276d6.12.2025.09.25.14.22.21 (version=TLS1_2 cipher=ECDHE-ECDSA-AES128-GCM-SHA256 bits=128/128); Thu, 25 Sep 2025 14:22:21 -0700 (PDT) X-Relaying-Domain: iol.unh.edu Date: Thu, 25 Sep 2025 14:22:21 -0700 (PDT) Message-ID: <68d5b28d.d40a0220.aa4d4.b5f7SMTPIN_ADDED_MISSING@mx.google.com> Received: from [172.21.0.2] (unknown [172.18.0.240]) by postal.iol.unh.edu (Postfix) with ESMTP id 35E4E604D420; Thu, 25 Sep 2025 17:22:21 -0400 (EDT) Subject: |SUCCESS| pw156926-156941 [PATCH] [v11,17/17] net/nbl: add nbl devic From: dpdklab@iol.unh.edu To: Test Report Cc: dpdk-test-reports@iol.unh.edu, Stephen Hemminger In-Reply-To: <20250925065854.2907820-18-dimon.zhao@nebula-matrix.com> References: <20250925065854.2907820-18-dimon.zhao@nebula-matrix.com> Content-Type: text/plain X-BeenThere: test-report@dpdk.org X-Mailman-Version: 2.1.29 Precedence: list List-Id: automatic DPDK test reports List-Unsubscribe: , List-Archive: List-Post: List-Help: List-Subscribe: , Errors-To: test-report-bounces@dpdk.org Test-Label: iol-unit-arm64-testing Test-Status: SUCCESS http://dpdk.org/patch/156941 _Testing PASS_ Submitter: Dimon Zhao Date: Thursday, September 25 2025 06:58:54 DPDK git baseline: Repo:dpdk-next-net Branch: master CommitID:2786b466bcf44f122e10c45da3a9615ffde5ac8b 156926-156941 --> testing pass Upstream job id: Generic-Unit-Test-DPDK#374881 Test environment and result as below: +------------------------------+----------------+---------------------------+--------------+------------------------------+ | Environment | dpdk_unit_test | cryptodev_sw_zuc_autotest | lpm_autotest | cryptodev_sw_snow3g_autotest | +==============================+================+===========================+==============+==============================+ | CentOS Stream 9 | PASS | SKIPPED | SKIPPED | SKIPPED | +------------------------------+----------------+---------------------------+--------------+------------------------------+ | CentOS Stream 10 | PASS | SKIPPED | SKIPPED | SKIPPED | +------------------------------+----------------+---------------------------+--------------+------------------------------+ | Debian GNU/Linux 12 | PASS | SKIPPED | SKIPPED | SKIPPED | +------------------------------+----------------+---------------------------+--------------+------------------------------+ | Fedora Linux 40 | PASS | SKIPPED | SKIPPED | SKIPPED | +------------------------------+----------------+---------------------------+--------------+------------------------------+ | Ubuntu 22.04 | PASS | SKIPPED | SKIPPED | SKIPPED | +------------------------------+----------------+---------------------------+--------------+------------------------------+ | Fedora Linux 41 | PASS | SKIPPED | SKIPPED | SKIPPED | +------------------------------+----------------+---------------------------+--------------+------------------------------+ | Fedora Linux 42 | PASS | SKIPPED | SKIPPED | SKIPPED | +------------------------------+----------------+---------------------------+--------------+------------------------------+ | Ubuntu 20.04 | PASS | SKIPPED | PASS | SKIPPED | +------------------------------+----------------+---------------------------+--------------+------------------------------+ | Red Hat Enterprise Linux 9.5 | PASS | SKIPPED | SKIPPED | SKIPPED | +------------------------------+----------------+---------------------------+--------------+------------------------------+ | Ubuntu 24.04 | PASS | SKIPPED | SKIPPED | SKIPPED | +------------------------------+----------------+---------------------------+--------------+------------------------------+ | Debian 12 (arm) | SKIPPED | PASS | SKIPPED | PASS | +------------------------------+----------------+---------------------------+--------------+------------------------------+ CentOS Stream 9 Kernel: 5.4 Compiler: gcc gcc (GCC) 11.5.0 20240719 (Red Hat 11.5.0-11) CentOS Stream 10 Kernel: 5.4 Compiler: gcc gcc (GCC) 14.2.1 20250110 (Red Hat 14.2.1-8) Debian GNU/Linux 12 Kernel: 5.4 Compiler: gcc gcc (Debian 12.2.0-14+deb12u1) 12.2.0 Fedora Linux 40 Kernel: 5.4 Compiler: gcc gcc (GCC) 14.2.1 20240912 (Red Hat 14.2.1-3) Ubuntu 22.04 Kernel: 5.15 Compiler: gcc gcc (Ubuntu 11.4.0-1ubuntu1~22.04.2) 11.4.0 Fedora Linux 41 Kernel: 5.4 Compiler: clang gcc (GCC) 14.3.1 20250523 (Red Hat 14.3.1-1) Fedora Linux 42 Kernel: 5.4 Compiler: gcc gcc (GCC) 15.2.1 20250808 (Red Hat 15.2.1-1) Ubuntu 20.04 Kernel: 5.4 Compiler: gcc gcc (Ubuntu 9.4.0-1ubuntu1~20.04.2) 9.4.0 Red Hat Enterprise Linux 9.5 Kernel: 5.4 Compiler: gcc gcc (GCC) 11.5.0 20240719 (Red Hat 11.5.0-2) Ubuntu 24.04 Kernel: 5.4 Compiler: gcc gcc (Ubuntu 13.3.0-6ubuntu2~24.04) 13.3.0 Debian 12 (arm) Kernel: Depends on container host Compiler: gcc (Debian 12.2.0-14) 12.2.0 To view detailed results, visit: https://lab.dpdk.org/results/dashboard/patchsets/34145/ UNH-IOL DPDK Community Lab To manage your email subscriptions, visit: https://lab.dpdk.org/results/dashboard/preferences/subscriptions/